BEGIN:VCALENDAR
VERSION:2.0
PRODID:-//Sheltering Arms Institute - ECPv6.15.19//NONSGML v1.0//EN
CALSCALE:GREGORIAN
METHOD:PUBLISH
X-ORIGINAL-URL:https://shelteringarmsinstitute.com
X-WR-CALDESC:Events for Sheltering Arms Institute
REFRESH-INTERVAL;VALUE=DURATION:PT1H
X-Robots-Tag:noindex
X-PUBLISHED-TTL:PT1H
BEGIN:VTIMEZONE
TZID:America/New_York
BEGIN:DAYLIGHT
TZOFFSETFROM:-0500
TZOFFSETTO:-0400
TZNAME:EDT
DTSTART:20210314T070000
END:DAYLIGHT
BEGIN:STANDARD
TZOFFSETFROM:-0400
TZOFFSETTO:-0500
TZNAME:EST
DTSTART:20211107T060000
END:STANDARD
BEGIN:DAYLIGHT
TZOFFSETFROM:-0500
TZOFFSETTO:-0400
TZNAME:EDT
DTSTART:20220313T070000
END:DAYLIGHT
BEGIN:STANDARD
TZOFFSETFROM:-0400
TZOFFSETTO:-0500
TZNAME:EST
DTSTART:20221106T060000
END:STANDARD
BEGIN:DAYLIGHT
TZOFFSETFROM:-0500
TZOFFSETTO:-0400
TZNAME:EDT
DTSTART:20230312T070000
END:DAYLIGHT
BEGIN:STANDARD
TZOFFSETFROM:-0400
TZOFFSETTO:-0500
TZNAME:EST
DTSTART:20231105T060000
END:STANDARD
END:VTIMEZONE
BEGIN:VEVENT
DTSTART;TZID=America/New_York:20221005T160000
DTEND;TZID=America/New_York:20221005T200000
DTSTAMP:20260424T023607
CREATED:20220407T161808Z
LAST-MODIFIED:20220920T172955Z
UID:10000051-1664985600-1665000000@shelteringarmsinstitute.com
SUMMARY:Nursing Open House
DESCRIPTION:Please join us for our Nursing Open House! \nWhen: \nWednesday\, October 5th\, 2022 from 4-8 p.m. \nWhere: \nSheltering Arms Institute \n2000 Wilkes Ridge Drive \nRichmond\, VA 23233 \nOur hospital is growing and we are looking for nurses to join our team! Come take a tour of the facility and learn about the technologies we use to serve our patients. Sheltering Arms Institute nurse managers and human resources members will be on site to answer any questions you may have about our physical rehabilitation hospital. \nIf you are interested in more information\, but cannot attend the open house\, please complete the brief form on ShelteringArmsInstitute.com/nurses or email nursing@sai.rehab and a member of our HR team will reach out to you to answer your questions and schedule a personal tour. \nWe look forward to meeting you! \nPlease RSVP Below!
URL:https://shelteringarmsinstitute.com/event/nursing-open-house/
LOCATION:Sheltering Arms Institute\, 2000 Wilkes Ridge Drive\, Richmond\, VA\, 23233\, United States
CATEGORIES:Nursing
ATTACH;FMTTYPE=image/png:https://shelteringarmsinstitute.com/wp-content/uploads/2022/04/Nursing-Open-House-1.png
END:VEVENT
END:VCALENDAR