BEGIN:VCALENDAR
VERSION:2.0
PRODID:-//Sheltering Arms Institute - ECPv6.15.19//NONSGML v1.0//EN
CALSCALE:GREGORIAN
METHOD:PUBLISH
X-ORIGINAL-URL:https://shelteringarmsinstitute.com
X-WR-CALDESC:Events for Sheltering Arms Institute
REFRESH-INTERVAL;VALUE=DURATION:PT1H
X-Robots-Tag:noindex
X-PUBLISHED-TTL:PT1H
BEGIN:VTIMEZONE
TZID:America/New_York
BEGIN:DAYLIGHT
TZOFFSETFROM:-0500
TZOFFSETTO:-0400
TZNAME:EDT
DTSTART:20240310T070000
END:DAYLIGHT
BEGIN:STANDARD
TZOFFSETFROM:-0400
TZOFFSETTO:-0500
TZNAME:EST
DTSTART:20241103T060000
END:STANDARD
BEGIN:DAYLIGHT
TZOFFSETFROM:-0500
TZOFFSETTO:-0400
TZNAME:EDT
DTSTART:20250309T070000
END:DAYLIGHT
BEGIN:STANDARD
TZOFFSETFROM:-0400
TZOFFSETTO:-0500
TZNAME:EST
DTSTART:20251102T060000
END:STANDARD
BEGIN:DAYLIGHT
TZOFFSETFROM:-0500
TZOFFSETTO:-0400
TZNAME:EDT
DTSTART:20260308T070000
END:DAYLIGHT
BEGIN:STANDARD
TZOFFSETFROM:-0400
TZOFFSETTO:-0500
TZNAME:EST
DTSTART:20261101T060000
END:STANDARD
END:VTIMEZONE
BEGIN:VEVENT
DTSTART;TZID=America/New_York:20250604T110000
DTEND;TZID=America/New_York:20250604T120000
DTSTAMP:20260421T233825
CREATED:20230206T213657Z
LAST-MODIFIED:20250721T183623Z
UID:10000182-1749034800-1749038400@shelteringarmsinstitute.com
SUMMARY:Support Group for Limb Loss and Limb Difference
DESCRIPTION:Monthly Support Group\n\n\n\n\nFirst Wednesday of Each Month 11 a.m. – 12 p.m.\n\n\n\n\nSheltering Arms Institute connects patients with a support group for a safe and supportive environment for individuals living with limb loss or limb difference. Support groups provide members the opportunity to express their feelings\, learn helpful information\, improve social skills\, and realize they are not alone. \n\n\n\nLocation:\nJoin us virtually or in person at:\n\n\n\n\nSheltering Arms Institute\n2000 Wilkes Ridge Drive\nRichmond\, VA 23233 \n\n\nTo Register:\n\n\n\n\nTo RSVP\, please fill out the form below.\n\n\n\n\n\n\nQuestions? Contact Anna O’Hara\, OTD\, OTR/L\, at anna.ohara@sai.rehab.\n\n\n 
URL:https://shelteringarmsinstitute.com/event/support-group-for-limb-loss-and-limb-difference/2025-06-04/
LOCATION:Sheltering Arms Institute\, 2000 Wilkes Ridge Drive\, Richmond\, VA\, 23233\, United States
CATEGORIES:SAI Community Event
ATTACH;FMTTYPE=image/jpeg:https://shelteringarmsinstitute.com/wp-content/uploads/2023/02/Amputation-support-group-Banner.jpg
END:VEVENT
BEGIN:VEVENT
DTSTART;TZID=America/New_York:20250604T130000
DTEND;TZID=America/New_York:20250604T140000
DTSTAMP:20260421T233825
CREATED:20250325T133733Z
LAST-MODIFIED:20250325T140538Z
UID:10000936-1749042000-1749045600@shelteringarmsinstitute.com
SUMMARY:MyLife Assistive Technology Educational Series: Obi Self-Feeder
DESCRIPTION:When: Wednesday\, June 4 | 1-2 p.m. \nWhere: Sheltering Arms Institute Conference Room 1019 2000 Wilkes Ridge Dr Richmond VA\, 23233 or Virtually via Microsoft Teams \nTopic: Obi Self-Feeder \nSummary: This education series explores how assistive technology empowers individuals to control their surroundings\, enhancing independence and quality of life. This series will cover devices\, troubleshooting\, introduction to user training and funding options to ensure effective use of the highlighted device. \nThis session will introduce participants to the innovative assistive technology device\, the Obi\, designed to promote independence in mealtime activities. Participants will learn about the device’s features\, benefits and funding options. The session will include a hands-on opportunity to trial the Obi\, allowing participants to experience its functionality firsthand. \nRegister with the form below:
URL:https://shelteringarmsinstitute.com/event/mylife-assistive-technology-educational-series-obi-self-feeder/
LOCATION:VA
CATEGORIES:SAI Community Event
ATTACH;FMTTYPE=image/png:https://shelteringarmsinstitute.com/wp-content/uploads/2025/03/MyLife-Series.png
END:VEVENT
BEGIN:VEVENT
DTSTART;TZID=America/New_York:20250617T160000
DTEND;TZID=America/New_York:20250617T170000
DTSTAMP:20260421T233825
CREATED:20250605T122556Z
LAST-MODIFIED:20260106T184808Z
UID:10001202-1750176000-1750179600@shelteringarmsinstitute.com
SUMMARY:Caregiver Support Meeting
DESCRIPTION:Monthly Support Group\n3rd Thursday of Each Month 3 p.m.\nWe know that caregivers are an integral part of our patients’ recovery\, that’s why we’ve established Safe Space support meetings to offer advice\, compassion\, and resources. Our goal is to provide caregivers the opportunity to express their feelings\, learn helpful information\, and realize they are not alone and help connect with others who have gone through a similar experience. \n  \nLocation:\nJoin us virtually or in person at:\nSheltering Arms Institute Room 1040\n2000 Wilkes Ridge Drive\nRichmond\, VA 23233 \n  \nTo Register:\nQuestions? Contact the Community Engagement team at Community.Engagement@sai.rehab
URL:https://shelteringarmsinstitute.com/event/caregiver-safe-space-support-meeting-2/2025-06-17/
LOCATION:Sheltering Arms Institute\, 2000 Wilkes Ridge Drive\, Richmond\, VA\, 23233\, United States
CATEGORIES:SAI Community Event
ATTACH;FMTTYPE=image/jpeg:https://shelteringarmsinstitute.com/wp-content/uploads/2025/04/Caregiver-Support-Group-Header-scaled.jpg
END:VEVENT
BEGIN:VEVENT
DTSTART;TZID=America/New_York:20250617T160000
DTEND;TZID=America/New_York:20250617T180000
DTSTAMP:20260421T233825
CREATED:20250508T144156Z
LAST-MODIFIED:20250718T024217Z
UID:10001183-1750176000-1750183200@shelteringarmsinstitute.com
SUMMARY:Bon Air Aquatic Center Reopening Celebration
DESCRIPTION:When: Tuesday\, June 17th from 4-6 p.m. \nWhere: 206 Twinridge Ln. Richmond\, VA 23235 \n  \nYou’re Invited! \nPlease join us to celebrate the reopening of our newly renovated Bon Air Aquatic Center! \n  \nRSVP by Tuesday\, June 10th  \nRegistration for this event is now closed!
URL:https://shelteringarmsinstitute.com/event/bon-air-aquatic-center-reopening-celebration/
LOCATION:VA
CATEGORIES:SAI Community Event
ATTACH;FMTTYPE=image/jpeg:https://shelteringarmsinstitute.com/wp-content/uploads/2025/05/IMG_4631.jpeg
END:VEVENT
BEGIN:VEVENT
DTSTART;TZID=America/New_York:20250619T150000
DTEND;TZID=America/New_York:20250619T160000
DTSTAMP:20260421T233825
CREATED:20250605T122556Z
LAST-MODIFIED:20260106T184808Z
UID:10001522-1750345200-1750348800@shelteringarmsinstitute.com
SUMMARY:Caregiver Support Meeting
DESCRIPTION:Monthly Support Group\n3rd Thursday of Each Month 3 p.m.\nWe know that caregivers are an integral part of our patients’ recovery\, that’s why we’ve established Safe Space support meetings to offer advice\, compassion\, and resources. Our goal is to provide caregivers the opportunity to express their feelings\, learn helpful information\, and realize they are not alone and help connect with others who have gone through a similar experience. \n  \nLocation:\nJoin us virtually or in person at:\nSheltering Arms Institute Room 1040\n2000 Wilkes Ridge Drive\nRichmond\, VA 23233 \n  \nTo Register:\nQuestions? Contact the Community Engagement team at Community.Engagement@sai.rehab
URL:https://shelteringarmsinstitute.com/event/caregiver-safe-space-support-meeting-2/2025-06-19/
LOCATION:Sheltering Arms Institute\, 2000 Wilkes Ridge Drive\, Richmond\, VA\, 23233\, United States
CATEGORIES:SAI Community Event
ATTACH;FMTTYPE=image/jpeg:https://shelteringarmsinstitute.com/wp-content/uploads/2025/04/Caregiver-Support-Group-Header-scaled.jpg
END:VEVENT
END:VCALENDAR