BEGIN:VCALENDAR
VERSION:2.0
PRODID:-//Sheltering Arms Institute - ECPv6.15.19//NONSGML v1.0//EN
CALSCALE:GREGORIAN
METHOD:PUBLISH
X-ORIGINAL-URL:https://shelteringarmsinstitute.com
X-WR-CALDESC:Events for Sheltering Arms Institute
REFRESH-INTERVAL;VALUE=DURATION:PT1H
X-Robots-Tag:noindex
X-PUBLISHED-TTL:PT1H
BEGIN:VTIMEZONE
TZID:America/New_York
BEGIN:DAYLIGHT
TZOFFSETFROM:-0500
TZOFFSETTO:-0400
TZNAME:EDT
DTSTART:20250309T070000
END:DAYLIGHT
BEGIN:STANDARD
TZOFFSETFROM:-0400
TZOFFSETTO:-0500
TZNAME:EST
DTSTART:20251102T060000
END:STANDARD
BEGIN:DAYLIGHT
TZOFFSETFROM:-0500
TZOFFSETTO:-0400
TZNAME:EDT
DTSTART:20260308T070000
END:DAYLIGHT
BEGIN:STANDARD
TZOFFSETFROM:-0400
TZOFFSETTO:-0500
TZNAME:EST
DTSTART:20261101T060000
END:STANDARD
BEGIN:DAYLIGHT
TZOFFSETFROM:-0500
TZOFFSETTO:-0400
TZNAME:EDT
DTSTART:20270314T070000
END:DAYLIGHT
BEGIN:STANDARD
TZOFFSETFROM:-0400
TZOFFSETTO:-0500
TZNAME:EST
DTSTART:20271107T060000
END:STANDARD
END:VTIMEZONE
BEGIN:VEVENT
DTSTART;TZID=America/New_York:20260505T130000
DTEND;TZID=America/New_York:20260505T143000
DTSTAMP:20260421T090052
CREATED:20260210T171503Z
LAST-MODIFIED:20260327T141614Z
UID:10001415-1777986000-1777991400@shelteringarmsinstitute.com
SUMMARY:Caring for the Caregiver
DESCRIPTION:When: Each Tuesday from May 5 to June 9 from 1-2:30 p.m. \nWhere: In person at Sheltering Arms Institute’s Main Campus (2000 Wilkes Ridge Dr. Henrico\, VA 23233) or virtually via Microsoft Teams \n  \nCaregivers play an important role in their loved one’s recovery\, and we want to support your well-being and success along the way. Powerful Tools for Caregivers is a six-week class series held once a week. This program will give you the skills to take care of yourself while caring for your loved one. By taking care of your own mental and physical health\, you can be a better caregiver. Participants will receive a caregiver resource guide. To learn more about the Caregiver Program\, visit: powerfultoolsforcaregivers.org. \nBelow are some of the helpful strategies that will be covered: \n\nReduce stress\nImprove self-confidence\nManage time\, set goals & problem solve\nBetter communicate feelings\nAccess community resources\nMake tough decisions\n\n  \nQuestions? Email community.engagement@sai.rehab or call (804) 578-6532. \n  \nRegister with the form below:
URL:https://shelteringarmsinstitute.com/event/caring-for-the-caregiver-2-2-2/2026-05-05/
LOCATION:Sheltering Arms Institute\, 2000 Wilkes Ridge Drive\, Richmond\, VA\, 23233\, United States
CATEGORIES:SAI Community Event
ATTACH;FMTTYPE=image/jpeg:https://shelteringarmsinstitute.com/wp-content/uploads/2024/05/Powerful-Tools-for-the-Caregiver-heading-scaled.jpg
END:VEVENT
BEGIN:VEVENT
DTSTART;TZID=America/New_York:20260506T110000
DTEND;TZID=America/New_York:20260506T120000
DTSTAMP:20260421T090052
CREATED:20230206T213657Z
LAST-MODIFIED:20250721T183623Z
UID:10000193-1778065200-1778068800@shelteringarmsinstitute.com
SUMMARY:Support Group for Limb Loss and Limb Difference
DESCRIPTION:Monthly Support Group\n\n\n\n\nFirst Wednesday of Each Month 11 a.m. – 12 p.m.\n\n\n\n\nSheltering Arms Institute connects patients with a support group for a safe and supportive environment for individuals living with limb loss or limb difference. Support groups provide members the opportunity to express their feelings\, learn helpful information\, improve social skills\, and realize they are not alone. \n\n\n\nLocation:\nJoin us virtually or in person at:\n\n\n\n\nSheltering Arms Institute\n2000 Wilkes Ridge Drive\nRichmond\, VA 23233 \n\n\nTo Register:\n\n\n\n\nTo RSVP\, please fill out the form below.\n\n\n\n\n\n\nQuestions? Contact Anna O’Hara\, OTD\, OTR/L\, at anna.ohara@sai.rehab.\n\n\n 
URL:https://shelteringarmsinstitute.com/event/support-group-for-limb-loss-and-limb-difference/2026-05-06/
LOCATION:Sheltering Arms Institute\, 2000 Wilkes Ridge Drive\, Richmond\, VA\, 23233\, United States
CATEGORIES:SAI Community Event
ATTACH;FMTTYPE=image/jpeg:https://shelteringarmsinstitute.com/wp-content/uploads/2023/02/Amputation-support-group-Banner.jpg
END:VEVENT
BEGIN:VEVENT
DTSTART;TZID=America/New_York:20260506T130000
DTEND;TZID=America/New_York:20260506T160000
DTSTAMP:20260421T090052
CREATED:20250911T165200Z
LAST-MODIFIED:20260316T200530Z
UID:10001348-1778072400-1778083200@shelteringarmsinstitute.com
SUMMARY:Vivistim Therapy Screening Day
DESCRIPTION:When: Wednesday\, May 6 \nScreenings will take place from 1-4 p.m. and take about 30 minutes. \nAfter you register\, you’ll receive a call from the Vivistim Team to schedule your 30-minute appointment slot. \nWhere: Sheltering Arms Institute’s Hanover Outpatient Center (8226 Meadowbridge Rd. Mechanicsville\, VA 23116) \nWhat: Have you or a loved one experienced an ischemic stroke at least 6 months ago? Are you looking to improve movement in your hand and arm? Join Sheltering Arms Institute for a Vivistim Therapy Screening to explore how this innovative therapy may help you regain greater function and independence. \nRSVP: https://go.vivistim.com/Patient_Awareness_Event.html (Select “May 6\, 2026 – Mechanicsville\, VA” in the Event dropdown menu) \nWhat is Vivistim?  \nVivistim is a FDA-approved vagal nerve stimulation device that can enhance recovery among individuals who have experienced a stroke when combined with rehabilitative therapy. Implanted by a neurosurgeon in an outpatient procedure\, Vivistim is placed underneath the skin in the chest—similar to a pacemaker—with coils that extend to the neck and wrap around the vagus nerve. \nWho is an ideal candidate for Vivistim therapy?  \nIdeal candidates for Vivistim are individuals who experienced their stroke at least six months ago and have some ability to grasp and release objects with movement in at least two fingers. Because the therapy involves intense physical activity\, candidates must be able to functionally use their hand to some degree. \nLearn more: https://shelteringarmsinstitute.com/new-technology-helps-stroke-survivors-regain-function/ \n  \nThe MicroTransponder® Vivistim® Paired VNS™ System is intended to be used to stimulate the vagus nerve during rehabilitation therapy in order to reduce upper extremity motor deficits and improve motor function in chronic ischemic stroke patients with moderate to severe arm impairment. Do not use if the patient has had a bilateral or left cervical vagotomy. Risks may include\, but are not limited to pain after surgery\, hoarseness\, bruising\, swelling\, coughing and throat irritation. Infection leading to explant is a risk associated with any device surgery. For full safety information\, please see www.vivistim.com/safety. Individual results may vary.
URL:https://shelteringarmsinstitute.com/event/vivistim-therapy-screening-day/
LOCATION:VA
CATEGORIES:SAI Community Event
ATTACH;FMTTYPE=image/png:https://shelteringarmsinstitute.com/wp-content/uploads/2025/09/Vivistim-Screening-Day-Header.png
END:VEVENT
BEGIN:VEVENT
DTSTART;TZID=America/New_York:20260512T120000
DTEND;TZID=America/New_York:20260512T130000
DTSTAMP:20260421T090052
CREATED:20250107T192621Z
LAST-MODIFIED:20260102T154244Z
UID:10001488-1778587200-1778590800@shelteringarmsinstitute.com
SUMMARY:Concussion Support Group
DESCRIPTION:Education and support make a huge difference in concussion recovery. Please join us for a brief informational session provided virtually by Sheltering Arms Institute healthcare providers followed by an open forum for questions. \nThis support group is intended to provide an outlet for discussion of shared experiences to help with coping strategies and general education about concussions. If you are an adult diagnosed with a concussion and are actively under the care of a healthcare provider for the injury (MD\, PT\, SLP\, Psychologist\, etc.)\, we encourage you to attend. \n\n\nTo Register:\n\n\n\n\nTo RSVP\, please fill out the form below.\n\n\nQuestions? Contact Caitlin Larkins at caitlin.larkins@sai.rehab
URL:https://shelteringarmsinstitute.com/event/concussion-support-group-3/2026-05-12/
LOCATION:VA
CATEGORIES:SAI Community Event
ATTACH;FMTTYPE=image/jpeg:https://shelteringarmsinstitute.com/wp-content/uploads/2025/01/Concussion-support-group-header.jpg
END:VEVENT
BEGIN:VEVENT
DTSTART;TZID=America/New_York:20260512T130000
DTEND;TZID=America/New_York:20260512T143000
DTSTAMP:20260421T090052
CREATED:20260210T171503Z
LAST-MODIFIED:20260327T141614Z
UID:10001592-1778590800-1778596200@shelteringarmsinstitute.com
SUMMARY:Caring for the Caregiver
DESCRIPTION:When: Each Tuesday from May 5 to June 9 from 1-2:30 p.m. \nWhere: In person at Sheltering Arms Institute’s Main Campus (2000 Wilkes Ridge Dr. Henrico\, VA 23233) or virtually via Microsoft Teams \n  \nCaregivers play an important role in their loved one’s recovery\, and we want to support your well-being and success along the way. Powerful Tools for Caregivers is a six-week class series held once a week. This program will give you the skills to take care of yourself while caring for your loved one. By taking care of your own mental and physical health\, you can be a better caregiver. Participants will receive a caregiver resource guide. To learn more about the Caregiver Program\, visit: powerfultoolsforcaregivers.org. \nBelow are some of the helpful strategies that will be covered: \n\nReduce stress\nImprove self-confidence\nManage time\, set goals & problem solve\nBetter communicate feelings\nAccess community resources\nMake tough decisions\n\n  \nQuestions? Email community.engagement@sai.rehab or call (804) 578-6532. \n  \nRegister with the form below:
URL:https://shelteringarmsinstitute.com/event/caring-for-the-caregiver-2-2-2/2026-05-12/
LOCATION:Sheltering Arms Institute\, 2000 Wilkes Ridge Drive\, Richmond\, VA\, 23233\, United States
CATEGORIES:SAI Community Event
ATTACH;FMTTYPE=image/jpeg:https://shelteringarmsinstitute.com/wp-content/uploads/2024/05/Powerful-Tools-for-the-Caregiver-heading-scaled.jpg
END:VEVENT
BEGIN:VEVENT
DTSTART;TZID=America/New_York:20260519T130000
DTEND;TZID=America/New_York:20260519T143000
DTSTAMP:20260421T090052
CREATED:20260210T171503Z
LAST-MODIFIED:20260327T141614Z
UID:10001598-1779195600-1779201000@shelteringarmsinstitute.com
SUMMARY:Caring for the Caregiver
DESCRIPTION:When: Each Tuesday from May 5 to June 9 from 1-2:30 p.m. \nWhere: In person at Sheltering Arms Institute’s Main Campus (2000 Wilkes Ridge Dr. Henrico\, VA 23233) or virtually via Microsoft Teams \n  \nCaregivers play an important role in their loved one’s recovery\, and we want to support your well-being and success along the way. Powerful Tools for Caregivers is a six-week class series held once a week. This program will give you the skills to take care of yourself while caring for your loved one. By taking care of your own mental and physical health\, you can be a better caregiver. Participants will receive a caregiver resource guide. To learn more about the Caregiver Program\, visit: powerfultoolsforcaregivers.org. \nBelow are some of the helpful strategies that will be covered: \n\nReduce stress\nImprove self-confidence\nManage time\, set goals & problem solve\nBetter communicate feelings\nAccess community resources\nMake tough decisions\n\n  \nQuestions? Email community.engagement@sai.rehab or call (804) 578-6532. \n  \nRegister with the form below:
URL:https://shelteringarmsinstitute.com/event/caring-for-the-caregiver-2-2-2/2026-05-19/
LOCATION:Sheltering Arms Institute\, 2000 Wilkes Ridge Drive\, Richmond\, VA\, 23233\, United States
CATEGORIES:SAI Community Event
ATTACH;FMTTYPE=image/jpeg:https://shelteringarmsinstitute.com/wp-content/uploads/2024/05/Powerful-Tools-for-the-Caregiver-heading-scaled.jpg
END:VEVENT
BEGIN:VEVENT
DTSTART;TZID=America/New_York:20260521T150000
DTEND;TZID=America/New_York:20260521T160000
DTSTAMP:20260421T090052
CREATED:20250605T122556Z
LAST-MODIFIED:20260106T184808Z
UID:10001533-1779375600-1779379200@shelteringarmsinstitute.com
SUMMARY:Caregiver Support Meeting
DESCRIPTION:Monthly Support Group\n3rd Thursday of Each Month 3 p.m.\nWe know that caregivers are an integral part of our patients’ recovery\, that’s why we’ve established Safe Space support meetings to offer advice\, compassion\, and resources. Our goal is to provide caregivers the opportunity to express their feelings\, learn helpful information\, and realize they are not alone and help connect with others who have gone through a similar experience. \n  \nLocation:\nJoin us virtually or in person at:\nSheltering Arms Institute Room 1040\n2000 Wilkes Ridge Drive\nRichmond\, VA 23233 \n  \nTo Register:\nQuestions? Contact the Community Engagement team at Community.Engagement@sai.rehab
URL:https://shelteringarmsinstitute.com/event/caregiver-safe-space-support-meeting-2/2026-05-21/
LOCATION:Sheltering Arms Institute\, 2000 Wilkes Ridge Drive\, Richmond\, VA\, 23233\, United States
CATEGORIES:SAI Community Event
ATTACH;FMTTYPE=image/jpeg:https://shelteringarmsinstitute.com/wp-content/uploads/2025/04/Caregiver-Support-Group-Header-scaled.jpg
END:VEVENT
BEGIN:VEVENT
DTSTART;TZID=America/New_York:20260526T130000
DTEND;TZID=America/New_York:20260526T143000
DTSTAMP:20260421T090052
CREATED:20260210T171503Z
LAST-MODIFIED:20260327T141614Z
UID:10001599-1779800400-1779805800@shelteringarmsinstitute.com
SUMMARY:Caring for the Caregiver
DESCRIPTION:When: Each Tuesday from May 5 to June 9 from 1-2:30 p.m. \nWhere: In person at Sheltering Arms Institute’s Main Campus (2000 Wilkes Ridge Dr. Henrico\, VA 23233) or virtually via Microsoft Teams \n  \nCaregivers play an important role in their loved one’s recovery\, and we want to support your well-being and success along the way. Powerful Tools for Caregivers is a six-week class series held once a week. This program will give you the skills to take care of yourself while caring for your loved one. By taking care of your own mental and physical health\, you can be a better caregiver. Participants will receive a caregiver resource guide. To learn more about the Caregiver Program\, visit: powerfultoolsforcaregivers.org. \nBelow are some of the helpful strategies that will be covered: \n\nReduce stress\nImprove self-confidence\nManage time\, set goals & problem solve\nBetter communicate feelings\nAccess community resources\nMake tough decisions\n\n  \nQuestions? Email community.engagement@sai.rehab or call (804) 578-6532. \n  \nRegister with the form below:
URL:https://shelteringarmsinstitute.com/event/caring-for-the-caregiver-2-2-2/2026-05-26/
LOCATION:Sheltering Arms Institute\, 2000 Wilkes Ridge Drive\, Richmond\, VA\, 23233\, United States
CATEGORIES:SAI Community Event
ATTACH;FMTTYPE=image/jpeg:https://shelteringarmsinstitute.com/wp-content/uploads/2024/05/Powerful-Tools-for-the-Caregiver-heading-scaled.jpg
END:VEVENT
END:VCALENDAR