BEGIN:VCALENDAR
VERSION:2.0
PRODID:-//Sheltering Arms Institute - ECPv6.15.19//NONSGML v1.0//EN
CALSCALE:GREGORIAN
METHOD:PUBLISH
X-WR-CALNAME:Sheltering Arms Institute
X-ORIGINAL-URL:https://shelteringarmsinstitute.com
X-WR-CALDESC:Events for Sheltering Arms Institute
REFRESH-INTERVAL;VALUE=DURATION:PT1H
X-Robots-Tag:noindex
X-PUBLISHED-TTL:PT1H
BEGIN:VTIMEZONE
TZID:America/New_York
BEGIN:DAYLIGHT
TZOFFSETFROM:-0500
TZOFFSETTO:-0400
TZNAME:EDT
DTSTART:20250309T070000
END:DAYLIGHT
BEGIN:STANDARD
TZOFFSETFROM:-0400
TZOFFSETTO:-0500
TZNAME:EST
DTSTART:20251102T060000
END:STANDARD
BEGIN:DAYLIGHT
TZOFFSETFROM:-0500
TZOFFSETTO:-0400
TZNAME:EDT
DTSTART:20260308T070000
END:DAYLIGHT
BEGIN:STANDARD
TZOFFSETFROM:-0400
TZOFFSETTO:-0500
TZNAME:EST
DTSTART:20261101T060000
END:STANDARD
BEGIN:DAYLIGHT
TZOFFSETFROM:-0500
TZOFFSETTO:-0400
TZNAME:EDT
DTSTART:20270314T070000
END:DAYLIGHT
BEGIN:STANDARD
TZOFFSETFROM:-0400
TZOFFSETTO:-0500
TZNAME:EST
DTSTART:20271107T060000
END:STANDARD
END:VTIMEZONE
BEGIN:VEVENT
DTSTART;TZID=America/New_York:20260306T090000
DTEND;TZID=America/New_York:20260306T103000
DTSTAMP:20260421T220730
CREATED:20260213T195017Z
LAST-MODIFIED:20260220T204407Z
UID:10000926-1772787600-1772793000@shelteringarmsinstitute.com
SUMMARY:Matter of Balance (Class Series)
DESCRIPTION:When: Each Friday from March 6 through April 24 from 9-10:30 a.m. \nWhere: In person at Bon Air Outpatient Center (206 Twinridge Ln. Richmond\, VA 23235) \n  \nA Matter of Balance (MOB) is specifically designed to reduce the fear of falling and improve activity levels among community-dwelling older adults. The program includes eight (8) two-hour classes presented to a small group of 8-12 participants led by trained coaches. The program enables participants to reduce the fear of falling by learning to view falls as controllable\, setting goals for increasing activity levels\, making small changes to reduce fall risks at home\, and exercise to increase strength and balance. \nThe curriculum includes group discussions\, mutual problem solving\, role-play activities\, exercise training\, assertiveness training\, and a few homework assignments. \n  \nLearning Objectives: \n\nParticipants learn about the importance of exercise in preventing falls and practice exercises to improve strength\, coordination\, and balance.\nParticipants also conduct a home safety evaluation and learn to get up and down safely.\nAdditional topics include home safety\, assertiveness\, developing positive strategies for change\, reducing barriers to exercise\, identifying physical risk factors for falls\, personal action planners\, recognizing misconceptions about falls\, and moving from self-defeating to self-motivating thoughts.\n\n  \nQuestions? Email community.engagement@sai.rehab or call (804) 578-6532. \n  \nRegister using the form below:
URL:https://shelteringarmsinstitute.com/event/matter-of-balance-class-series-2/
LOCATION:VA
ATTACH;FMTTYPE=image/jpeg:https://shelteringarmsinstitute.com/wp-content/uploads/2025/02/Matter-of-Balance-Header.jpg
END:VEVENT
BEGIN:VEVENT
DTSTART;TZID=America/New_York:20260306T100000
DTEND;TZID=America/New_York:20260306T110000
DTSTAMP:20260421T220730
CREATED:20260216T153249Z
LAST-MODIFIED:20260218T161628Z
UID:10001593-1772791200-1772794800@shelteringarmsinstitute.com
SUMMARY:Healthy Eating on a Budget
DESCRIPTION:When: Friday\, March 6 from 10-11 a.m. \nWhere: In person at Midtown Outpatient Center – Scott’s Addition (2805 W. Broad St.\, Richmond\, VA 23230) or virtually via Microsoft Teams \nJoin Dana Lucy Egan\, Registered Dietitian Nutritionist\, for a nutrition and wellness class for adults on how to eat healthy on a budget. \nLearning Objectives:\n• Learn how to eat nutritionally on a budget\n• How to compare prices\n• Tips to prepare snacks for a week \nTo register\, please call Kimberly Gryder\, Community Program Coordinator\, at (804) 764-5749 and mention EmpowerU for FREE registration. \n  \n\nMicrosoft Teams Need help? \n\n\nJoin the meeting now \n\nMeeting ID: 246 758 583 862 3\nPasscode: f3CK3fv9
URL:https://shelteringarmsinstitute.com/event/healthy-eating-on-a-budget/
LOCATION:VA
ATTACH;FMTTYPE=image/png:https://shelteringarmsinstitute.com/wp-content/uploads/2026/02/Healthy-Eating-on-a-Budget.png
END:VEVENT
BEGIN:VEVENT
DTSTART;TZID=America/New_York:20260307T083000
DTEND;TZID=America/New_York:20260307T130000
DTSTAMP:20260421T220730
CREATED:20260107T164841Z
LAST-MODIFIED:20260316T130342Z
UID:10001589-1772872200-1772888400@shelteringarmsinstitute.com
SUMMARY:Caregiver Retreat: Day of Empowerment
DESCRIPTION:Guest Speaker: Karen Grazionale \nWhen: Saturday\, March 7th \nTime: 8:30 AM- 1 PM\, Breakfast and lunch will be provided \nWhere: Large Conference Room 1019 at Sheltering Arms Institute \n  \nWhen you are busy taking care of your loved one\, it can become difficult to take care of yourself. This retreat is intended to provide you with connection\, empowerment\, and valuable skills. \n\nLearn practical tools and valuable information\nConnect with other caregivers\nShare stories\nFind support and network opportunities\nHelp reduce caregiver burnout!
URL:https://shelteringarmsinstitute.com/event/caregiver-retreat-day-of-empowerment/
LOCATION:Sheltering Arms Institute\, 2000 Wilkes Ridge Drive\, Richmond\, VA\, 23233\, United States
CATEGORIES:SAI Community Event
ATTACH;FMTTYPE=image/png:https://shelteringarmsinstitute.com/wp-content/uploads/2026/01/Caregiver-Retreat.png
END:VEVENT
BEGIN:VEVENT
DTSTART;TZID=America/New_York:20260314T080000
DTEND;TZID=America/New_York:20260314T170000
DTSTAMP:20260421T220730
CREATED:20251205T055824Z
LAST-MODIFIED:20251205T055824Z
UID:10001417-1773475200-1773507600@shelteringarmsinstitute.com
SUMMARY:Wheelchair Symposium
DESCRIPTION:Join us at Sheltering Arms Institute (2000 Wilkes Ridge Dr. Richmond Va 23233) for a one-day\, in-person symposium! This symposium is designed to empower clinicians with the knowledge and hands-on experience necessary to optimize wheelchair prescription\, configuration\, and training. Through a series of targeted lectures and interactive labs\, attendees will deepen their understanding of foundational or advanced wheelchair technologies\, refine their clinical decision-making\, and enhance their ability to support patients in achieving functional mobility. \n  \nCLICK HERE TO REGISTER!
URL:https://shelteringarmsinstitute.com/event/wheelchair-symposium/
LOCATION:Sheltering Arms Institute\, 2000 Wilkes Ridge Drive\, Richmond\, VA\, 23233\, United States
ATTACH;FMTTYPE=image/png:https://shelteringarmsinstitute.com/wp-content/uploads/2025/12/Wheelchair-symposium-header-3.14.25.png
END:VEVENT
BEGIN:VEVENT
DTSTART;TZID=America/New_York:20260425T130000
DTEND;TZID=America/New_York:20260425T160000
DTSTAMP:20260421T220730
CREATED:20230308T160230Z
LAST-MODIFIED:20260323T145618Z
UID:10000001-1777122000-1777132800@shelteringarmsinstitute.com
SUMMARY:Walk\, Run\, Roll!
DESCRIPTION:Support the limb loss and limb difference community! \n\n\nSaturday\, April 25th • 1:00-4:00pm *Race begins at 2:00   FREE!  \nRegister by Friday\, April 3rd to guarantee your t-shirt size! \n  \nJoin us for the 4th annual walk\, run\, or roll event as we recognize Limb Loss Awareness Month and raise money for the Sheltering Arms Foundation! \n  \nFeaturing Family Friendly Activities: \nThe RVA Express\, Kona Ice\, Bounce House\, Chick-fil-a Cow\, Face Painting\, Balloon animals and more! \n  \nLocation: \nJoin us at: Sheltering Arms Institute 2000 Wilkes Ridge Drive Richmond\, VA 23233 \nVolunteers needed!  Click Here To Sign Up! \nPlease consider a donation to the Sheltering Arms Foundation by visiting: https://shelteringarmsfoundation.org/donate/ \n\n  \nRegistration Is Now OPEN For This Years Event!\nRegister using the form below: \n  \n\n  \n  \n\n\n 
URL:https://shelteringarmsinstitute.com/event/walk-run-roll/
LOCATION:Sheltering Arms Institute\, 2000 Wilkes Ridge Drive\, Richmond\, VA\, 23233\, United States
CATEGORIES:SAI Community Event
ATTACH;FMTTYPE=image/jpeg:https://shelteringarmsinstitute.com/wp-content/uploads/2023/03/Walk-Run-Roll-Header-image.jpg
END:VEVENT
BEGIN:VEVENT
DTSTART;TZID=America/New_York:20260501T100000
DTEND;TZID=America/New_York:20260501T110000
DTSTAMP:20260421T220730
CREATED:20260327T141805Z
LAST-MODIFIED:20260327T141805Z
UID:10001602-1777629600-1777633200@shelteringarmsinstitute.com
SUMMARY:The Importance of Nutrition as we Age
DESCRIPTION:When: Friday\, May 1 from 10-11 a.m. \nWhere: In person at Midtown Outpatient Center – Scott’s Addition (2805 W. Broad St.\, Richmond\, VA 23230) or virtually via Microsoft Teams \n  \nLearning Objectives: \n\nLearn the role of nutrition in healthy aging\nLearn nutritional needs for older adults\nTips for nutritional recipe ideas and food choices for seniors\n\n  \nTo register\, please call Kimberly Gryder\, Community Program Coordinator\, at (804) 764-5749 and mention EmpowerU for FREE registration.
URL:https://shelteringarmsinstitute.com/event/the-importance-of-nutrition-as-we-age/
LOCATION:VA
ATTACH;FMTTYPE=image/jpeg:https://shelteringarmsinstitute.com/wp-content/uploads/2024/01/EmpowerU-landing-page-header-scaled.jpg
END:VEVENT
BEGIN:VEVENT
DTSTART;TZID=America/New_York:20260506T130000
DTEND;TZID=America/New_York:20260506T160000
DTSTAMP:20260421T220730
CREATED:20250911T165200Z
LAST-MODIFIED:20260316T200530Z
UID:10001348-1778072400-1778083200@shelteringarmsinstitute.com
SUMMARY:Vivistim Therapy Screening Day
DESCRIPTION:When: Wednesday\, May 6 \nScreenings will take place from 1-4 p.m. and take about 30 minutes. \nAfter you register\, you’ll receive a call from the Vivistim Team to schedule your 30-minute appointment slot. \nWhere: Sheltering Arms Institute’s Hanover Outpatient Center (8226 Meadowbridge Rd. Mechanicsville\, VA 23116) \nWhat: Have you or a loved one experienced an ischemic stroke at least 6 months ago? Are you looking to improve movement in your hand and arm? Join Sheltering Arms Institute for a Vivistim Therapy Screening to explore how this innovative therapy may help you regain greater function and independence. \nRSVP: https://go.vivistim.com/Patient_Awareness_Event.html (Select “May 6\, 2026 – Mechanicsville\, VA” in the Event dropdown menu) \nWhat is Vivistim?  \nVivistim is a FDA-approved vagal nerve stimulation device that can enhance recovery among individuals who have experienced a stroke when combined with rehabilitative therapy. Implanted by a neurosurgeon in an outpatient procedure\, Vivistim is placed underneath the skin in the chest—similar to a pacemaker—with coils that extend to the neck and wrap around the vagus nerve. \nWho is an ideal candidate for Vivistim therapy?  \nIdeal candidates for Vivistim are individuals who experienced their stroke at least six months ago and have some ability to grasp and release objects with movement in at least two fingers. Because the therapy involves intense physical activity\, candidates must be able to functionally use their hand to some degree. \nLearn more: https://shelteringarmsinstitute.com/new-technology-helps-stroke-survivors-regain-function/ \n  \nThe MicroTransponder® Vivistim® Paired VNS™ System is intended to be used to stimulate the vagus nerve during rehabilitation therapy in order to reduce upper extremity motor deficits and improve motor function in chronic ischemic stroke patients with moderate to severe arm impairment. Do not use if the patient has had a bilateral or left cervical vagotomy. Risks may include\, but are not limited to pain after surgery\, hoarseness\, bruising\, swelling\, coughing and throat irritation. Infection leading to explant is a risk associated with any device surgery. For full safety information\, please see www.vivistim.com/safety. Individual results may vary.
URL:https://shelteringarmsinstitute.com/event/vivistim-therapy-screening-day/
LOCATION:VA
CATEGORIES:SAI Community Event
ATTACH;FMTTYPE=image/png:https://shelteringarmsinstitute.com/wp-content/uploads/2025/09/Vivistim-Screening-Day-Header.png
END:VEVENT
BEGIN:VEVENT
DTSTART;TZID=America/New_York:20260508T083000
DTEND;TZID=America/New_York:20260508T163000
DTSTAMP:20260421T220730
CREATED:20260121T161551Z
LAST-MODIFIED:20260403T161023Z
UID:10001590-1778229000-1778257800@shelteringarmsinstitute.com
SUMMARY:Neuro Recovery Symposium: Reinventing Rehab
DESCRIPTION:Sheltering Arms Institute is hosting the Neuro Recovery Symposium: Reinventing Rehab\, as part of our continued Education Institute. \nSome Topics Include: \n\nBasics of SCI care\nFunctional neurologic disorder\nVivistim\nManagement of Lateropulsion\nHigh Intensity Therapy in a Low-Tech Environment (with emphasis on MS)\nAphasia GPT\n\nView The Agenda. \nRegistration is now open! Please click here to register.
URL:https://shelteringarmsinstitute.com/event/neuro-recovery-symposium-reinventing-rehab-2/
LOCATION:VA
ATTACH;FMTTYPE=image/jpeg:https://shelteringarmsinstitute.com/wp-content/uploads/2026/01/Neuro-symposium-header-2026.jpg
END:VEVENT
BEGIN:VEVENT
DTSTART;TZID=America/New_York:20260520T130000
DTEND;TZID=America/New_York:20260520T140000
DTSTAMP:20260421T220730
CREATED:20260327T132844Z
LAST-MODIFIED:20260327T132844Z
UID:10001594-1779282000-1779285600@shelteringarmsinstitute.com
SUMMARY:Navigating Emotions: Building Resilience on Your Recovery Journey
DESCRIPTION:When: Wednesday\, May 20 from 1-2 p.m. \nWhere: In person at Sheltering Arms Institute’s Main Campus (2000 Wilkes Ridge Dr. Henrico\, VA 23233) or virtually via Microsoft Teams \n  \nLearning Objectives: \n\nParticipants will be able to define resilience.\nParticipants will be able to identify factors to help enhance one’s personal resilience.\nParticipants will identify skills to manage emotional distress and enhance coping.\n\n  \nQuestions? Email community.engagement@sai.rehab or call (804) 578-6532. \n  \nRegister with the form below:
URL:https://shelteringarmsinstitute.com/event/navigating-emotions-building-resilience-on-your-recovery-journey-2/
LOCATION:Sheltering Arms Institute\, 2000 Wilkes Ridge Drive\, Richmond\, VA\, 23233\, United States
ATTACH;FMTTYPE=image/jpeg:https://shelteringarmsinstitute.com/wp-content/uploads/2024/01/EmpowerU-landing-page-header-scaled.jpg
END:VEVENT
BEGIN:VEVENT
DTSTART;TZID=America/New_York:20260617T130000
DTEND;TZID=America/New_York:20260617T140000
DTSTAMP:20260421T220730
CREATED:20260327T134518Z
LAST-MODIFIED:20260327T134518Z
UID:10001595-1781701200-1781704800@shelteringarmsinstitute.com
SUMMARY:Upper Extremity Recovery after Neurological Injury
DESCRIPTION:When: Wednesday\, June 17 from 1-2 p.m. \nWhere: In person at Sheltering Arms Institute’s Main Campus (2000 Wilkes Ridge Dr. Henrico\, VA 23233) or virtually via Microsoft Teams \n  \nLearning Objectives: \n\nUnderstand common injuries to upper extremities\nUnderstand the importance of positioning\, stretching\, and range of motion\nUnderstand need for intensity and repetition with exercising\n\n  \nQuestions? Email community.engagement@sai.rehab or call (804) 578-6532. \n  \nRegister with the form below:
URL:https://shelteringarmsinstitute.com/event/upper-extremity-recovery-after-neurological-injury-2/
LOCATION:Sheltering Arms Institute\, 2000 Wilkes Ridge Drive\, Richmond\, VA\, 23233\, United States
CATEGORIES:SAI Community Event
ATTACH;FMTTYPE=image/jpeg:https://shelteringarmsinstitute.com/wp-content/uploads/2024/01/EmpowerU-landing-page-header-scaled.jpg
END:VEVENT
BEGIN:VEVENT
DTSTART;TZID=America/New_York:20260916T130000
DTEND;TZID=America/New_York:20260916T140000
DTSTAMP:20260421T220730
CREATED:20260327T135252Z
LAST-MODIFIED:20260327T135410Z
UID:10001596-1789563600-1789567200@shelteringarmsinstitute.com
SUMMARY:Managing Fatigue: The Long Haul of the Rehab Journey
DESCRIPTION:When: Wednesday\, September 16 from 1-2 p.m. \nWhere: In person at Sheltering Arms Institute’s Main Campus (2000 Wilkes Ridge Dr. Henrico\, VA 23233) or virtually via Microsoft Teams \n  \nFatigue can lead patients to feel limited in their recovery from a significant injury or illness. It can affect their participation in therapy\, exercise\, and community activities. Join us for a discussion on the reasons for fatigue\, ways to track it\, and strategies to manage it during the rehab journey. \n  \nLearning Objectives: \n\nTo understand the impact of fatigue on daily activity.\nTo understand how to measure and track your fatigue.\nTo identify other possible factors that impact fatigue.\nLearn strategies to manage fatigue in your recovery.\n\n  \nQuestions? Email community.engagement@sai.rehab or call (804) 578-6532. \n  \nRegister with the form below:
URL:https://shelteringarmsinstitute.com/event/managing-fatigue-the-long-haul-of-the-rehab-journey-3/
LOCATION:Sheltering Arms Institute\, 2000 Wilkes Ridge Drive\, Richmond\, VA\, 23233\, United States
ATTACH;FMTTYPE=image/jpeg:https://shelteringarmsinstitute.com/wp-content/uploads/2024/01/EmpowerU-landing-page-header-scaled.jpg
END:VEVENT
BEGIN:VEVENT
DTSTART;TZID=America/New_York:20261104T130000
DTEND;TZID=America/New_York:20261104T140000
DTSTAMP:20260421T220730
CREATED:20260327T140245Z
LAST-MODIFIED:20260327T140402Z
UID:10001597-1793797200-1793800800@shelteringarmsinstitute.com
SUMMARY:Tips to Maximize Insurance Benefits and Get Your Best Outcome
DESCRIPTION:When: Wednesday\, November 4 from 1-2 p.m. \nWhere: In person at Sheltering Arms Institute’s Main Campus (2000 Wilkes Ridge Dr. Henrico\, VA 23233) or virtually via Microsoft Teams \n  \nLearning Objectives: \n\nWhat to expect from my physical therapy insurance benefits\nTips to boost the effectiveness of your physical therapy sessions\nHow to stretch physical therapy insurance benefits with our community fitness programs\n\n  \nQuestions? Email community.engagement@sai.rehab or call (804) 578-6532. \n  \nRegister with the form below:
URL:https://shelteringarmsinstitute.com/event/tips-to-maximize-insurance-benefits-and-get-your-best-outcome-2/
LOCATION:Sheltering Arms Institute\, 2000 Wilkes Ridge Drive\, Richmond\, VA\, 23233\, United States
ATTACH;FMTTYPE=image/jpeg:https://shelteringarmsinstitute.com/wp-content/uploads/2024/01/EmpowerU-landing-page-header-scaled.jpg
END:VEVENT
END:VCALENDAR