BEGIN:VCALENDAR
VERSION:2.0
PRODID:-//Sheltering Arms Institute - ECPv6.15.19//NONSGML v1.0//EN
CALSCALE:GREGORIAN
METHOD:PUBLISH
X-WR-CALNAME:Sheltering Arms Institute
X-ORIGINAL-URL:https://shelteringarmsinstitute.com
X-WR-CALDESC:Events for Sheltering Arms Institute
REFRESH-INTERVAL;VALUE=DURATION:PT1H
X-Robots-Tag:noindex
X-PUBLISHED-TTL:PT1H
BEGIN:VTIMEZONE
TZID:America/New_York
BEGIN:DAYLIGHT
TZOFFSETFROM:-0500
TZOFFSETTO:-0400
TZNAME:EDT
DTSTART:20250309T070000
END:DAYLIGHT
BEGIN:STANDARD
TZOFFSETFROM:-0400
TZOFFSETTO:-0500
TZNAME:EST
DTSTART:20251102T060000
END:STANDARD
BEGIN:DAYLIGHT
TZOFFSETFROM:-0500
TZOFFSETTO:-0400
TZNAME:EDT
DTSTART:20260308T070000
END:DAYLIGHT
BEGIN:STANDARD
TZOFFSETFROM:-0400
TZOFFSETTO:-0500
TZNAME:EST
DTSTART:20261101T060000
END:STANDARD
BEGIN:DAYLIGHT
TZOFFSETFROM:-0500
TZOFFSETTO:-0400
TZNAME:EDT
DTSTART:20270314T070000
END:DAYLIGHT
BEGIN:STANDARD
TZOFFSETFROM:-0400
TZOFFSETTO:-0500
TZNAME:EST
DTSTART:20271107T060000
END:STANDARD
END:VTIMEZONE
BEGIN:VEVENT
DTSTART;TZID=America/New_York:20261104T130000
DTEND;TZID=America/New_York:20261104T140000
DTSTAMP:20260421T154605
CREATED:20260327T140245Z
LAST-MODIFIED:20260327T140402Z
UID:10001597-1793797200-1793800800@shelteringarmsinstitute.com
SUMMARY:Tips to Maximize Insurance Benefits and Get Your Best Outcome
DESCRIPTION:When: Wednesday\, November 4 from 1-2 p.m. \nWhere: In person at Sheltering Arms Institute’s Main Campus (2000 Wilkes Ridge Dr. Henrico\, VA 23233) or virtually via Microsoft Teams \n  \nLearning Objectives: \n\nWhat to expect from my physical therapy insurance benefits\nTips to boost the effectiveness of your physical therapy sessions\nHow to stretch physical therapy insurance benefits with our community fitness programs\n\n  \nQuestions? Email community.engagement@sai.rehab or call (804) 578-6532. \n  \nRegister with the form below:
URL:https://shelteringarmsinstitute.com/event/tips-to-maximize-insurance-benefits-and-get-your-best-outcome-2/
LOCATION:Sheltering Arms Institute\, 2000 Wilkes Ridge Drive\, Richmond\, VA\, 23233\, United States
ATTACH;FMTTYPE=image/jpeg:https://shelteringarmsinstitute.com/wp-content/uploads/2024/01/EmpowerU-landing-page-header-scaled.jpg
END:VEVENT
END:VCALENDAR