BEGIN:VCALENDAR
VERSION:2.0
PRODID:-//Sheltering Arms Institute - ECPv6.15.19//NONSGML v1.0//EN
CALSCALE:GREGORIAN
METHOD:PUBLISH
X-WR-CALNAME:Sheltering Arms Institute
X-ORIGINAL-URL:https://shelteringarmsinstitute.com
X-WR-CALDESC:Events for Sheltering Arms Institute
REFRESH-INTERVAL;VALUE=DURATION:PT1H
X-Robots-Tag:noindex
X-PUBLISHED-TTL:PT1H
BEGIN:VTIMEZONE
TZID:America/New_York
BEGIN:DAYLIGHT
TZOFFSETFROM:-0500
TZOFFSETTO:-0400
TZNAME:EDT
DTSTART:20190310T070000
END:DAYLIGHT
BEGIN:STANDARD
TZOFFSETFROM:-0400
TZOFFSETTO:-0500
TZNAME:EST
DTSTART:20191103T060000
END:STANDARD
BEGIN:DAYLIGHT
TZOFFSETFROM:-0500
TZOFFSETTO:-0400
TZNAME:EDT
DTSTART:20200308T070000
END:DAYLIGHT
BEGIN:STANDARD
TZOFFSETFROM:-0400
TZOFFSETTO:-0500
TZNAME:EST
DTSTART:20201101T060000
END:STANDARD
BEGIN:DAYLIGHT
TZOFFSETFROM:-0500
TZOFFSETTO:-0400
TZNAME:EDT
DTSTART:20210314T070000
END:DAYLIGHT
BEGIN:STANDARD
TZOFFSETFROM:-0400
TZOFFSETTO:-0500
TZNAME:EST
DTSTART:20211107T060000
END:STANDARD
BEGIN:DAYLIGHT
TZOFFSETFROM:-0500
TZOFFSETTO:-0400
TZNAME:EDT
DTSTART:20220313T070000
END:DAYLIGHT
BEGIN:STANDARD
TZOFFSETFROM:-0400
TZOFFSETTO:-0500
TZNAME:EST
DTSTART:20221106T060000
END:STANDARD
END:VTIMEZONE
BEGIN:VEVENT
DTSTART;TZID=America/New_York:20211021T100000
DTEND;TZID=America/New_York:20211021T104500
DTSTAMP:20260421T191823
CREATED:20210909T150403Z
LAST-MODIFIED:20211019T191005Z
UID:10000014-1634810400-1634813100@shelteringarmsinstitute.com
SUMMARY:Staying Engaged in Life
DESCRIPTION:A Virtual Event for Discharged Patients \nJoin our Recreational Therapists to learn: \n\nWhy leisure is important\nStrategies for staying engaged in leisure \nAdaptive recreation equipment options\nLeisure resources in your community\n\nSign up below to gain access to meeting links and details. \n\n\n \nAre you having trouble viewing the form fill to register? If so\, click here.
URL:https://shelteringarmsinstitute.com/event/staying-engaged-in-life/
LOCATION:VA
END:VEVENT
BEGIN:VEVENT
DTSTART;TZID=America/New_York:20210715T160000
DTEND;TZID=America/New_York:20210715T200000
DTSTAMP:20260421T191823
CREATED:20210630T181452Z
LAST-MODIFIED:20210701T172743Z
UID:10000015-1626364800-1626379200@shelteringarmsinstitute.com
SUMMARY:Nursing Career Fair
DESCRIPTION:We are looking for registered nurses and nursing techs! Sheltering Arms Institute is expanding our team and seeking out skilled\, dedicated nurses. Join us Thursday\, July 15 from 4-8 p.m. for a nursing career fair at Sheltering Arms Institute. To attend this free event\, please register below! \nWe are also hosting a nursing career fair Tuesday\, July 13 from 7-11 a.m. for those who can not make the career fair above. Click here\, to register for the morning career fair on Tuesday\, July 13th. \nRegister Now\n  \nNurses are a Crucial Part of the Care Team\nInpatient rehab is an intensive\, multi-disciplinary approach to recovery from injury and illness that helps patients maximize their ability to get back to life and enjoy the things they love. \nOur new\, 114-bed hospital is conveniently located at Route 288 and West Broad Street. \nOur Nursing team members enjoy:  \n\nFour units to choose from: stroke\, brain injury\, spinal cord injury and general rehab.\nPatient lifts in every unit. \nBody-weight support gait training systems in every unit. \nAdvanced rehabilitation technologies that help improve patient outcomes.\n\nIf you are a licensed RN or Nurse Tech in good standing\, come join our team as we reinvent rehabilitation! \n*The is a $100 gift card raffle for attendees at each job fair! \n\nWant to start the application process now? Click apply now below!\n \nApply Now \n\nNursing Career Fair Registration (Required)\n\n\n \nAre you having trouble viewing the registration form? Click Here!
URL:https://shelteringarmsinstitute.com/event/nursing-career-fair-2/
LOCATION:Sheltering Arms Institute\, 2000 Wilkes Ridge Drive\, Richmond\, VA\, 23233\, United States
ORGANIZER;CN="Stephanie Anderson":MAILTO:sanderson@shelteringarms.com
END:VEVENT
BEGIN:VEVENT
DTSTART;TZID=America/New_York:20210713T070000
DTEND;TZID=America/New_York:20210713T110000
DTSTAMP:20260421T191823
CREATED:20210630T181130Z
LAST-MODIFIED:20210701T172701Z
UID:10000016-1626159600-1626174000@shelteringarmsinstitute.com
SUMMARY:Nursing Career Fair
DESCRIPTION:We are looking for registered nurses and nursing techs! Sheltering Arms Institute is expanding our team and seeking out skilled\, dedicated nurses. Join us Tuesday\, July 13 from 7-11 a.m. for a nursing career fair at Sheltering Arms Institute. To attend this free event\, please register below! \nWe are also hosting a nursing career fair Thursday\, July 15 from 4-8 p.m. for those who can not make the career fair above. Click here\, to register for the evening career fair on Thursday\, July 15th. \nRegister Now\n  \nNurses are a Crucial Part of the Care Team\nInpatient rehab is an intensive\, multi-disciplinary approach to recovery from injury and illness that helps patients maximize their ability to get back to life and enjoy the things they love. \nOur new\, 114-bed hospital is conveniently located at Route 288 and West Broad Street. \nOur Nursing team members enjoy:  \n\nFour units to choose from: stroke\, brain injury\, spinal cord injury and general rehab.\nPatient lifts in every unit. \nBody-weight support gait training systems in every unit. \nAdvanced rehabilitation technologies that help improve patient outcomes.\n\nIf you are a licensed RN or Nurse Tech in good standing\, come join our team as we reinvent rehabilitation! \n*The is a $100 gift card raffle for attendees at each job fair! \n\nWant to start the application process now? Click apply now below!\n \nApply Now \n\nNursing Career Fair Registration (Required)\n\n\n \nAre you having trouble viewing the registration form? Click Here!
URL:https://shelteringarmsinstitute.com/event/nursing-career-fair/
LOCATION:Sheltering Arms Institute\, 2000 Wilkes Ridge Drive\, Richmond\, VA\, 23233\, United States
ORGANIZER;CN="Stephanie Anderson":MAILTO:sanderson@shelteringarms.com
END:VEVENT
BEGIN:VEVENT
DTSTART;TZID=America/New_York:20210623T130000
DTEND;TZID=America/New_York:20210623T140000
DTSTAMP:20260421T191823
CREATED:20210527T174836Z
LAST-MODIFIED:20210527T183708Z
UID:10000018-1624453200-1624456800@shelteringarmsinstitute.com
SUMMARY:What Comes Next After Brain Injury?
DESCRIPTION:A Virtual Event for Discharged Patients\nBy: Debra Holloway\, Education Manager for the Brain Injury Association of Virginia (BIAV)  \nSign up below to gain access to meeting links and details. \n\n\n \nJoin Debra Holloway\, Education Manager for the Brain Injury Association of Virginia (BIAV) for an exploration of what comes next after brain injury for families and caregivers after their loved one returns home. \nWe will provide a quick overview of our programs and services\, including our new Support Network. We will discuss ways the family support system can encourage independence safely\, cope with changes\, and make time for self-care. \nObjectives: \n\nUnderstand how the Brain Injury Association of Virginia can support you and your family.\nLearn strategies to deal with change and how important it is for families to take care of themselves so they can be at their best to support their loved ones.
URL:https://shelteringarmsinstitute.com/event/what-comes-next-after-brain-injury/
LOCATION:VA
END:VEVENT
BEGIN:VEVENT
DTSTART;TZID=America/New_York:20210623T100000
DTEND;TZID=America/New_York:20210623T110000
DTSTAMP:20260421T191823
CREATED:20210527T174538Z
LAST-MODIFIED:20210527T183701Z
UID:10000020-1624442400-1624446000@shelteringarmsinstitute.com
SUMMARY:Managing Cognitive Changes After a Stroke
DESCRIPTION:A Virtual Event for Discharged Patients\nBy: Emory Roper\, M.Ed.\, CCC-SLP \nSign up below to gain access to meeting links and details. \n\n\n \nPresentation topics: \n\nHow can a stroke impact my thinking?\nStrategies to manage changes in thinking and memory\nFun ways to keep your brain active
URL:https://shelteringarmsinstitute.com/event/managing-cognitive-changes-after-stroke/
LOCATION:VA
END:VEVENT
BEGIN:VEVENT
DTSTART;TZID=America/New_York:20210622T130000
DTEND;TZID=America/New_York:20210622T140000
DTSTAMP:20260421T191823
CREATED:20210527T174542Z
LAST-MODIFIED:20210527T184403Z
UID:10000019-1624366800-1624370400@shelteringarmsinstitute.com
SUMMARY:Health & Fitness After SCI
DESCRIPTION:A Virtual Event for Discharged Patients\nBy: Lisa Critz\, PT\, DPT\, NCS \nSign up below to gain access to meeting links and details. \n\n\n \nObjectives: \n\nUnderstand health complications that may arise with spinal cord injury\nNutritional recommendations\nTypes of exercise & frequency recommendations
URL:https://shelteringarmsinstitute.com/event/health-fitness-after-sci/
LOCATION:VA
END:VEVENT
BEGIN:VEVENT
DTSTART;TZID=America/New_York:20210622T100000
DTEND;TZID=America/New_York:20210622T110000
DTSTAMP:20260421T191823
CREATED:20210527T173813Z
LAST-MODIFIED:20210527T183643Z
UID:10000002-1624356000-1624359600@shelteringarmsinstitute.com
SUMMARY:Thriving with a Prothesis
DESCRIPTION:A Virtual Event for Discharged Patients\nBy: Amanda Lyons PT\, DPT\, NCS \nSign up below to gain access to meeting links and details. \n\n\n \nLearn About: \n\nK levels\nProsthetic components\nTroubleshooting gait impairments with prosthetics\nNew Amputee Support Group\nRecreational opportunities for amputees
URL:https://shelteringarmsinstitute.com/event/thriving-with-a-prothesis/
LOCATION:VA
END:VEVENT
BEGIN:VEVENT
DTSTART;TZID=America/New_York:20210610T120000
DTEND;TZID=America/New_York:20210610T120500
DTSTAMP:20260421T191823
CREATED:20210602T152442Z
LAST-MODIFIED:20210604T143400Z
UID:10000017-1623326400-1623326700@shelteringarmsinstitute.com
SUMMARY:Birthday Celebration for Sheltering Arms Institute
DESCRIPTION:Join us for a quick birthday celebration on June 10\, 2021\, at 12 p.m.  \nTo view the live event\, please visit https://fb.me/e/1ASfsUpVP \nIf you want to be notified through Facebook\, follow the link above then click the ‘going’ button on the actual Facebook event page. Make sure to invite any friends that might be interested! \nIf you would like to add this to your Google\, Outlook\, or Apple calendar\, click one of the links below.
URL:https://shelteringarmsinstitute.com/event/birthday-celebration-2021/
LOCATION:VA
END:VEVENT
BEGIN:VEVENT
DTSTART;TZID=America/New_York:20210317T130000
DTEND;TZID=America/New_York:20210317T140000
DTSTAMP:20260421T191823
CREATED:20210223T142241Z
LAST-MODIFIED:20210302T190557Z
UID:10000003-1615986000-1615989600@shelteringarmsinstitute.com
SUMMARY:Work Out While Staying In
DESCRIPTION:A Virtual Event for Discharged Patients\nBy: Kaitlin Sullivan\, MSOT\, OTR/L – OT Clinical Leader & Katie St. Clair\, PT\, DPT\, NCS\, CBIS – Physical Therapist \nPlease fill out the form below to register and to receive virtual event contact information:\n\n\n \nPresentation topics include: \n\nLearn seated exercises to do at home\nLearn how to use household items to get a great seated workout\nLearn how these exercises can improve your daily life
URL:https://shelteringarmsinstitute.com/event/workout/
LOCATION:VA
END:VEVENT
BEGIN:VEVENT
DTSTART;TZID=America/New_York:20210317T100000
DTEND;TZID=America/New_York:20210317T110000
DTSTAMP:20260421T191823
CREATED:20210223T140251Z
LAST-MODIFIED:20210302T190433Z
UID:10000004-1615975200-1615978800@shelteringarmsinstitute.com
SUMMARY:Promoting Health & Fitness Post Stroke
DESCRIPTION:A Virtual Event for Discharged Patients\nBy: Logan Shuping\, PT\, DPT\, NCS – PT Clinical Leader \nPlease fill out the form below to register and to receive virtual event contact information:\n\n\n \nPresentation Topics:  \n\nReview exercise guidelines\nDescribe safe methods to exercise after stroke\nResources to promote fitness
URL:https://shelteringarmsinstitute.com/event/promoting-health/
LOCATION:VA
END:VEVENT
BEGIN:VEVENT
DTSTART;TZID=America/New_York:20210316T130000
DTEND;TZID=America/New_York:20210316T140000
DTSTAMP:20260421T191823
CREATED:20210223T131250Z
LAST-MODIFIED:20210223T131250Z
UID:10000005-1615899600-1615903200@shelteringarmsinstitute.com
SUMMARY:Living with SCI: There’s an App for That
DESCRIPTION:A Virtual Event for Discharged Patients\nBy: Robert Weisbeck\, PT\, DPT\, NCS – PT Clinical Leader  \nPlease fill out the form below to register and to receive virtual event contact information: \n\n\n \nLearn about apps that can promote improved independence and quality of life \nQuestions? Unable to attend but would like a recording of the event?\nContact Alison Clarke at (804) 578-6532 or alison.clarke@sai.rehab
URL:https://shelteringarmsinstitute.com/event/living-with-sci/
LOCATION:VA
END:VEVENT
BEGIN:VEVENT
DTSTART;TZID=America/New_York:20210316T100000
DTEND;TZID=America/New_York:20210316T110000
DTSTAMP:20260421T191823
CREATED:20210222T220914Z
LAST-MODIFIED:20210223T130907Z
UID:10000006-1615888800-1615892400@shelteringarmsinstitute.com
SUMMARY:Energy Conservation and Home Safety After Amputation
DESCRIPTION:A Virtual Event for Discharged Patients \nBy: Chris Andersen\, OTR/L – Clinical Lead Multi-Specialty Unit \nPlease fill out the form below to register and to receive virtual event contact information: \n\n\n \nPresentation Topics:  \n\nTo explain the importance of energy conservation\nTo define the 4 Ps: Prioritize\, Plan\, Pace and Problem-Solve\nTo increase awareness of potential safety hazards within the home setting\n\nQuestions? Unable to attend but would like a recording of the event?\nContact Alison Clarke at (804) 578-6532 or alison.clarke@sai.rehab
URL:https://shelteringarmsinstitute.com/event/energy-conservation/
LOCATION:VA
END:VEVENT
BEGIN:VEVENT
DTSTART;TZID=America/New_York:20201217T130000
DTEND;TZID=America/New_York:20201217T140000
DTSTAMP:20260421T191823
CREATED:20201111T181004Z
LAST-MODIFIED:20201111T184249Z
UID:10000010-1608210000-1608213600@shelteringarmsinstitute.com
SUMMARY:Enhancing Resilience During Uncertain Times
DESCRIPTION:By: Savannah Britt\, CTRS and Mark C. Bender\, PhD\, LCP \nPlease fill out the form below to register and to receive virtual event contact information: \n\n\n \nPresentation Topics: \n\nLearn how to stay connected while feeling isolated\nStrategies to manage emotional distress\nPracticing positive self-care
URL:https://shelteringarmsinstitute.com/event/resilience/
LOCATION:VA
CATEGORIES:Community Transition
END:VEVENT
BEGIN:VEVENT
DTSTART;TZID=America/New_York:20201217T100000
DTEND;TZID=America/New_York:20201217T110000
DTSTAMP:20260421T191823
CREATED:20201111T193538Z
LAST-MODIFIED:20201111T193538Z
UID:10000007-1608199200-1608202800@shelteringarmsinstitute.com
SUMMARY:Home Safety & Modifications
DESCRIPTION:By: Molly Shriver\, MOT\, OTR/L\, CBIS\, CSRS \nPlease fill out the form below to register and to receive virtual event contact information: \n\n\n \nPresentation Topics:  \n\nHome Modifications\nTips for Daily Living\nEmergency Preparedness and Resources
URL:https://shelteringarmsinstitute.com/event/home-safety-modifications/
LOCATION:VA
CATEGORIES:Community Transition
END:VEVENT
BEGIN:VEVENT
DTSTART;TZID=America/New_York:20201216T130000
DTEND;TZID=America/New_York:20201216T140000
DTSTAMP:20260421T191823
CREATED:20201111T185719Z
LAST-MODIFIED:20201111T185719Z
UID:10000008-1608123600-1608127200@shelteringarmsinstitute.com
SUMMARY:Bowel/Bladder & Skin Integrity
DESCRIPTION:By: Ben Kiesler\, OTR/L \nPlease fill out the form below to register and to receive virtual event contact information:\n\n\n \nPresentation Topics:  \n\nStrategies to protect or heal skin\nWhy is a bowel program so important?\nHow is toileting and skin integrity related?
URL:https://shelteringarmsinstitute.com/event/bowel-bladder/
LOCATION:VA
CATEGORIES:Community Transition
END:VEVENT
BEGIN:VEVENT
DTSTART;TZID=America/New_York:20201216T100000
DTEND;TZID=America/New_York:20201216T110000
DTSTAMP:20260421T191823
CREATED:20201111T185058Z
LAST-MODIFIED:20201111T185234Z
UID:10000009-1608112800-1608116400@shelteringarmsinstitute.com
SUMMARY:Lifelong Activity After Amputation
DESCRIPTION:By: Brandon Smith\, PT\, DPT\nBoard Certified Geriatric Clinical Specialist and Certified Exercise Expert for Aging Adults \nPlease fill out the form below to register and to receive virtual event contact information: \n\n\n \nPresentation Topics:  \n\nWhat activities are important to age optimally? \nWhy do I need to exercise post-amputation?\nStrategies for implementing an exercise program in the home and community
URL:https://shelteringarmsinstitute.com/event/lifelong-activity/
LOCATION:VA
CATEGORIES:Community Transition
END:VEVENT
BEGIN:VEVENT
DTSTART;TZID=America/New_York:20200604T120000
DTEND;TZID=America/New_York:20200604T123000
DTSTAMP:20260421T191823
CREATED:20200505T222718Z
LAST-MODIFIED:20200625T182102Z
UID:10000055-1591272000-1591273800@shelteringarmsinstitute.com
SUMMARY:Virtual Ribbon-Cutting Ceremony
DESCRIPTION:Watch on Facebook\n \n**Fast forward to 8:40 to watch the ceremony.** \n \n \nYou’re invited to our live ribbon-cutting event on 6/4/2020 at 12 p.m. \nOn the day of the event\, we will host a live video feed on this page ( shelteringarmsinstitute.com/event/ribbon-cutting/ ). \nOr watch the Virtual Ribbon Cutting Ceremony on Our Facebook Page. Be sure to click the “Get Reminder”\, so you will be notified when the ceremony starts and to receive the FB Live link.
URL:https://shelteringarmsinstitute.com/event/ribbon-cutting/
LOCATION:VA
ORGANIZER;CN="Marketing/Public Relations":MAILTO:info@shelteringarms.com
END:VEVENT
END:VCALENDAR