BEGIN:VCALENDAR
VERSION:2.0
PRODID:-//Sheltering Arms Institute - ECPv6.15.19//NONSGML v1.0//EN
CALSCALE:GREGORIAN
METHOD:PUBLISH
X-ORIGINAL-URL:https://shelteringarmsinstitute.com
X-WR-CALDESC:Events for Sheltering Arms Institute
REFRESH-INTERVAL;VALUE=DURATION:PT1H
X-Robots-Tag:noindex
X-PUBLISHED-TTL:PT1H
BEGIN:VTIMEZONE
TZID:America/New_York
BEGIN:DAYLIGHT
TZOFFSETFROM:-0500
TZOFFSETTO:-0400
TZNAME:EDT
DTSTART:20220313T070000
END:DAYLIGHT
BEGIN:STANDARD
TZOFFSETFROM:-0400
TZOFFSETTO:-0500
TZNAME:EST
DTSTART:20221106T060000
END:STANDARD
BEGIN:DAYLIGHT
TZOFFSETFROM:-0500
TZOFFSETTO:-0400
TZNAME:EDT
DTSTART:20230312T070000
END:DAYLIGHT
BEGIN:STANDARD
TZOFFSETFROM:-0400
TZOFFSETTO:-0500
TZNAME:EST
DTSTART:20231105T060000
END:STANDARD
BEGIN:DAYLIGHT
TZOFFSETFROM:-0500
TZOFFSETTO:-0400
TZNAME:EDT
DTSTART:20240310T070000
END:DAYLIGHT
BEGIN:STANDARD
TZOFFSETFROM:-0400
TZOFFSETTO:-0500
TZNAME:EST
DTSTART:20241103T060000
END:STANDARD
END:VTIMEZONE
BEGIN:VEVENT
DTSTART;TZID=America/New_York:20230301T110000
DTEND;TZID=America/New_York:20230301T120000
DTSTAMP:20260424T013916
CREATED:20230206T213657Z
LAST-MODIFIED:20250721T183623Z
UID:10000021-1677668400-1677672000@shelteringarmsinstitute.com
SUMMARY:Support Group for Limb Loss and Limb Difference
DESCRIPTION:Monthly Support Group\n\n\n\n\nFirst Wednesday of Each Month 11 a.m. – 12 p.m.\n\n\n\n\nSheltering Arms Institute connects patients with a support group for a safe and supportive environment for individuals living with limb loss or limb difference. Support groups provide members the opportunity to express their feelings\, learn helpful information\, improve social skills\, and realize they are not alone. \n\n\n\nLocation:\nJoin us virtually or in person at:\n\n\n\n\nSheltering Arms Institute\n2000 Wilkes Ridge Drive\nRichmond\, VA 23233 \n\n\nTo Register:\n\n\n\n\nTo RSVP\, please fill out the form below.\n\n\n\n\n\n\nQuestions? Contact Anna O’Hara\, OTD\, OTR/L\, at anna.ohara@sai.rehab.\n\n\n 
URL:https://shelteringarmsinstitute.com/event/support-group-for-limb-loss-and-limb-difference/2023-03-01/
LOCATION:Sheltering Arms Institute\, 2000 Wilkes Ridge Drive\, Richmond\, VA\, 23233\, United States
CATEGORIES:SAI Community Event
ATTACH;FMTTYPE=image/jpeg:https://shelteringarmsinstitute.com/wp-content/uploads/2023/02/Amputation-support-group-Banner.jpg
END:VEVENT
BEGIN:VEVENT
DTSTART;TZID=America/New_York:20230301T130000
DTEND;TZID=America/New_York:20230301T150000
DTSTAMP:20260424T013916
CREATED:20230126T003623Z
LAST-MODIFIED:20240301T182854Z
UID:10000065-1677675600-1677682800@shelteringarmsinstitute.com
SUMMARY:Walk-In Wednesdays
DESCRIPTION:Come meet our nurse managers\, learn more about our current nursing job openings and have the\nchance to interview on the spot! This is a chance to get a guided tour of our state-of-the-art facility. \nDon’t miss out on this chance to start your career with us! \nNo appointments necessary\, just walk in and our staff will be ready to greet you at the front desk.\nIf you are not able to attend on Wednesday\, call\, text\, or email Elyse Hunsicker with a day and\ntime that works best with your schedule. \nWhen: \nEvery Wednesday 1-3pm \nWhere: \n2000 Wilkes Ridge Dr.\, Richmond\, VA 23233 \nGet in Touch:  \nContact Elyse Hunsicker:\nPhone: (804) 837-5233\nEmail: Elyse.Hunsicker@sai.rehab \nFeel free to contact us through the form below: \n 
URL:https://shelteringarmsinstitute.com/event/walk-in-wednesdays/2023-03-01/
LOCATION:Sheltering Arms Institute\, 2000 Wilkes Ridge Drive\, Richmond\, VA\, 23233\, United States
CATEGORIES:Nursing
ATTACH;FMTTYPE=image/jpeg:https://shelteringarmsinstitute.com/wp-content/uploads/2023/01/Walk-in-wednesday-web-banner-copy-1.jpg
END:VEVENT
BEGIN:VEVENT
DTSTART;TZID=America/New_York:20230308T130000
DTEND;TZID=America/New_York:20230308T150000
DTSTAMP:20260424T013916
CREATED:20230126T003623Z
LAST-MODIFIED:20240301T182854Z
UID:10000066-1678280400-1678287600@shelteringarmsinstitute.com
SUMMARY:Walk-In Wednesdays
DESCRIPTION:Come meet our nurse managers\, learn more about our current nursing job openings and have the\nchance to interview on the spot! This is a chance to get a guided tour of our state-of-the-art facility. \nDon’t miss out on this chance to start your career with us! \nNo appointments necessary\, just walk in and our staff will be ready to greet you at the front desk.\nIf you are not able to attend on Wednesday\, call\, text\, or email Elyse Hunsicker with a day and\ntime that works best with your schedule. \nWhen: \nEvery Wednesday 1-3pm \nWhere: \n2000 Wilkes Ridge Dr.\, Richmond\, VA 23233 \nGet in Touch:  \nContact Elyse Hunsicker:\nPhone: (804) 837-5233\nEmail: Elyse.Hunsicker@sai.rehab \nFeel free to contact us through the form below: \n 
URL:https://shelteringarmsinstitute.com/event/walk-in-wednesdays/2023-03-08/
LOCATION:Sheltering Arms Institute\, 2000 Wilkes Ridge Drive\, Richmond\, VA\, 23233\, United States
CATEGORIES:Nursing
ATTACH;FMTTYPE=image/jpeg:https://shelteringarmsinstitute.com/wp-content/uploads/2023/01/Walk-in-wednesday-web-banner-copy-1.jpg
END:VEVENT
BEGIN:VEVENT
DTSTART;TZID=America/New_York:20230314T140000
DTEND;TZID=America/New_York:20230314T144500
DTSTAMP:20260424T013916
CREATED:20230216T192105Z
LAST-MODIFIED:20230216T211748Z
UID:10000011-1678802400-1678805100@shelteringarmsinstitute.com
SUMMARY:Navigating Follow-Up Medical Care
DESCRIPTION:Please join us for our community transition event: Navigating Follow-up Medical Care \nWhen: \nTuesday\, March 14th 2-2:45pm \nWhere: \nIn Person: \nSheltering Arms Institute \n2000 Wilkes Ridge Drive \nRichmond\, VA 23233 \nOr Virtually \nSuccessfully navigating follow-up medical appointments is a critical part to your continued recovery and well-being. Join us in learning some practical strategies to maximize your communication and follow up visits with your medical team. \nPARTICIPANTS WILL UNDERSTAND: \n• Importance of follow up medical care in recovery\n• Preparing for your doctor’s visit\n• Strategies for successful visits\n• Communication tips\n• Technology assistance \nWe look forward to meeting you! \nTo register\, please RSVP below!
URL:https://shelteringarmsinstitute.com/event/navigating-follow-up-medical-care/
LOCATION:Sheltering Arms Institute\, 2000 Wilkes Ridge Drive\, Richmond\, VA\, 23233\, United States
ATTACH;FMTTYPE=image/jpeg:https://shelteringarmsinstitute.com/wp-content/uploads/2023/02/Navigating-Follow-up-Care-Web-banner.jpg
END:VEVENT
BEGIN:VEVENT
DTSTART;TZID=America/New_York:20230315T130000
DTEND;TZID=America/New_York:20230315T150000
DTSTAMP:20260424T013916
CREATED:20230126T003623Z
LAST-MODIFIED:20240301T182854Z
UID:10000067-1678885200-1678892400@shelteringarmsinstitute.com
SUMMARY:Walk-In Wednesdays
DESCRIPTION:Come meet our nurse managers\, learn more about our current nursing job openings and have the\nchance to interview on the spot! This is a chance to get a guided tour of our state-of-the-art facility. \nDon’t miss out on this chance to start your career with us! \nNo appointments necessary\, just walk in and our staff will be ready to greet you at the front desk.\nIf you are not able to attend on Wednesday\, call\, text\, or email Elyse Hunsicker with a day and\ntime that works best with your schedule. \nWhen: \nEvery Wednesday 1-3pm \nWhere: \n2000 Wilkes Ridge Dr.\, Richmond\, VA 23233 \nGet in Touch:  \nContact Elyse Hunsicker:\nPhone: (804) 837-5233\nEmail: Elyse.Hunsicker@sai.rehab \nFeel free to contact us through the form below: \n 
URL:https://shelteringarmsinstitute.com/event/walk-in-wednesdays/2023-03-15/
LOCATION:Sheltering Arms Institute\, 2000 Wilkes Ridge Drive\, Richmond\, VA\, 23233\, United States
CATEGORIES:Nursing
ATTACH;FMTTYPE=image/jpeg:https://shelteringarmsinstitute.com/wp-content/uploads/2023/01/Walk-in-wednesday-web-banner-copy-1.jpg
END:VEVENT
BEGIN:VEVENT
DTSTART;TZID=America/New_York:20230322T130000
DTEND;TZID=America/New_York:20230322T150000
DTSTAMP:20260424T013916
CREATED:20230126T003623Z
LAST-MODIFIED:20240301T182854Z
UID:10000068-1679490000-1679497200@shelteringarmsinstitute.com
SUMMARY:Walk-In Wednesdays
DESCRIPTION:Come meet our nurse managers\, learn more about our current nursing job openings and have the\nchance to interview on the spot! This is a chance to get a guided tour of our state-of-the-art facility. \nDon’t miss out on this chance to start your career with us! \nNo appointments necessary\, just walk in and our staff will be ready to greet you at the front desk.\nIf you are not able to attend on Wednesday\, call\, text\, or email Elyse Hunsicker with a day and\ntime that works best with your schedule. \nWhen: \nEvery Wednesday 1-3pm \nWhere: \n2000 Wilkes Ridge Dr.\, Richmond\, VA 23233 \nGet in Touch:  \nContact Elyse Hunsicker:\nPhone: (804) 837-5233\nEmail: Elyse.Hunsicker@sai.rehab \nFeel free to contact us through the form below: \n 
URL:https://shelteringarmsinstitute.com/event/walk-in-wednesdays/2023-03-22/
LOCATION:Sheltering Arms Institute\, 2000 Wilkes Ridge Drive\, Richmond\, VA\, 23233\, United States
CATEGORIES:Nursing
ATTACH;FMTTYPE=image/jpeg:https://shelteringarmsinstitute.com/wp-content/uploads/2023/01/Walk-in-wednesday-web-banner-copy-1.jpg
END:VEVENT
BEGIN:VEVENT
DTSTART;TZID=America/New_York:20230329T130000
DTEND;TZID=America/New_York:20230329T150000
DTSTAMP:20260424T013916
CREATED:20230126T003623Z
LAST-MODIFIED:20240301T182854Z
UID:10000069-1680094800-1680102000@shelteringarmsinstitute.com
SUMMARY:Walk-In Wednesdays
DESCRIPTION:Come meet our nurse managers\, learn more about our current nursing job openings and have the\nchance to interview on the spot! This is a chance to get a guided tour of our state-of-the-art facility. \nDon’t miss out on this chance to start your career with us! \nNo appointments necessary\, just walk in and our staff will be ready to greet you at the front desk.\nIf you are not able to attend on Wednesday\, call\, text\, or email Elyse Hunsicker with a day and\ntime that works best with your schedule. \nWhen: \nEvery Wednesday 1-3pm \nWhere: \n2000 Wilkes Ridge Dr.\, Richmond\, VA 23233 \nGet in Touch:  \nContact Elyse Hunsicker:\nPhone: (804) 837-5233\nEmail: Elyse.Hunsicker@sai.rehab \nFeel free to contact us through the form below: \n 
URL:https://shelteringarmsinstitute.com/event/walk-in-wednesdays/2023-03-29/
LOCATION:Sheltering Arms Institute\, 2000 Wilkes Ridge Drive\, Richmond\, VA\, 23233\, United States
CATEGORIES:Nursing
ATTACH;FMTTYPE=image/jpeg:https://shelteringarmsinstitute.com/wp-content/uploads/2023/01/Walk-in-wednesday-web-banner-copy-1.jpg
END:VEVENT
BEGIN:VEVENT
DTSTART;TZID=America/New_York:20230329T180000
DTEND;TZID=America/New_York:20230329T180000
DTSTAMP:20260424T013916
CREATED:20230125T163407Z
LAST-MODIFIED:20230310T154421Z
UID:10000061-1680112800-1680112800@shelteringarmsinstitute.com
SUMMARY:P2O: 13th Sheltering Arms Power to Overcome Celebration
DESCRIPTION:Please join us for our P2O Gala!\n\nWhen:\n\nWednesday\, March 29th\, 2023  6pm Cocktail Hour  7 p.m. Dinner & Program\n\nWhere:\n\nHilton Short Pump Hotel\n\n12042 W. Broad St. \n\nHenrico\, VA 23233\n\nJoin us for the 13th Sheltering Arms Power to Overcome Celebration\n\nBringing together patients with their loved ones\, care team\, and community members who helped them find their Power to Overcome and to live Life Beyond Limits.\n\n \nCLICK HERE TO RSVP
URL:https://shelteringarmsinstitute.com/event/p2o-13th-sheltering-arms-power-to-overcome-celebration/
CATEGORIES:SAI Community Event
ATTACH;FMTTYPE=image/png:https://shelteringarmsinstitute.com/wp-content/uploads/2023/01/P2O-Webpage-Banner.png
END:VEVENT
END:VCALENDAR