BEGIN:VCALENDAR
VERSION:2.0
PRODID:-//Sheltering Arms Institute - ECPv6.15.19//NONSGML v1.0//EN
CALSCALE:GREGORIAN
METHOD:PUBLISH
X-WR-CALNAME:Sheltering Arms Institute
X-ORIGINAL-URL:https://shelteringarmsinstitute.com
X-WR-CALDESC:Events for Sheltering Arms Institute
REFRESH-INTERVAL;VALUE=DURATION:PT1H
X-Robots-Tag:noindex
X-PUBLISHED-TTL:PT1H
BEGIN:VTIMEZONE
TZID:America/New_York
BEGIN:DAYLIGHT
TZOFFSETFROM:-0500
TZOFFSETTO:-0400
TZNAME:EDT
DTSTART:20220313T070000
END:DAYLIGHT
BEGIN:STANDARD
TZOFFSETFROM:-0400
TZOFFSETTO:-0500
TZNAME:EST
DTSTART:20221106T060000
END:STANDARD
BEGIN:DAYLIGHT
TZOFFSETFROM:-0500
TZOFFSETTO:-0400
TZNAME:EDT
DTSTART:20230312T070000
END:DAYLIGHT
BEGIN:STANDARD
TZOFFSETFROM:-0400
TZOFFSETTO:-0500
TZNAME:EST
DTSTART:20231105T060000
END:STANDARD
BEGIN:DAYLIGHT
TZOFFSETFROM:-0500
TZOFFSETTO:-0400
TZNAME:EDT
DTSTART:20240310T070000
END:DAYLIGHT
BEGIN:STANDARD
TZOFFSETFROM:-0400
TZOFFSETTO:-0500
TZNAME:EST
DTSTART:20241103T060000
END:STANDARD
END:VTIMEZONE
BEGIN:VEVENT
DTSTART;TZID=America/New_York:20231004T110000
DTEND;TZID=America/New_York:20231004T120000
DTSTAMP:20260423T130600
CREATED:20230206T213657Z
LAST-MODIFIED:20250721T183623Z
UID:10000028-1696417200-1696420800@shelteringarmsinstitute.com
SUMMARY:Support Group for Limb Loss and Limb Difference
DESCRIPTION:Monthly Support Group\n\n\n\n\nFirst Wednesday of Each Month 11 a.m. – 12 p.m.\n\n\n\n\nSheltering Arms Institute connects patients with a support group for a safe and supportive environment for individuals living with limb loss or limb difference. Support groups provide members the opportunity to express their feelings\, learn helpful information\, improve social skills\, and realize they are not alone. \n\n\n\nLocation:\nJoin us virtually or in person at:\n\n\n\n\nSheltering Arms Institute\n2000 Wilkes Ridge Drive\nRichmond\, VA 23233 \n\n\nTo Register:\n\n\n\n\nTo RSVP\, please fill out the form below.\n\n\n\n\n\n\nQuestions? Contact Anna O’Hara\, OTD\, OTR/L\, at anna.ohara@sai.rehab.\n\n\n 
URL:https://shelteringarmsinstitute.com/event/support-group-for-limb-loss-and-limb-difference/2023-10-04/
LOCATION:Sheltering Arms Institute\, 2000 Wilkes Ridge Drive\, Richmond\, VA\, 23233\, United States
CATEGORIES:SAI Community Event
ATTACH;FMTTYPE=image/jpeg:https://shelteringarmsinstitute.com/wp-content/uploads/2023/02/Amputation-support-group-Banner.jpg
END:VEVENT
BEGIN:VEVENT
DTSTART;TZID=America/New_York:20231004T130000
DTEND;TZID=America/New_York:20231004T150000
DTSTAMP:20260423T130600
CREATED:20230126T003623Z
LAST-MODIFIED:20240301T182854Z
UID:10000096-1696424400-1696431600@shelteringarmsinstitute.com
SUMMARY:Walk-In Wednesdays
DESCRIPTION:Come meet our nurse managers\, learn more about our current nursing job openings and have the\nchance to interview on the spot! This is a chance to get a guided tour of our state-of-the-art facility. \nDon’t miss out on this chance to start your career with us! \nNo appointments necessary\, just walk in and our staff will be ready to greet you at the front desk.\nIf you are not able to attend on Wednesday\, call\, text\, or email Elyse Hunsicker with a day and\ntime that works best with your schedule. \nWhen: \nEvery Wednesday 1-3pm \nWhere: \n2000 Wilkes Ridge Dr.\, Richmond\, VA 23233 \nGet in Touch:  \nContact Elyse Hunsicker:\nPhone: (804) 837-5233\nEmail: Elyse.Hunsicker@sai.rehab \nFeel free to contact us through the form below: \n 
URL:https://shelteringarmsinstitute.com/event/walk-in-wednesdays/2023-10-04/
LOCATION:Sheltering Arms Institute\, 2000 Wilkes Ridge Drive\, Richmond\, VA\, 23233\, United States
CATEGORIES:Nursing
ATTACH;FMTTYPE=image/jpeg:https://shelteringarmsinstitute.com/wp-content/uploads/2023/01/Walk-in-wednesday-web-banner-copy-1.jpg
END:VEVENT
BEGIN:VEVENT
DTSTART;VALUE=DATE:20231006
DTEND;VALUE=DATE:20231007
DTSTAMP:20260423T130600
CREATED:20230830T190300Z
LAST-MODIFIED:20231003T145430Z
UID:10000178-1696550400-1696636799@shelteringarmsinstitute.com
SUMMARY:John and Rosa Cifu Lecture at Sheltering Arms Institute's Research Symposium: Friday October 6th
DESCRIPTION:Agenda:  \n\n12:00 – 1:00 pm – Quality Improvement and Research Platform Presentations – SAI Room 1019\n3:00 – 4:30 pm – Cifu Lecture\, Presented by Dr. Flora Hammond\, MD: “Proactive  Management to Optimize Brain Injury Outcomes\,” – SAI Room 1019\n4:45 pm –  Poster Presentations – SAI Lobby or Bridge Garden\n5:30 pm – Reception – posters remain available for viewing\n6:15 – 6:30 pm –  Awards and Conclusion\n\nCLICK HERE FOR MORE INFORMATION ON THIS EVENT.\nRegistration required for this event.  \nTo RSVP\, please fill out the form below. \n**IN PERSON SEATING IS NOW FULL!! Seating available for the main Lecture is limited to 60 guests.  Television viewing will be available in adjacent overflow rooms. You can still register to attend virtually. A link to the live feed will be provided.**
URL:https://shelteringarmsinstitute.com/event/2nd-annual-research-symposium/
LOCATION:Sheltering Arms Institute\, 2000 Wilkes Ridge Drive\, Richmond\, VA\, 23233\, United States
CATEGORIES:SAI Community Event
END:VEVENT
BEGIN:VEVENT
DTSTART;TZID=America/New_York:20231011T130000
DTEND;TZID=America/New_York:20231011T150000
DTSTAMP:20260423T130600
CREATED:20230126T003623Z
LAST-MODIFIED:20240301T182854Z
UID:10000097-1697029200-1697036400@shelteringarmsinstitute.com
SUMMARY:Walk-In Wednesdays
DESCRIPTION:Come meet our nurse managers\, learn more about our current nursing job openings and have the\nchance to interview on the spot! This is a chance to get a guided tour of our state-of-the-art facility. \nDon’t miss out on this chance to start your career with us! \nNo appointments necessary\, just walk in and our staff will be ready to greet you at the front desk.\nIf you are not able to attend on Wednesday\, call\, text\, or email Elyse Hunsicker with a day and\ntime that works best with your schedule. \nWhen: \nEvery Wednesday 1-3pm \nWhere: \n2000 Wilkes Ridge Dr.\, Richmond\, VA 23233 \nGet in Touch:  \nContact Elyse Hunsicker:\nPhone: (804) 837-5233\nEmail: Elyse.Hunsicker@sai.rehab \nFeel free to contact us through the form below: \n 
URL:https://shelteringarmsinstitute.com/event/walk-in-wednesdays/2023-10-11/
LOCATION:Sheltering Arms Institute\, 2000 Wilkes Ridge Drive\, Richmond\, VA\, 23233\, United States
CATEGORIES:Nursing
ATTACH;FMTTYPE=image/jpeg:https://shelteringarmsinstitute.com/wp-content/uploads/2023/01/Walk-in-wednesday-web-banner-copy-1.jpg
END:VEVENT
BEGIN:VEVENT
DTSTART;TZID=America/New_York:20231018T130000
DTEND;TZID=America/New_York:20231018T150000
DTSTAMP:20260423T130600
CREATED:20230126T003623Z
LAST-MODIFIED:20240301T182854Z
UID:10000098-1697634000-1697641200@shelteringarmsinstitute.com
SUMMARY:Walk-In Wednesdays
DESCRIPTION:Come meet our nurse managers\, learn more about our current nursing job openings and have the\nchance to interview on the spot! This is a chance to get a guided tour of our state-of-the-art facility. \nDon’t miss out on this chance to start your career with us! \nNo appointments necessary\, just walk in and our staff will be ready to greet you at the front desk.\nIf you are not able to attend on Wednesday\, call\, text\, or email Elyse Hunsicker with a day and\ntime that works best with your schedule. \nWhen: \nEvery Wednesday 1-3pm \nWhere: \n2000 Wilkes Ridge Dr.\, Richmond\, VA 23233 \nGet in Touch:  \nContact Elyse Hunsicker:\nPhone: (804) 837-5233\nEmail: Elyse.Hunsicker@sai.rehab \nFeel free to contact us through the form below: \n 
URL:https://shelteringarmsinstitute.com/event/walk-in-wednesdays/2023-10-18/
LOCATION:Sheltering Arms Institute\, 2000 Wilkes Ridge Drive\, Richmond\, VA\, 23233\, United States
CATEGORIES:Nursing
ATTACH;FMTTYPE=image/jpeg:https://shelteringarmsinstitute.com/wp-content/uploads/2023/01/Walk-in-wednesday-web-banner-copy-1.jpg
END:VEVENT
BEGIN:VEVENT
DTSTART;TZID=America/New_York:20231025T130000
DTEND;TZID=America/New_York:20231025T150000
DTSTAMP:20260423T130600
CREATED:20230126T003623Z
LAST-MODIFIED:20240301T182854Z
UID:10000099-1698238800-1698246000@shelteringarmsinstitute.com
SUMMARY:Walk-In Wednesdays
DESCRIPTION:Come meet our nurse managers\, learn more about our current nursing job openings and have the\nchance to interview on the spot! This is a chance to get a guided tour of our state-of-the-art facility. \nDon’t miss out on this chance to start your career with us! \nNo appointments necessary\, just walk in and our staff will be ready to greet you at the front desk.\nIf you are not able to attend on Wednesday\, call\, text\, or email Elyse Hunsicker with a day and\ntime that works best with your schedule. \nWhen: \nEvery Wednesday 1-3pm \nWhere: \n2000 Wilkes Ridge Dr.\, Richmond\, VA 23233 \nGet in Touch:  \nContact Elyse Hunsicker:\nPhone: (804) 837-5233\nEmail: Elyse.Hunsicker@sai.rehab \nFeel free to contact us through the form below: \n 
URL:https://shelteringarmsinstitute.com/event/walk-in-wednesdays/2023-10-25/
LOCATION:Sheltering Arms Institute\, 2000 Wilkes Ridge Drive\, Richmond\, VA\, 23233\, United States
CATEGORIES:Nursing
ATTACH;FMTTYPE=image/jpeg:https://shelteringarmsinstitute.com/wp-content/uploads/2023/01/Walk-in-wednesday-web-banner-copy-1.jpg
END:VEVENT
END:VCALENDAR