BEGIN:VCALENDAR
VERSION:2.0
PRODID:-//Sheltering Arms Institute - ECPv6.15.19//NONSGML v1.0//EN
CALSCALE:GREGORIAN
METHOD:PUBLISH
X-ORIGINAL-URL:https://shelteringarmsinstitute.com
X-WR-CALDESC:Events for Sheltering Arms Institute
REFRESH-INTERVAL;VALUE=DURATION:PT1H
X-Robots-Tag:noindex
X-PUBLISHED-TTL:PT1H
BEGIN:VTIMEZONE
TZID:America/New_York
BEGIN:DAYLIGHT
TZOFFSETFROM:-0500
TZOFFSETTO:-0400
TZNAME:EDT
DTSTART:20230312T070000
END:DAYLIGHT
BEGIN:STANDARD
TZOFFSETFROM:-0400
TZOFFSETTO:-0500
TZNAME:EST
DTSTART:20231105T060000
END:STANDARD
BEGIN:DAYLIGHT
TZOFFSETFROM:-0500
TZOFFSETTO:-0400
TZNAME:EDT
DTSTART:20240310T070000
END:DAYLIGHT
BEGIN:STANDARD
TZOFFSETFROM:-0400
TZOFFSETTO:-0500
TZNAME:EST
DTSTART:20241103T060000
END:STANDARD
BEGIN:DAYLIGHT
TZOFFSETFROM:-0500
TZOFFSETTO:-0400
TZNAME:EDT
DTSTART:20250309T070000
END:DAYLIGHT
BEGIN:STANDARD
TZOFFSETFROM:-0400
TZOFFSETTO:-0500
TZNAME:EST
DTSTART:20251102T060000
END:STANDARD
END:VTIMEZONE
BEGIN:VEVENT
DTSTART;TZID=America/New_York:20240103T110000
DTEND;TZID=America/New_York:20240103T120000
DTSTAMP:20260423T074420
CREATED:20230206T213657Z
LAST-MODIFIED:20250721T183623Z
UID:10000031-1704279600-1704283200@shelteringarmsinstitute.com
SUMMARY:Support Group for Limb Loss and Limb Difference
DESCRIPTION:Monthly Support Group\n\n\n\n\nFirst Wednesday of Each Month 11 a.m. – 12 p.m.\n\n\n\n\nSheltering Arms Institute connects patients with a support group for a safe and supportive environment for individuals living with limb loss or limb difference. Support groups provide members the opportunity to express their feelings\, learn helpful information\, improve social skills\, and realize they are not alone. \n\n\n\nLocation:\nJoin us virtually or in person at:\n\n\n\n\nSheltering Arms Institute\n2000 Wilkes Ridge Drive\nRichmond\, VA 23233 \n\n\nTo Register:\n\n\n\n\nTo RSVP\, please fill out the form below.\n\n\n\n\n\n\nQuestions? Contact Anna O’Hara\, OTD\, OTR/L\, at anna.ohara@sai.rehab.\n\n\n 
URL:https://shelteringarmsinstitute.com/event/support-group-for-limb-loss-and-limb-difference/2024-01-03/
LOCATION:Sheltering Arms Institute\, 2000 Wilkes Ridge Drive\, Richmond\, VA\, 23233\, United States
CATEGORIES:SAI Community Event
ATTACH;FMTTYPE=image/jpeg:https://shelteringarmsinstitute.com/wp-content/uploads/2023/02/Amputation-support-group-Banner.jpg
END:VEVENT
BEGIN:VEVENT
DTSTART;TZID=America/New_York:20240103T130000
DTEND;TZID=America/New_York:20240103T150000
DTSTAMP:20260423T074420
CREATED:20230126T003623Z
LAST-MODIFIED:20240301T182854Z
UID:10000109-1704286800-1704294000@shelteringarmsinstitute.com
SUMMARY:Walk-In Wednesdays
DESCRIPTION:Come meet our nurse managers\, learn more about our current nursing job openings and have the\nchance to interview on the spot! This is a chance to get a guided tour of our state-of-the-art facility. \nDon’t miss out on this chance to start your career with us! \nNo appointments necessary\, just walk in and our staff will be ready to greet you at the front desk.\nIf you are not able to attend on Wednesday\, call\, text\, or email Elyse Hunsicker with a day and\ntime that works best with your schedule. \nWhen: \nEvery Wednesday 1-3pm \nWhere: \n2000 Wilkes Ridge Dr.\, Richmond\, VA 23233 \nGet in Touch:  \nContact Elyse Hunsicker:\nPhone: (804) 837-5233\nEmail: Elyse.Hunsicker@sai.rehab \nFeel free to contact us through the form below: \n 
URL:https://shelteringarmsinstitute.com/event/walk-in-wednesdays/2024-01-03/
LOCATION:Sheltering Arms Institute\, 2000 Wilkes Ridge Drive\, Richmond\, VA\, 23233\, United States
CATEGORIES:Nursing
ATTACH;FMTTYPE=image/jpeg:https://shelteringarmsinstitute.com/wp-content/uploads/2023/01/Walk-in-wednesday-web-banner-copy-1.jpg
END:VEVENT
BEGIN:VEVENT
DTSTART;TZID=America/New_York:20240110T130000
DTEND;TZID=America/New_York:20240110T150000
DTSTAMP:20260423T074420
CREATED:20230126T003623Z
LAST-MODIFIED:20240301T182854Z
UID:10000110-1704891600-1704898800@shelteringarmsinstitute.com
SUMMARY:Walk-In Wednesdays
DESCRIPTION:Come meet our nurse managers\, learn more about our current nursing job openings and have the\nchance to interview on the spot! This is a chance to get a guided tour of our state-of-the-art facility. \nDon’t miss out on this chance to start your career with us! \nNo appointments necessary\, just walk in and our staff will be ready to greet you at the front desk.\nIf you are not able to attend on Wednesday\, call\, text\, or email Elyse Hunsicker with a day and\ntime that works best with your schedule. \nWhen: \nEvery Wednesday 1-3pm \nWhere: \n2000 Wilkes Ridge Dr.\, Richmond\, VA 23233 \nGet in Touch:  \nContact Elyse Hunsicker:\nPhone: (804) 837-5233\nEmail: Elyse.Hunsicker@sai.rehab \nFeel free to contact us through the form below: \n 
URL:https://shelteringarmsinstitute.com/event/walk-in-wednesdays/2024-01-10/
LOCATION:Sheltering Arms Institute\, 2000 Wilkes Ridge Drive\, Richmond\, VA\, 23233\, United States
CATEGORIES:Nursing
ATTACH;FMTTYPE=image/jpeg:https://shelteringarmsinstitute.com/wp-content/uploads/2023/01/Walk-in-wednesday-web-banner-copy-1.jpg
END:VEVENT
BEGIN:VEVENT
DTSTART;TZID=America/New_York:20240117T130000
DTEND;TZID=America/New_York:20240117T150000
DTSTAMP:20260423T074420
CREATED:20230126T003623Z
LAST-MODIFIED:20240301T182854Z
UID:10000111-1705496400-1705503600@shelteringarmsinstitute.com
SUMMARY:Walk-In Wednesdays
DESCRIPTION:Come meet our nurse managers\, learn more about our current nursing job openings and have the\nchance to interview on the spot! This is a chance to get a guided tour of our state-of-the-art facility. \nDon’t miss out on this chance to start your career with us! \nNo appointments necessary\, just walk in and our staff will be ready to greet you at the front desk.\nIf you are not able to attend on Wednesday\, call\, text\, or email Elyse Hunsicker with a day and\ntime that works best with your schedule. \nWhen: \nEvery Wednesday 1-3pm \nWhere: \n2000 Wilkes Ridge Dr.\, Richmond\, VA 23233 \nGet in Touch:  \nContact Elyse Hunsicker:\nPhone: (804) 837-5233\nEmail: Elyse.Hunsicker@sai.rehab \nFeel free to contact us through the form below: \n 
URL:https://shelteringarmsinstitute.com/event/walk-in-wednesdays/2024-01-17/
LOCATION:Sheltering Arms Institute\, 2000 Wilkes Ridge Drive\, Richmond\, VA\, 23233\, United States
CATEGORIES:Nursing
ATTACH;FMTTYPE=image/jpeg:https://shelteringarmsinstitute.com/wp-content/uploads/2023/01/Walk-in-wednesday-web-banner-copy-1.jpg
END:VEVENT
BEGIN:VEVENT
DTSTART;TZID=America/New_York:20240124T130000
DTEND;TZID=America/New_York:20240124T150000
DTSTAMP:20260423T074420
CREATED:20230126T003623Z
LAST-MODIFIED:20240301T182854Z
UID:10000112-1706101200-1706108400@shelteringarmsinstitute.com
SUMMARY:Walk-In Wednesdays
DESCRIPTION:Come meet our nurse managers\, learn more about our current nursing job openings and have the\nchance to interview on the spot! This is a chance to get a guided tour of our state-of-the-art facility. \nDon’t miss out on this chance to start your career with us! \nNo appointments necessary\, just walk in and our staff will be ready to greet you at the front desk.\nIf you are not able to attend on Wednesday\, call\, text\, or email Elyse Hunsicker with a day and\ntime that works best with your schedule. \nWhen: \nEvery Wednesday 1-3pm \nWhere: \n2000 Wilkes Ridge Dr.\, Richmond\, VA 23233 \nGet in Touch:  \nContact Elyse Hunsicker:\nPhone: (804) 837-5233\nEmail: Elyse.Hunsicker@sai.rehab \nFeel free to contact us through the form below: \n 
URL:https://shelteringarmsinstitute.com/event/walk-in-wednesdays/2024-01-24/
LOCATION:Sheltering Arms Institute\, 2000 Wilkes Ridge Drive\, Richmond\, VA\, 23233\, United States
CATEGORIES:Nursing
ATTACH;FMTTYPE=image/jpeg:https://shelteringarmsinstitute.com/wp-content/uploads/2023/01/Walk-in-wednesday-web-banner-copy-1.jpg
END:VEVENT
BEGIN:VEVENT
DTSTART;TZID=America/New_York:20240124T140000
DTEND;TZID=America/New_York:20240124T150000
DTSTAMP:20260423T074420
CREATED:20231221T201732Z
LAST-MODIFIED:20231229T194323Z
UID:10000225-1706104800-1706108400@shelteringarmsinstitute.com
SUMMARY:Stroke Survivor and Caregiver Support Group
DESCRIPTION:Monthly Support Group\n\n\n\n\n4th Wednesday of Each Month 2 p.m. – 3 p.m.\n\n\n\n\nSheltering Arms Institute connects patients with a support group for a safe and supportive environment for stroke survivors and caregivers. Support groups provide members the opportunity to express their feelings\, learn helpful information\, improve social skills\, and realize they are not alone. \n\n\n\n\n\n\n\n\n\n\n\n\n\n\n\n\n\n\nLocation:\n\n\n\n\n\n\n\n\n\nJoin us virtually or in person at:\nSheltering Arms Institute\n2000 Wilkes Ridge Drive\nRichmond\, VA 23233 \n\n\n\n\n\n\n\n\n\n\n\n\n\n\n\n\n\n\nTo Register:\n\n\n\n\n\n\n\n\n\nQuestions? Contact the Community Engagement team at Community.Engagement@sai.rehab
URL:https://shelteringarmsinstitute.com/event/stroke-survivor-and-caregiver-support-group/2024-01-24/
LOCATION:Sheltering Arms Institute\, 2000 Wilkes Ridge Drive\, Richmond\, VA\, 23233\, United States
ATTACH;FMTTYPE=image/jpeg:https://shelteringarmsinstitute.com/wp-content/uploads/2023/12/Stroke-Support-group-webpage-header-copy-2.jpg
END:VEVENT
BEGIN:VEVENT
DTSTART;TZID=America/New_York:20240130T120000
DTEND;TZID=America/New_York:20240130T130000
DTSTAMP:20260423T074420
CREATED:20221101T174845Z
LAST-MODIFIED:20240109T135951Z
UID:10000056-1706616000-1706619600@shelteringarmsinstitute.com
SUMMARY:Concussion Support Group
DESCRIPTION:Education and support make a huge difference in concussion recovery. Please join us for a brief informational session provided virtually by Sheltering Arms Institute healthcare providers followed by an open forum for questions. \nThis support group is intended to provide an outlet for discussion of shared experiences to help with coping strategies and general education about concussions. If you are an adult diagnosed with a concussion and are actively under the care of a healthcare provider for the injury (MD\, PT\, SLP\, Psychologist\, etc.)\, we encourage you to attend. \nPlease contact Caitlin Larkins at caitlin.larkins@sai.rehab to RSVP and receive a link to join the concussion support group virtually.
URL:https://shelteringarmsinstitute.com/event/concussion-support-group-2/
CATEGORIES:SAI Community Event
END:VEVENT
BEGIN:VEVENT
DTSTART;TZID=America/New_York:20240131T130000
DTEND;TZID=America/New_York:20240131T150000
DTSTAMP:20260423T074420
CREATED:20230126T003623Z
LAST-MODIFIED:20240301T182854Z
UID:10000113-1706706000-1706713200@shelteringarmsinstitute.com
SUMMARY:Walk-In Wednesdays
DESCRIPTION:Come meet our nurse managers\, learn more about our current nursing job openings and have the\nchance to interview on the spot! This is a chance to get a guided tour of our state-of-the-art facility. \nDon’t miss out on this chance to start your career with us! \nNo appointments necessary\, just walk in and our staff will be ready to greet you at the front desk.\nIf you are not able to attend on Wednesday\, call\, text\, or email Elyse Hunsicker with a day and\ntime that works best with your schedule. \nWhen: \nEvery Wednesday 1-3pm \nWhere: \n2000 Wilkes Ridge Dr.\, Richmond\, VA 23233 \nGet in Touch:  \nContact Elyse Hunsicker:\nPhone: (804) 837-5233\nEmail: Elyse.Hunsicker@sai.rehab \nFeel free to contact us through the form below: \n 
URL:https://shelteringarmsinstitute.com/event/walk-in-wednesdays/2024-01-31/
LOCATION:Sheltering Arms Institute\, 2000 Wilkes Ridge Drive\, Richmond\, VA\, 23233\, United States
CATEGORIES:Nursing
ATTACH;FMTTYPE=image/jpeg:https://shelteringarmsinstitute.com/wp-content/uploads/2023/01/Walk-in-wednesday-web-banner-copy-1.jpg
END:VEVENT
END:VCALENDAR