BEGIN:VCALENDAR
VERSION:2.0
PRODID:-//Sheltering Arms Institute - ECPv6.15.19//NONSGML v1.0//EN
CALSCALE:GREGORIAN
METHOD:PUBLISH
X-WR-CALNAME:Sheltering Arms Institute
X-ORIGINAL-URL:https://shelteringarmsinstitute.com
X-WR-CALDESC:Events for Sheltering Arms Institute
REFRESH-INTERVAL;VALUE=DURATION:PT1H
X-Robots-Tag:noindex
X-PUBLISHED-TTL:PT1H
BEGIN:VTIMEZONE
TZID:America/New_York
BEGIN:DAYLIGHT
TZOFFSETFROM:-0500
TZOFFSETTO:-0400
TZNAME:EDT
DTSTART:20230312T070000
END:DAYLIGHT
BEGIN:STANDARD
TZOFFSETFROM:-0400
TZOFFSETTO:-0500
TZNAME:EST
DTSTART:20231105T060000
END:STANDARD
BEGIN:DAYLIGHT
TZOFFSETFROM:-0500
TZOFFSETTO:-0400
TZNAME:EDT
DTSTART:20240310T070000
END:DAYLIGHT
BEGIN:STANDARD
TZOFFSETFROM:-0400
TZOFFSETTO:-0500
TZNAME:EST
DTSTART:20241103T060000
END:STANDARD
BEGIN:DAYLIGHT
TZOFFSETFROM:-0500
TZOFFSETTO:-0400
TZNAME:EDT
DTSTART:20250309T070000
END:DAYLIGHT
BEGIN:STANDARD
TZOFFSETFROM:-0400
TZOFFSETTO:-0500
TZNAME:EST
DTSTART:20251102T060000
END:STANDARD
END:VTIMEZONE
BEGIN:VEVENT
DTSTART;TZID=America/New_York:20240207T110000
DTEND;TZID=America/New_York:20240207T120000
DTSTAMP:20260423T062334
CREATED:20230206T213657Z
LAST-MODIFIED:20250721T183623Z
UID:10000032-1707303600-1707307200@shelteringarmsinstitute.com
SUMMARY:Support Group for Limb Loss and Limb Difference
DESCRIPTION:Monthly Support Group\n\n\n\n\nFirst Wednesday of Each Month 11 a.m. – 12 p.m.\n\n\n\n\nSheltering Arms Institute connects patients with a support group for a safe and supportive environment for individuals living with limb loss or limb difference. Support groups provide members the opportunity to express their feelings\, learn helpful information\, improve social skills\, and realize they are not alone. \n\n\n\nLocation:\nJoin us virtually or in person at:\n\n\n\n\nSheltering Arms Institute\n2000 Wilkes Ridge Drive\nRichmond\, VA 23233 \n\n\nTo Register:\n\n\n\n\nTo RSVP\, please fill out the form below.\n\n\n\n\n\n\nQuestions? Contact Anna O’Hara\, OTD\, OTR/L\, at anna.ohara@sai.rehab.\n\n\n 
URL:https://shelteringarmsinstitute.com/event/support-group-for-limb-loss-and-limb-difference/2024-02-07/
LOCATION:Sheltering Arms Institute\, 2000 Wilkes Ridge Drive\, Richmond\, VA\, 23233\, United States
CATEGORIES:SAI Community Event
ATTACH;FMTTYPE=image/jpeg:https://shelteringarmsinstitute.com/wp-content/uploads/2023/02/Amputation-support-group-Banner.jpg
END:VEVENT
BEGIN:VEVENT
DTSTART;TZID=America/New_York:20240207T130000
DTEND;TZID=America/New_York:20240207T150000
DTSTAMP:20260423T062334
CREATED:20230126T003623Z
LAST-MODIFIED:20240301T182854Z
UID:10000114-1707310800-1707318000@shelteringarmsinstitute.com
SUMMARY:Walk-In Wednesdays
DESCRIPTION:Come meet our nurse managers\, learn more about our current nursing job openings and have the\nchance to interview on the spot! This is a chance to get a guided tour of our state-of-the-art facility. \nDon’t miss out on this chance to start your career with us! \nNo appointments necessary\, just walk in and our staff will be ready to greet you at the front desk.\nIf you are not able to attend on Wednesday\, call\, text\, or email Elyse Hunsicker with a day and\ntime that works best with your schedule. \nWhen: \nEvery Wednesday 1-3pm \nWhere: \n2000 Wilkes Ridge Dr.\, Richmond\, VA 23233 \nGet in Touch:  \nContact Elyse Hunsicker:\nPhone: (804) 837-5233\nEmail: Elyse.Hunsicker@sai.rehab \nFeel free to contact us through the form below: \n 
URL:https://shelteringarmsinstitute.com/event/walk-in-wednesdays/2024-02-07/
LOCATION:Sheltering Arms Institute\, 2000 Wilkes Ridge Drive\, Richmond\, VA\, 23233\, United States
CATEGORIES:Nursing
ATTACH;FMTTYPE=image/jpeg:https://shelteringarmsinstitute.com/wp-content/uploads/2023/01/Walk-in-wednesday-web-banner-copy-1.jpg
END:VEVENT
BEGIN:VEVENT
DTSTART;TZID=America/New_York:20240214T130000
DTEND;TZID=America/New_York:20240214T140000
DTSTAMP:20260423T062334
CREATED:20240122T143315Z
LAST-MODIFIED:20240122T144040Z
UID:10000344-1707915600-1707919200@shelteringarmsinstitute.com
SUMMARY:Managing Fatigue: The Long Haul of the Rehab Journey
DESCRIPTION:Managing Fatigue: The Long Haul of the Rehab Journey \nWhen: Wednesday\, February 14th from 1-2 p.m. \nWhere: In person at Sheltering Arms Institute’s Main Campus (2000 Wilkes Ridge Dr. Henrico\, VA 23233) or virtually via Microsoft Teams \nFatigue can lead patients to feel limited in their recovery from a significant injury or illness. It can affect their participation in therapy\, exercise\, and community activities. Join us for a discussion on the reasons for fatigue\, ways to track it\, and strategies to manage it during the rehab journey. \nLearning Objectives: \n\nTo understand the impact of fatigue on daily activity.\nTo understand how to measure and track your fatigue.\nTo identify other possible factors that impact fatigue.\nLearn strategies to manage fatigue in your recovery.\n\nQuestions? Email community.engagement@sai.rehab or call (804) 578-6532. \nRegister with the form below: \n\n \n 
URL:https://shelteringarmsinstitute.com/event/managing-fatigue-the-long-haul-of-the-rehab-journey/
LOCATION:Sheltering Arms Institute\, 2000 Wilkes Ridge Drive\, Richmond\, VA\, 23233\, United States
ATTACH;FMTTYPE=image/jpeg:https://shelteringarmsinstitute.com/wp-content/uploads/2024/01/EmpowerU-landing-page-header-scaled.jpg
END:VEVENT
BEGIN:VEVENT
DTSTART;TZID=America/New_York:20240214T130000
DTEND;TZID=America/New_York:20240214T150000
DTSTAMP:20260423T062334
CREATED:20230126T003623Z
LAST-MODIFIED:20240301T182854Z
UID:10000115-1707915600-1707922800@shelteringarmsinstitute.com
SUMMARY:Walk-In Wednesdays
DESCRIPTION:Come meet our nurse managers\, learn more about our current nursing job openings and have the\nchance to interview on the spot! This is a chance to get a guided tour of our state-of-the-art facility. \nDon’t miss out on this chance to start your career with us! \nNo appointments necessary\, just walk in and our staff will be ready to greet you at the front desk.\nIf you are not able to attend on Wednesday\, call\, text\, or email Elyse Hunsicker with a day and\ntime that works best with your schedule. \nWhen: \nEvery Wednesday 1-3pm \nWhere: \n2000 Wilkes Ridge Dr.\, Richmond\, VA 23233 \nGet in Touch:  \nContact Elyse Hunsicker:\nPhone: (804) 837-5233\nEmail: Elyse.Hunsicker@sai.rehab \nFeel free to contact us through the form below: \n 
URL:https://shelteringarmsinstitute.com/event/walk-in-wednesdays/2024-02-14/
LOCATION:Sheltering Arms Institute\, 2000 Wilkes Ridge Drive\, Richmond\, VA\, 23233\, United States
CATEGORIES:Nursing
ATTACH;FMTTYPE=image/jpeg:https://shelteringarmsinstitute.com/wp-content/uploads/2023/01/Walk-in-wednesday-web-banner-copy-1.jpg
END:VEVENT
BEGIN:VEVENT
DTSTART;TZID=America/New_York:20240221T130000
DTEND;TZID=America/New_York:20240221T150000
DTSTAMP:20260423T062334
CREATED:20230126T003623Z
LAST-MODIFIED:20240301T182854Z
UID:10000116-1708520400-1708527600@shelteringarmsinstitute.com
SUMMARY:Walk-In Wednesdays
DESCRIPTION:Come meet our nurse managers\, learn more about our current nursing job openings and have the\nchance to interview on the spot! This is a chance to get a guided tour of our state-of-the-art facility. \nDon’t miss out on this chance to start your career with us! \nNo appointments necessary\, just walk in and our staff will be ready to greet you at the front desk.\nIf you are not able to attend on Wednesday\, call\, text\, or email Elyse Hunsicker with a day and\ntime that works best with your schedule. \nWhen: \nEvery Wednesday 1-3pm \nWhere: \n2000 Wilkes Ridge Dr.\, Richmond\, VA 23233 \nGet in Touch:  \nContact Elyse Hunsicker:\nPhone: (804) 837-5233\nEmail: Elyse.Hunsicker@sai.rehab \nFeel free to contact us through the form below: \n 
URL:https://shelteringarmsinstitute.com/event/walk-in-wednesdays/2024-02-21/
LOCATION:Sheltering Arms Institute\, 2000 Wilkes Ridge Drive\, Richmond\, VA\, 23233\, United States
CATEGORIES:Nursing
ATTACH;FMTTYPE=image/jpeg:https://shelteringarmsinstitute.com/wp-content/uploads/2023/01/Walk-in-wednesday-web-banner-copy-1.jpg
END:VEVENT
BEGIN:VEVENT
DTSTART;TZID=America/New_York:20240228T130000
DTEND;TZID=America/New_York:20240228T150000
DTSTAMP:20260423T062334
CREATED:20230126T003623Z
LAST-MODIFIED:20240301T182854Z
UID:10000117-1709125200-1709132400@shelteringarmsinstitute.com
SUMMARY:Walk-In Wednesdays
DESCRIPTION:Come meet our nurse managers\, learn more about our current nursing job openings and have the\nchance to interview on the spot! This is a chance to get a guided tour of our state-of-the-art facility. \nDon’t miss out on this chance to start your career with us! \nNo appointments necessary\, just walk in and our staff will be ready to greet you at the front desk.\nIf you are not able to attend on Wednesday\, call\, text\, or email Elyse Hunsicker with a day and\ntime that works best with your schedule. \nWhen: \nEvery Wednesday 1-3pm \nWhere: \n2000 Wilkes Ridge Dr.\, Richmond\, VA 23233 \nGet in Touch:  \nContact Elyse Hunsicker:\nPhone: (804) 837-5233\nEmail: Elyse.Hunsicker@sai.rehab \nFeel free to contact us through the form below: \n 
URL:https://shelteringarmsinstitute.com/event/walk-in-wednesdays/2024-02-28/
LOCATION:Sheltering Arms Institute\, 2000 Wilkes Ridge Drive\, Richmond\, VA\, 23233\, United States
CATEGORIES:Nursing
ATTACH;FMTTYPE=image/jpeg:https://shelteringarmsinstitute.com/wp-content/uploads/2023/01/Walk-in-wednesday-web-banner-copy-1.jpg
END:VEVENT
BEGIN:VEVENT
DTSTART;TZID=America/New_York:20240228T140000
DTEND;TZID=America/New_York:20240228T150000
DTSTAMP:20260423T062334
CREATED:20231221T201732Z
LAST-MODIFIED:20231229T194323Z
UID:10000226-1709128800-1709132400@shelteringarmsinstitute.com
SUMMARY:Stroke Survivor and Caregiver Support Group
DESCRIPTION:Monthly Support Group\n\n\n\n\n4th Wednesday of Each Month 2 p.m. – 3 p.m.\n\n\n\n\nSheltering Arms Institute connects patients with a support group for a safe and supportive environment for stroke survivors and caregivers. Support groups provide members the opportunity to express their feelings\, learn helpful information\, improve social skills\, and realize they are not alone. \n\n\n\n\n\n\n\n\n\n\n\n\n\n\n\n\n\n\nLocation:\n\n\n\n\n\n\n\n\n\nJoin us virtually or in person at:\nSheltering Arms Institute\n2000 Wilkes Ridge Drive\nRichmond\, VA 23233 \n\n\n\n\n\n\n\n\n\n\n\n\n\n\n\n\n\n\nTo Register:\n\n\n\n\n\n\n\n\n\nQuestions? Contact the Community Engagement team at Community.Engagement@sai.rehab
URL:https://shelteringarmsinstitute.com/event/stroke-survivor-and-caregiver-support-group/2024-02-28/
LOCATION:Sheltering Arms Institute\, 2000 Wilkes Ridge Drive\, Richmond\, VA\, 23233\, United States
ATTACH;FMTTYPE=image/jpeg:https://shelteringarmsinstitute.com/wp-content/uploads/2023/12/Stroke-Support-group-webpage-header-copy-2.jpg
END:VEVENT
END:VCALENDAR