BEGIN:VCALENDAR
VERSION:2.0
PRODID:-//Sheltering Arms Institute - ECPv6.15.19//NONSGML v1.0//EN
CALSCALE:GREGORIAN
METHOD:PUBLISH
X-ORIGINAL-URL:https://shelteringarmsinstitute.com
X-WR-CALDESC:Events for Sheltering Arms Institute
REFRESH-INTERVAL;VALUE=DURATION:PT1H
X-Robots-Tag:noindex
X-PUBLISHED-TTL:PT1H
BEGIN:VTIMEZONE
TZID:America/New_York
BEGIN:DAYLIGHT
TZOFFSETFROM:-0500
TZOFFSETTO:-0400
TZNAME:EDT
DTSTART:20230312T070000
END:DAYLIGHT
BEGIN:STANDARD
TZOFFSETFROM:-0400
TZOFFSETTO:-0500
TZNAME:EST
DTSTART:20231105T060000
END:STANDARD
BEGIN:DAYLIGHT
TZOFFSETFROM:-0500
TZOFFSETTO:-0400
TZNAME:EDT
DTSTART:20240310T070000
END:DAYLIGHT
BEGIN:STANDARD
TZOFFSETFROM:-0400
TZOFFSETTO:-0500
TZNAME:EST
DTSTART:20241103T060000
END:STANDARD
BEGIN:DAYLIGHT
TZOFFSETFROM:-0500
TZOFFSETTO:-0400
TZNAME:EDT
DTSTART:20250309T070000
END:DAYLIGHT
BEGIN:STANDARD
TZOFFSETFROM:-0400
TZOFFSETTO:-0500
TZNAME:EST
DTSTART:20251102T060000
END:STANDARD
END:VTIMEZONE
BEGIN:VEVENT
DTSTART;TZID=America/New_York:20240306T110000
DTEND;TZID=America/New_York:20240306T120000
DTSTAMP:20260423T044134
CREATED:20230206T213657Z
LAST-MODIFIED:20250721T183623Z
UID:10000033-1709722800-1709726400@shelteringarmsinstitute.com
SUMMARY:Support Group for Limb Loss and Limb Difference
DESCRIPTION:Monthly Support Group\n\n\n\n\nFirst Wednesday of Each Month 11 a.m. – 12 p.m.\n\n\n\n\nSheltering Arms Institute connects patients with a support group for a safe and supportive environment for individuals living with limb loss or limb difference. Support groups provide members the opportunity to express their feelings\, learn helpful information\, improve social skills\, and realize they are not alone. \n\n\n\nLocation:\nJoin us virtually or in person at:\n\n\n\n\nSheltering Arms Institute\n2000 Wilkes Ridge Drive\nRichmond\, VA 23233 \n\n\nTo Register:\n\n\n\n\nTo RSVP\, please fill out the form below.\n\n\n\n\n\n\nQuestions? Contact Anna O’Hara\, OTD\, OTR/L\, at anna.ohara@sai.rehab.\n\n\n 
URL:https://shelteringarmsinstitute.com/event/support-group-for-limb-loss-and-limb-difference/2024-03-06/
LOCATION:Sheltering Arms Institute\, 2000 Wilkes Ridge Drive\, Richmond\, VA\, 23233\, United States
CATEGORIES:SAI Community Event
ATTACH;FMTTYPE=image/jpeg:https://shelteringarmsinstitute.com/wp-content/uploads/2023/02/Amputation-support-group-Banner.jpg
END:VEVENT
BEGIN:VEVENT
DTSTART;TZID=America/New_York:20240306T130000
DTEND;TZID=America/New_York:20240306T150000
DTSTAMP:20260423T044134
CREATED:20230126T003623Z
LAST-MODIFIED:20240301T182854Z
UID:10000118-1709730000-1709737200@shelteringarmsinstitute.com
SUMMARY:Walk-In Wednesdays
DESCRIPTION:Come meet our nurse managers\, learn more about our current nursing job openings and have the\nchance to interview on the spot! This is a chance to get a guided tour of our state-of-the-art facility. \nDon’t miss out on this chance to start your career with us! \nNo appointments necessary\, just walk in and our staff will be ready to greet you at the front desk.\nIf you are not able to attend on Wednesday\, call\, text\, or email Elyse Hunsicker with a day and\ntime that works best with your schedule. \nWhen: \nEvery Wednesday 1-3pm \nWhere: \n2000 Wilkes Ridge Dr.\, Richmond\, VA 23233 \nGet in Touch:  \nContact Elyse Hunsicker:\nPhone: (804) 837-5233\nEmail: Elyse.Hunsicker@sai.rehab \nFeel free to contact us through the form below: \n 
URL:https://shelteringarmsinstitute.com/event/walk-in-wednesdays/2024-03-06/
LOCATION:Sheltering Arms Institute\, 2000 Wilkes Ridge Drive\, Richmond\, VA\, 23233\, United States
CATEGORIES:Nursing
ATTACH;FMTTYPE=image/jpeg:https://shelteringarmsinstitute.com/wp-content/uploads/2023/01/Walk-in-wednesday-web-banner-copy-1.jpg
END:VEVENT
BEGIN:VEVENT
DTSTART;TZID=America/New_York:20240313T130000
DTEND;TZID=America/New_York:20240313T150000
DTSTAMP:20260423T044134
CREATED:20230126T003623Z
LAST-MODIFIED:20240301T182854Z
UID:10000119-1710334800-1710342000@shelteringarmsinstitute.com
SUMMARY:Walk-In Wednesdays
DESCRIPTION:Come meet our nurse managers\, learn more about our current nursing job openings and have the\nchance to interview on the spot! This is a chance to get a guided tour of our state-of-the-art facility. \nDon’t miss out on this chance to start your career with us! \nNo appointments necessary\, just walk in and our staff will be ready to greet you at the front desk.\nIf you are not able to attend on Wednesday\, call\, text\, or email Elyse Hunsicker with a day and\ntime that works best with your schedule. \nWhen: \nEvery Wednesday 1-3pm \nWhere: \n2000 Wilkes Ridge Dr.\, Richmond\, VA 23233 \nGet in Touch:  \nContact Elyse Hunsicker:\nPhone: (804) 837-5233\nEmail: Elyse.Hunsicker@sai.rehab \nFeel free to contact us through the form below: \n 
URL:https://shelteringarmsinstitute.com/event/walk-in-wednesdays/2024-03-13/
LOCATION:Sheltering Arms Institute\, 2000 Wilkes Ridge Drive\, Richmond\, VA\, 23233\, United States
CATEGORIES:Nursing
ATTACH;FMTTYPE=image/jpeg:https://shelteringarmsinstitute.com/wp-content/uploads/2023/01/Walk-in-wednesday-web-banner-copy-1.jpg
END:VEVENT
BEGIN:VEVENT
DTSTART;TZID=America/New_York:20240318T130000
DTEND;TZID=America/New_York:20240318T150000
DTSTAMP:20260423T044134
CREATED:20240221T142827Z
LAST-MODIFIED:20240221T143845Z
UID:10000347-1710766800-1710774000@shelteringarmsinstitute.com
SUMMARY:Chronic Disease Self-Management 6-Week Class Series
DESCRIPTION:Chronic Disease Self-Management 6-Week Class Series  \nWhen: Every Monday from March 18 through April 22 from 1-3 p.m. \nWhere: In person at Sheltering Arms Institute’s main campus (2000 Wilkes Ridge Dr.\, Richmond\, VA 23233) \nCost: FREE! Resource book included\, but space is limited \n  \nThis six-week class series is designed for adults with chronic disease\, their friends\, family members\, and caregivers to learn how to set weekly goals and create an action plan to make changes toward a healthy lifestyle.\n\nParticipants will learn:\n\nAppropriate exercises\nProper use of medications\nEffective communication skills\nTips on good nutrition\nFall prevention strategies\n\n\nPlease register below!\n\nQuestions? Email community.engagement@sai.rehab or call (804) 578-6532.\n  \nRegister using the form below:
URL:https://shelteringarmsinstitute.com/event/chronic-disease-self-management-6-week-class-series/2024-03-18/
LOCATION:Sheltering Arms Institute\, 2000 Wilkes Ridge Drive\, Richmond\, VA\, 23233\, United States
CATEGORIES:SAI Community Event
ATTACH;FMTTYPE=image/jpeg:https://shelteringarmsinstitute.com/wp-content/uploads/2024/02/Chronic-Disease-and-Self-Management-Classes-header.jpg
END:VEVENT
BEGIN:VEVENT
DTSTART;TZID=America/New_York:20240320T130000
DTEND;TZID=America/New_York:20240320T150000
DTSTAMP:20260423T044134
CREATED:20230126T003623Z
LAST-MODIFIED:20240301T182854Z
UID:10000120-1710939600-1710946800@shelteringarmsinstitute.com
SUMMARY:Walk-In Wednesdays
DESCRIPTION:Come meet our nurse managers\, learn more about our current nursing job openings and have the\nchance to interview on the spot! This is a chance to get a guided tour of our state-of-the-art facility. \nDon’t miss out on this chance to start your career with us! \nNo appointments necessary\, just walk in and our staff will be ready to greet you at the front desk.\nIf you are not able to attend on Wednesday\, call\, text\, or email Elyse Hunsicker with a day and\ntime that works best with your schedule. \nWhen: \nEvery Wednesday 1-3pm \nWhere: \n2000 Wilkes Ridge Dr.\, Richmond\, VA 23233 \nGet in Touch:  \nContact Elyse Hunsicker:\nPhone: (804) 837-5233\nEmail: Elyse.Hunsicker@sai.rehab \nFeel free to contact us through the form below: \n 
URL:https://shelteringarmsinstitute.com/event/walk-in-wednesdays/2024-03-20/
LOCATION:Sheltering Arms Institute\, 2000 Wilkes Ridge Drive\, Richmond\, VA\, 23233\, United States
CATEGORIES:Nursing
ATTACH;FMTTYPE=image/jpeg:https://shelteringarmsinstitute.com/wp-content/uploads/2023/01/Walk-in-wednesday-web-banner-copy-1.jpg
END:VEVENT
BEGIN:VEVENT
DTSTART;TZID=America/New_York:20240325T130000
DTEND;TZID=America/New_York:20240325T150000
DTSTAMP:20260423T044134
CREATED:20240221T142827Z
LAST-MODIFIED:20240221T143845Z
UID:10000348-1711371600-1711378800@shelteringarmsinstitute.com
SUMMARY:Chronic Disease Self-Management 6-Week Class Series
DESCRIPTION:Chronic Disease Self-Management 6-Week Class Series  \nWhen: Every Monday from March 18 through April 22 from 1-3 p.m. \nWhere: In person at Sheltering Arms Institute’s main campus (2000 Wilkes Ridge Dr.\, Richmond\, VA 23233) \nCost: FREE! Resource book included\, but space is limited \n  \nThis six-week class series is designed for adults with chronic disease\, their friends\, family members\, and caregivers to learn how to set weekly goals and create an action plan to make changes toward a healthy lifestyle.\n\nParticipants will learn:\n\nAppropriate exercises\nProper use of medications\nEffective communication skills\nTips on good nutrition\nFall prevention strategies\n\n\nPlease register below!\n\nQuestions? Email community.engagement@sai.rehab or call (804) 578-6532.\n  \nRegister using the form below:
URL:https://shelteringarmsinstitute.com/event/chronic-disease-self-management-6-week-class-series/2024-03-25/
LOCATION:Sheltering Arms Institute\, 2000 Wilkes Ridge Drive\, Richmond\, VA\, 23233\, United States
CATEGORIES:SAI Community Event
ATTACH;FMTTYPE=image/jpeg:https://shelteringarmsinstitute.com/wp-content/uploads/2024/02/Chronic-Disease-and-Self-Management-Classes-header.jpg
END:VEVENT
BEGIN:VEVENT
DTSTART;TZID=America/New_York:20240327T130000
DTEND;TZID=America/New_York:20240327T150000
DTSTAMP:20260423T044134
CREATED:20230126T003623Z
LAST-MODIFIED:20240301T182854Z
UID:10000121-1711544400-1711551600@shelteringarmsinstitute.com
SUMMARY:Walk-In Wednesdays
DESCRIPTION:Come meet our nurse managers\, learn more about our current nursing job openings and have the\nchance to interview on the spot! This is a chance to get a guided tour of our state-of-the-art facility. \nDon’t miss out on this chance to start your career with us! \nNo appointments necessary\, just walk in and our staff will be ready to greet you at the front desk.\nIf you are not able to attend on Wednesday\, call\, text\, or email Elyse Hunsicker with a day and\ntime that works best with your schedule. \nWhen: \nEvery Wednesday 1-3pm \nWhere: \n2000 Wilkes Ridge Dr.\, Richmond\, VA 23233 \nGet in Touch:  \nContact Elyse Hunsicker:\nPhone: (804) 837-5233\nEmail: Elyse.Hunsicker@sai.rehab \nFeel free to contact us through the form below: \n 
URL:https://shelteringarmsinstitute.com/event/walk-in-wednesdays/2024-03-27/
LOCATION:Sheltering Arms Institute\, 2000 Wilkes Ridge Drive\, Richmond\, VA\, 23233\, United States
CATEGORIES:Nursing
ATTACH;FMTTYPE=image/jpeg:https://shelteringarmsinstitute.com/wp-content/uploads/2023/01/Walk-in-wednesday-web-banner-copy-1.jpg
END:VEVENT
BEGIN:VEVENT
DTSTART;TZID=America/New_York:20240327T140000
DTEND;TZID=America/New_York:20240327T150000
DTSTAMP:20260423T044134
CREATED:20231221T201732Z
LAST-MODIFIED:20231229T194323Z
UID:10000227-1711548000-1711551600@shelteringarmsinstitute.com
SUMMARY:Stroke Survivor and Caregiver Support Group
DESCRIPTION:Monthly Support Group\n\n\n\n\n4th Wednesday of Each Month 2 p.m. – 3 p.m.\n\n\n\n\nSheltering Arms Institute connects patients with a support group for a safe and supportive environment for stroke survivors and caregivers. Support groups provide members the opportunity to express their feelings\, learn helpful information\, improve social skills\, and realize they are not alone. \n\n\n\n\n\n\n\n\n\n\n\n\n\n\n\n\n\n\nLocation:\n\n\n\n\n\n\n\n\n\nJoin us virtually or in person at:\nSheltering Arms Institute\n2000 Wilkes Ridge Drive\nRichmond\, VA 23233 \n\n\n\n\n\n\n\n\n\n\n\n\n\n\n\n\n\n\nTo Register:\n\n\n\n\n\n\n\n\n\nQuestions? Contact the Community Engagement team at Community.Engagement@sai.rehab
URL:https://shelteringarmsinstitute.com/event/stroke-survivor-and-caregiver-support-group/2024-03-27/
LOCATION:Sheltering Arms Institute\, 2000 Wilkes Ridge Drive\, Richmond\, VA\, 23233\, United States
ATTACH;FMTTYPE=image/jpeg:https://shelteringarmsinstitute.com/wp-content/uploads/2023/12/Stroke-Support-group-webpage-header-copy-2.jpg
END:VEVENT
END:VCALENDAR