BEGIN:VCALENDAR
VERSION:2.0
PRODID:-//Sheltering Arms Institute - ECPv6.15.19//NONSGML v1.0//EN
CALSCALE:GREGORIAN
METHOD:PUBLISH
X-WR-CALNAME:Sheltering Arms Institute
X-ORIGINAL-URL:https://shelteringarmsinstitute.com
X-WR-CALDESC:Events for Sheltering Arms Institute
REFRESH-INTERVAL;VALUE=DURATION:PT1H
X-Robots-Tag:noindex
X-PUBLISHED-TTL:PT1H
BEGIN:VTIMEZONE
TZID:America/New_York
BEGIN:DAYLIGHT
TZOFFSETFROM:-0500
TZOFFSETTO:-0400
TZNAME:EDT
DTSTART:20230312T070000
END:DAYLIGHT
BEGIN:STANDARD
TZOFFSETFROM:-0400
TZOFFSETTO:-0500
TZNAME:EST
DTSTART:20231105T060000
END:STANDARD
BEGIN:DAYLIGHT
TZOFFSETFROM:-0500
TZOFFSETTO:-0400
TZNAME:EDT
DTSTART:20240310T070000
END:DAYLIGHT
BEGIN:STANDARD
TZOFFSETFROM:-0400
TZOFFSETTO:-0500
TZNAME:EST
DTSTART:20241103T060000
END:STANDARD
BEGIN:DAYLIGHT
TZOFFSETFROM:-0500
TZOFFSETTO:-0400
TZNAME:EDT
DTSTART:20250309T070000
END:DAYLIGHT
BEGIN:STANDARD
TZOFFSETFROM:-0400
TZOFFSETTO:-0500
TZNAME:EST
DTSTART:20251102T060000
END:STANDARD
END:VTIMEZONE
BEGIN:VEVENT
DTSTART;TZID=America/New_York:20240401T130000
DTEND;TZID=America/New_York:20240401T150000
DTSTAMP:20260423T025443
CREATED:20240221T142827Z
LAST-MODIFIED:20240221T143845Z
UID:10000349-1711976400-1711983600@shelteringarmsinstitute.com
SUMMARY:Chronic Disease Self-Management 6-Week Class Series
DESCRIPTION:Chronic Disease Self-Management 6-Week Class Series  \nWhen: Every Monday from March 18 through April 22 from 1-3 p.m. \nWhere: In person at Sheltering Arms Institute’s main campus (2000 Wilkes Ridge Dr.\, Richmond\, VA 23233) \nCost: FREE! Resource book included\, but space is limited \n  \nThis six-week class series is designed for adults with chronic disease\, their friends\, family members\, and caregivers to learn how to set weekly goals and create an action plan to make changes toward a healthy lifestyle.\n\nParticipants will learn:\n\nAppropriate exercises\nProper use of medications\nEffective communication skills\nTips on good nutrition\nFall prevention strategies\n\n\nPlease register below!\n\nQuestions? Email community.engagement@sai.rehab or call (804) 578-6532.\n  \nRegister using the form below:
URL:https://shelteringarmsinstitute.com/event/chronic-disease-self-management-6-week-class-series/2024-04-01/
LOCATION:Sheltering Arms Institute\, 2000 Wilkes Ridge Drive\, Richmond\, VA\, 23233\, United States
CATEGORIES:SAI Community Event
ATTACH;FMTTYPE=image/jpeg:https://shelteringarmsinstitute.com/wp-content/uploads/2024/02/Chronic-Disease-and-Self-Management-Classes-header.jpg
END:VEVENT
BEGIN:VEVENT
DTSTART;TZID=America/New_York:20240403T110000
DTEND;TZID=America/New_York:20240403T120000
DTSTAMP:20260423T025443
CREATED:20230206T213657Z
LAST-MODIFIED:20250721T183623Z
UID:10000034-1712142000-1712145600@shelteringarmsinstitute.com
SUMMARY:Support Group for Limb Loss and Limb Difference
DESCRIPTION:Monthly Support Group\n\n\n\n\nFirst Wednesday of Each Month 11 a.m. – 12 p.m.\n\n\n\n\nSheltering Arms Institute connects patients with a support group for a safe and supportive environment for individuals living with limb loss or limb difference. Support groups provide members the opportunity to express their feelings\, learn helpful information\, improve social skills\, and realize they are not alone. \n\n\n\nLocation:\nJoin us virtually or in person at:\n\n\n\n\nSheltering Arms Institute\n2000 Wilkes Ridge Drive\nRichmond\, VA 23233 \n\n\nTo Register:\n\n\n\n\nTo RSVP\, please fill out the form below.\n\n\n\n\n\n\nQuestions? Contact Anna O’Hara\, OTD\, OTR/L\, at anna.ohara@sai.rehab.\n\n\n 
URL:https://shelteringarmsinstitute.com/event/support-group-for-limb-loss-and-limb-difference/2024-04-03/
LOCATION:Sheltering Arms Institute\, 2000 Wilkes Ridge Drive\, Richmond\, VA\, 23233\, United States
CATEGORIES:SAI Community Event
ATTACH;FMTTYPE=image/jpeg:https://shelteringarmsinstitute.com/wp-content/uploads/2023/02/Amputation-support-group-Banner.jpg
END:VEVENT
BEGIN:VEVENT
DTSTART;TZID=America/New_York:20240403T130000
DTEND;TZID=America/New_York:20240403T150000
DTSTAMP:20260423T025443
CREATED:20230126T003623Z
LAST-MODIFIED:20240301T182854Z
UID:10000122-1712149200-1712156400@shelteringarmsinstitute.com
SUMMARY:Walk-In Wednesdays
DESCRIPTION:Come meet our nurse managers\, learn more about our current nursing job openings and have the\nchance to interview on the spot! This is a chance to get a guided tour of our state-of-the-art facility. \nDon’t miss out on this chance to start your career with us! \nNo appointments necessary\, just walk in and our staff will be ready to greet you at the front desk.\nIf you are not able to attend on Wednesday\, call\, text\, or email Elyse Hunsicker with a day and\ntime that works best with your schedule. \nWhen: \nEvery Wednesday 1-3pm \nWhere: \n2000 Wilkes Ridge Dr.\, Richmond\, VA 23233 \nGet in Touch:  \nContact Elyse Hunsicker:\nPhone: (804) 837-5233\nEmail: Elyse.Hunsicker@sai.rehab \nFeel free to contact us through the form below: \n 
URL:https://shelteringarmsinstitute.com/event/walk-in-wednesdays/2024-04-03/
LOCATION:Sheltering Arms Institute\, 2000 Wilkes Ridge Drive\, Richmond\, VA\, 23233\, United States
CATEGORIES:Nursing
ATTACH;FMTTYPE=image/jpeg:https://shelteringarmsinstitute.com/wp-content/uploads/2023/01/Walk-in-wednesday-web-banner-copy-1.jpg
END:VEVENT
BEGIN:VEVENT
DTSTART;TZID=America/New_York:20240408T130000
DTEND;TZID=America/New_York:20240408T150000
DTSTAMP:20260423T025443
CREATED:20240221T142827Z
LAST-MODIFIED:20240221T143845Z
UID:10000350-1712581200-1712588400@shelteringarmsinstitute.com
SUMMARY:Chronic Disease Self-Management 6-Week Class Series
DESCRIPTION:Chronic Disease Self-Management 6-Week Class Series  \nWhen: Every Monday from March 18 through April 22 from 1-3 p.m. \nWhere: In person at Sheltering Arms Institute’s main campus (2000 Wilkes Ridge Dr.\, Richmond\, VA 23233) \nCost: FREE! Resource book included\, but space is limited \n  \nThis six-week class series is designed for adults with chronic disease\, their friends\, family members\, and caregivers to learn how to set weekly goals and create an action plan to make changes toward a healthy lifestyle.\n\nParticipants will learn:\n\nAppropriate exercises\nProper use of medications\nEffective communication skills\nTips on good nutrition\nFall prevention strategies\n\n\nPlease register below!\n\nQuestions? Email community.engagement@sai.rehab or call (804) 578-6532.\n  \nRegister using the form below:
URL:https://shelteringarmsinstitute.com/event/chronic-disease-self-management-6-week-class-series/2024-04-08/
LOCATION:Sheltering Arms Institute\, 2000 Wilkes Ridge Drive\, Richmond\, VA\, 23233\, United States
CATEGORIES:SAI Community Event
ATTACH;FMTTYPE=image/jpeg:https://shelteringarmsinstitute.com/wp-content/uploads/2024/02/Chronic-Disease-and-Self-Management-Classes-header.jpg
END:VEVENT
BEGIN:VEVENT
DTSTART;VALUE=DATE:20240410
DTEND;VALUE=DATE:20240413
DTSTAMP:20260423T025443
CREATED:20240226T184850Z
LAST-MODIFIED:20240229T193344Z
UID:10000353-1712707200-1712966399@shelteringarmsinstitute.com
SUMMARY:2024 Traumatic Brain Injury Model Systems Leadership Forum
DESCRIPTION:  \n\n\n\n\n\nWednesday\, April 10th – Friday\, April 12th\, 2024  \nThe Traumatic Brain Injury (TBI) Model Systems Leadership Forum provides an opportunity for the exchange of clinical\, programmatic\, administrative\, regulatory\, health care reform\, payer\, equipment/ technology\, education\, outcome\, and research information related to brain injury rehabilitation. The Forum seeks to enhance TBI rehabilitation services and promote best practices and efficiency/standardization of care on a national level through participation of leadership representatives from member centers serving in a managerial\, program development\, or other clinically focused administrative roles. The Forum encourages participant continuity from year to year thereby strengthening ongoing networking and ensuring progression toward stated goals. Invitees are limited to staff from current or formerly NIDILRR-funded TBI Model System. \nLearning Objectives \n• Present current topics relevant to TBI rehabilitation in an atmosphere that encourages discussion\, learning\, and problem solving around practice concerns• Provide a forum for networking and benchmarking with other facilities• Assemble and disseminate evidence-based practice information and guidelines• Identify\, review\, and share research efforts at each facility and provide a forum for research collaboration• Review and critique standards of care\, equipment\, products\, and emerging technology• Develop a network of experts and associated listserv for future inquiries and sharing \nIntended Audience \n• Physical Therapists• Occupational Therapists• Speech-Language Pathologists• Rehabilitation Registered Nurses \nEach Model System group is allowed to send up to five attendees. Please note\, if your organization is partnered with other organizations for the Model System grant\, attendance is limited to five for your Model System group. \nLodging \nA block of rooms has been reserved for attendees at a discounted rate of $179 per night for single or double-occupancy rooms at the Richmond Marriott Downtown on Wednesday\, April 10 and Thursday\, April 11. Check-in at the Richmond Marriott Downtown on Wednesday\, April 10 is at 3 p.m.; however\, the hotel will hold luggage if you arrive earlier. To take advantage of the discounted rate\, rooms must be booked by March 20\, 2024. Rooms can be booked online via this personalized link: TBIMS 2024. You can also call the hotel at (804) 643-3400 to book and reference the TBI Model Systems 2024 conference. \nRegistration Information \nRegistration is $400 per person\, and all registrations will be handled online via the Eventbrite platform. Click here to register! \nA confirmation email will be sent to the email address you provide when registering. If you do not receive a confirmation\, please email Brie Kilmartin\, TBI Therapy Program Manager\, at brie.kilmartin@sai.rehab.
URL:https://shelteringarmsinstitute.com/event/2024-traumatic-brain-injury-model-system-leadership-forum/
LOCATION:Sheltering Arms Institute\, 2000 Wilkes Ridge Drive\, Richmond\, VA\, 23233\, United States
CATEGORIES:SAI Community Event
ATTACH;FMTTYPE=image/jpeg:https://shelteringarmsinstitute.com/wp-content/uploads/2024/02/conference-header-B.jpg
END:VEVENT
BEGIN:VEVENT
DTSTART;TZID=America/New_York:20240410T130000
DTEND;TZID=America/New_York:20240410T150000
DTSTAMP:20260423T025443
CREATED:20230126T003623Z
LAST-MODIFIED:20240301T182854Z
UID:10000123-1712754000-1712761200@shelteringarmsinstitute.com
SUMMARY:Walk-In Wednesdays
DESCRIPTION:Come meet our nurse managers\, learn more about our current nursing job openings and have the\nchance to interview on the spot! This is a chance to get a guided tour of our state-of-the-art facility. \nDon’t miss out on this chance to start your career with us! \nNo appointments necessary\, just walk in and our staff will be ready to greet you at the front desk.\nIf you are not able to attend on Wednesday\, call\, text\, or email Elyse Hunsicker with a day and\ntime that works best with your schedule. \nWhen: \nEvery Wednesday 1-3pm \nWhere: \n2000 Wilkes Ridge Dr.\, Richmond\, VA 23233 \nGet in Touch:  \nContact Elyse Hunsicker:\nPhone: (804) 837-5233\nEmail: Elyse.Hunsicker@sai.rehab \nFeel free to contact us through the form below: \n 
URL:https://shelteringarmsinstitute.com/event/walk-in-wednesdays/2024-04-10/
LOCATION:Sheltering Arms Institute\, 2000 Wilkes Ridge Drive\, Richmond\, VA\, 23233\, United States
CATEGORIES:Nursing
ATTACH;FMTTYPE=image/jpeg:https://shelteringarmsinstitute.com/wp-content/uploads/2023/01/Walk-in-wednesday-web-banner-copy-1.jpg
END:VEVENT
BEGIN:VEVENT
DTSTART;TZID=America/New_York:20240415T130000
DTEND;TZID=America/New_York:20240415T150000
DTSTAMP:20260423T025443
CREATED:20240221T142827Z
LAST-MODIFIED:20240221T143845Z
UID:10000351-1713186000-1713193200@shelteringarmsinstitute.com
SUMMARY:Chronic Disease Self-Management 6-Week Class Series
DESCRIPTION:Chronic Disease Self-Management 6-Week Class Series  \nWhen: Every Monday from March 18 through April 22 from 1-3 p.m. \nWhere: In person at Sheltering Arms Institute’s main campus (2000 Wilkes Ridge Dr.\, Richmond\, VA 23233) \nCost: FREE! Resource book included\, but space is limited \n  \nThis six-week class series is designed for adults with chronic disease\, their friends\, family members\, and caregivers to learn how to set weekly goals and create an action plan to make changes toward a healthy lifestyle.\n\nParticipants will learn:\n\nAppropriate exercises\nProper use of medications\nEffective communication skills\nTips on good nutrition\nFall prevention strategies\n\n\nPlease register below!\n\nQuestions? Email community.engagement@sai.rehab or call (804) 578-6532.\n  \nRegister using the form below:
URL:https://shelteringarmsinstitute.com/event/chronic-disease-self-management-6-week-class-series/2024-04-15/
LOCATION:Sheltering Arms Institute\, 2000 Wilkes Ridge Drive\, Richmond\, VA\, 23233\, United States
CATEGORIES:SAI Community Event
ATTACH;FMTTYPE=image/jpeg:https://shelteringarmsinstitute.com/wp-content/uploads/2024/02/Chronic-Disease-and-Self-Management-Classes-header.jpg
END:VEVENT
BEGIN:VEVENT
DTSTART;TZID=America/New_York:20240417T130000
DTEND;TZID=America/New_York:20240417T150000
DTSTAMP:20260423T025443
CREATED:20230126T003623Z
LAST-MODIFIED:20240301T182854Z
UID:10000124-1713358800-1713366000@shelteringarmsinstitute.com
SUMMARY:Walk-In Wednesdays
DESCRIPTION:Come meet our nurse managers\, learn more about our current nursing job openings and have the\nchance to interview on the spot! This is a chance to get a guided tour of our state-of-the-art facility. \nDon’t miss out on this chance to start your career with us! \nNo appointments necessary\, just walk in and our staff will be ready to greet you at the front desk.\nIf you are not able to attend on Wednesday\, call\, text\, or email Elyse Hunsicker with a day and\ntime that works best with your schedule. \nWhen: \nEvery Wednesday 1-3pm \nWhere: \n2000 Wilkes Ridge Dr.\, Richmond\, VA 23233 \nGet in Touch:  \nContact Elyse Hunsicker:\nPhone: (804) 837-5233\nEmail: Elyse.Hunsicker@sai.rehab \nFeel free to contact us through the form below: \n 
URL:https://shelteringarmsinstitute.com/event/walk-in-wednesdays/2024-04-17/
LOCATION:Sheltering Arms Institute\, 2000 Wilkes Ridge Drive\, Richmond\, VA\, 23233\, United States
CATEGORIES:Nursing
ATTACH;FMTTYPE=image/jpeg:https://shelteringarmsinstitute.com/wp-content/uploads/2023/01/Walk-in-wednesday-web-banner-copy-1.jpg
END:VEVENT
BEGIN:VEVENT
DTSTART;TZID=America/New_York:20240424T130000
DTEND;TZID=America/New_York:20240424T150000
DTSTAMP:20260423T025443
CREATED:20230126T003623Z
LAST-MODIFIED:20240301T182854Z
UID:10000125-1713963600-1713970800@shelteringarmsinstitute.com
SUMMARY:Walk-In Wednesdays
DESCRIPTION:Come meet our nurse managers\, learn more about our current nursing job openings and have the\nchance to interview on the spot! This is a chance to get a guided tour of our state-of-the-art facility. \nDon’t miss out on this chance to start your career with us! \nNo appointments necessary\, just walk in and our staff will be ready to greet you at the front desk.\nIf you are not able to attend on Wednesday\, call\, text\, or email Elyse Hunsicker with a day and\ntime that works best with your schedule. \nWhen: \nEvery Wednesday 1-3pm \nWhere: \n2000 Wilkes Ridge Dr.\, Richmond\, VA 23233 \nGet in Touch:  \nContact Elyse Hunsicker:\nPhone: (804) 837-5233\nEmail: Elyse.Hunsicker@sai.rehab \nFeel free to contact us through the form below: \n 
URL:https://shelteringarmsinstitute.com/event/walk-in-wednesdays/2024-04-24/
LOCATION:Sheltering Arms Institute\, 2000 Wilkes Ridge Drive\, Richmond\, VA\, 23233\, United States
CATEGORIES:Nursing
ATTACH;FMTTYPE=image/jpeg:https://shelteringarmsinstitute.com/wp-content/uploads/2023/01/Walk-in-wednesday-web-banner-copy-1.jpg
END:VEVENT
BEGIN:VEVENT
DTSTART;TZID=America/New_York:20240424T140000
DTEND;TZID=America/New_York:20240424T150000
DTSTAMP:20260423T025443
CREATED:20231221T201732Z
LAST-MODIFIED:20231229T194323Z
UID:10000228-1713967200-1713970800@shelteringarmsinstitute.com
SUMMARY:Stroke Survivor and Caregiver Support Group
DESCRIPTION:Monthly Support Group\n\n\n\n\n4th Wednesday of Each Month 2 p.m. – 3 p.m.\n\n\n\n\nSheltering Arms Institute connects patients with a support group for a safe and supportive environment for stroke survivors and caregivers. Support groups provide members the opportunity to express their feelings\, learn helpful information\, improve social skills\, and realize they are not alone. \n\n\n\n\n\n\n\n\n\n\n\n\n\n\n\n\n\n\nLocation:\n\n\n\n\n\n\n\n\n\nJoin us virtually or in person at:\nSheltering Arms Institute\n2000 Wilkes Ridge Drive\nRichmond\, VA 23233 \n\n\n\n\n\n\n\n\n\n\n\n\n\n\n\n\n\n\nTo Register:\n\n\n\n\n\n\n\n\n\nQuestions? Contact the Community Engagement team at Community.Engagement@sai.rehab
URL:https://shelteringarmsinstitute.com/event/stroke-survivor-and-caregiver-support-group/2024-04-24/
LOCATION:Sheltering Arms Institute\, 2000 Wilkes Ridge Drive\, Richmond\, VA\, 23233\, United States
ATTACH;FMTTYPE=image/jpeg:https://shelteringarmsinstitute.com/wp-content/uploads/2023/12/Stroke-Support-group-webpage-header-copy-2.jpg
END:VEVENT
END:VCALENDAR