BEGIN:VCALENDAR
VERSION:2.0
PRODID:-//Sheltering Arms Institute - ECPv6.15.19//NONSGML v1.0//EN
CALSCALE:GREGORIAN
METHOD:PUBLISH
X-WR-CALNAME:Sheltering Arms Institute
X-ORIGINAL-URL:https://shelteringarmsinstitute.com
X-WR-CALDESC:Events for Sheltering Arms Institute
REFRESH-INTERVAL;VALUE=DURATION:PT1H
X-Robots-Tag:noindex
X-PUBLISHED-TTL:PT1H
BEGIN:VTIMEZONE
TZID:America/New_York
BEGIN:DAYLIGHT
TZOFFSETFROM:-0500
TZOFFSETTO:-0400
TZNAME:EDT
DTSTART:20230312T070000
END:DAYLIGHT
BEGIN:STANDARD
TZOFFSETFROM:-0400
TZOFFSETTO:-0500
TZNAME:EST
DTSTART:20231105T060000
END:STANDARD
BEGIN:DAYLIGHT
TZOFFSETFROM:-0500
TZOFFSETTO:-0400
TZNAME:EDT
DTSTART:20240310T070000
END:DAYLIGHT
BEGIN:STANDARD
TZOFFSETFROM:-0400
TZOFFSETTO:-0500
TZNAME:EST
DTSTART:20241103T060000
END:STANDARD
BEGIN:DAYLIGHT
TZOFFSETFROM:-0500
TZOFFSETTO:-0400
TZNAME:EDT
DTSTART:20250309T070000
END:DAYLIGHT
BEGIN:STANDARD
TZOFFSETFROM:-0400
TZOFFSETTO:-0500
TZNAME:EST
DTSTART:20251102T060000
END:STANDARD
END:VTIMEZONE
BEGIN:VEVENT
DTSTART;TZID=America/New_York:20241204T110000
DTEND;TZID=America/New_York:20241204T120000
DTSTAMP:20260422T123312
CREATED:20230206T213657Z
LAST-MODIFIED:20250721T183623Z
UID:10000042-1733310000-1733313600@shelteringarmsinstitute.com
SUMMARY:Support Group for Limb Loss and Limb Difference
DESCRIPTION:Monthly Support Group\n\n\n\n\nFirst Wednesday of Each Month 11 a.m. – 12 p.m.\n\n\n\n\nSheltering Arms Institute connects patients with a support group for a safe and supportive environment for individuals living with limb loss or limb difference. Support groups provide members the opportunity to express their feelings\, learn helpful information\, improve social skills\, and realize they are not alone. \n\n\n\nLocation:\nJoin us virtually or in person at:\n\n\n\n\nSheltering Arms Institute\n2000 Wilkes Ridge Drive\nRichmond\, VA 23233 \n\n\nTo Register:\n\n\n\n\nTo RSVP\, please fill out the form below.\n\n\n\n\n\n\nQuestions? Contact Anna O’Hara\, OTD\, OTR/L\, at anna.ohara@sai.rehab.\n\n\n 
URL:https://shelteringarmsinstitute.com/event/support-group-for-limb-loss-and-limb-difference/2024-12-04/
LOCATION:Sheltering Arms Institute\, 2000 Wilkes Ridge Drive\, Richmond\, VA\, 23233\, United States
CATEGORIES:SAI Community Event
ATTACH;FMTTYPE=image/jpeg:https://shelteringarmsinstitute.com/wp-content/uploads/2023/02/Amputation-support-group-Banner.jpg
END:VEVENT
BEGIN:VEVENT
DTSTART;TZID=America/New_York:20241212T163000
DTEND;TZID=America/New_York:20241212T180000
DTSTAMP:20260422T123312
CREATED:20241017T150447Z
LAST-MODIFIED:20241105T173011Z
UID:10000753-1734021000-1734026400@shelteringarmsinstitute.com
SUMMARY:Navigating Obstacles with Insurance: A PROVIDER PERSPECTIVE
DESCRIPTION:When: Thursday\, December 12th • 4:30 p.m. – 6 p.m. \nDinner provided followed by a tour of Sheltering Arms Institute \nThis event is free of charge. \nWhere: 2000 Wilkes Ridge Dr.\, Richmond\, VA 23233\, Main Conference Room \n  \nPlease join us for an evening of education\, conversation\, and dinner. \nYou will learn valuable information about navigating different insurance plans with proactive documentation\, assessments\, along with tips to ensure the correct vocabulary is used to advocate for your patients while locating the right level of post acute continuum of care. \nPresenter: Dr. Britney Tsui \nInvited Disciplines: Clinicians\, Physicians\, Social workers\, Case workers\, Nurses\, and Therapists \nContinuing Education Credit: CEU Certificates of attendance will be given to all attendees. CEU certificates will not be given at this time for watching recording at later time. \n  \n Fill Out Form Below to Register:
URL:https://shelteringarmsinstitute.com/event/navigating-obstacles-with-insurance-a-provider-perspective/
LOCATION:Sheltering Arms Institute\, 2000 Wilkes Ridge Drive\, Richmond\, VA\, 23233\, United States
ATTACH;FMTTYPE=image/jpeg:https://shelteringarmsinstitute.com/wp-content/uploads/2024/10/Navigating-Insurance-event-header.jpg
END:VEVENT
END:VCALENDAR