BEGIN:VCALENDAR
VERSION:2.0
PRODID:-//Sheltering Arms Institute - ECPv6.15.19//NONSGML v1.0//EN
CALSCALE:GREGORIAN
METHOD:PUBLISH
X-ORIGINAL-URL:https://shelteringarmsinstitute.com
X-WR-CALDESC:Events for Sheltering Arms Institute
REFRESH-INTERVAL;VALUE=DURATION:PT1H
X-Robots-Tag:noindex
X-PUBLISHED-TTL:PT1H
BEGIN:VTIMEZONE
TZID:America/New_York
BEGIN:DAYLIGHT
TZOFFSETFROM:-0500
TZOFFSETTO:-0400
TZNAME:EDT
DTSTART:20240310T070000
END:DAYLIGHT
BEGIN:STANDARD
TZOFFSETFROM:-0400
TZOFFSETTO:-0500
TZNAME:EST
DTSTART:20241103T060000
END:STANDARD
BEGIN:DAYLIGHT
TZOFFSETFROM:-0500
TZOFFSETTO:-0400
TZNAME:EDT
DTSTART:20250309T070000
END:DAYLIGHT
BEGIN:STANDARD
TZOFFSETFROM:-0400
TZOFFSETTO:-0500
TZNAME:EST
DTSTART:20251102T060000
END:STANDARD
BEGIN:DAYLIGHT
TZOFFSETFROM:-0500
TZOFFSETTO:-0400
TZNAME:EDT
DTSTART:20260308T070000
END:DAYLIGHT
BEGIN:STANDARD
TZOFFSETFROM:-0400
TZOFFSETTO:-0500
TZNAME:EST
DTSTART:20261101T060000
END:STANDARD
END:VTIMEZONE
BEGIN:VEVENT
DTSTART;TZID=America/New_York:20250101T110000
DTEND;TZID=America/New_York:20250101T120000
DTSTAMP:20260422T104137
CREATED:20230206T213657Z
LAST-MODIFIED:20250721T183623Z
UID:10000043-1735729200-1735732800@shelteringarmsinstitute.com
SUMMARY:Support Group for Limb Loss and Limb Difference
DESCRIPTION:Monthly Support Group\n\n\n\n\nFirst Wednesday of Each Month 11 a.m. – 12 p.m.\n\n\n\n\nSheltering Arms Institute connects patients with a support group for a safe and supportive environment for individuals living with limb loss or limb difference. Support groups provide members the opportunity to express their feelings\, learn helpful information\, improve social skills\, and realize they are not alone. \n\n\n\nLocation:\nJoin us virtually or in person at:\n\n\n\n\nSheltering Arms Institute\n2000 Wilkes Ridge Drive\nRichmond\, VA 23233 \n\n\nTo Register:\n\n\n\n\nTo RSVP\, please fill out the form below.\n\n\n\n\n\n\nQuestions? Contact Anna O’Hara\, OTD\, OTR/L\, at anna.ohara@sai.rehab.\n\n\n 
URL:https://shelteringarmsinstitute.com/event/support-group-for-limb-loss-and-limb-difference/2025-01-01/
LOCATION:Sheltering Arms Institute\, 2000 Wilkes Ridge Drive\, Richmond\, VA\, 23233\, United States
CATEGORIES:SAI Community Event
ATTACH;FMTTYPE=image/jpeg:https://shelteringarmsinstitute.com/wp-content/uploads/2023/02/Amputation-support-group-Banner.jpg
END:VEVENT
BEGIN:VEVENT
DTSTART;TZID=America/New_York:20250114T120000
DTEND;TZID=America/New_York:20250114T130000
DTSTAMP:20260422T104137
CREATED:20250107T192621Z
LAST-MODIFIED:20260102T154244Z
UID:10000905-1736856000-1736859600@shelteringarmsinstitute.com
SUMMARY:Concussion Support Group
DESCRIPTION:Education and support make a huge difference in concussion recovery. Please join us for a brief informational session provided virtually by Sheltering Arms Institute healthcare providers followed by an open forum for questions. \nThis support group is intended to provide an outlet for discussion of shared experiences to help with coping strategies and general education about concussions. If you are an adult diagnosed with a concussion and are actively under the care of a healthcare provider for the injury (MD\, PT\, SLP\, Psychologist\, etc.)\, we encourage you to attend. \n\n\nTo Register:\n\n\n\n\nTo RSVP\, please fill out the form below.\n\n\nQuestions? Contact Caitlin Larkins at caitlin.larkins@sai.rehab
URL:https://shelteringarmsinstitute.com/event/concussion-support-group-3/2025-01-14/
CATEGORIES:SAI Community Event
ATTACH;FMTTYPE=image/jpeg:https://shelteringarmsinstitute.com/wp-content/uploads/2025/01/Concussion-support-group-header.jpg
END:VEVENT
BEGIN:VEVENT
DTSTART;TZID=America/New_York:20250116T130000
DTEND;TZID=America/New_York:20250116T140000
DTSTAMP:20260422T104137
CREATED:20240531T174036Z
LAST-MODIFIED:20250109T142251Z
UID:10000755-1737032400-1737036000@shelteringarmsinstitute.com
SUMMARY:Caring for the Caregiver
DESCRIPTION:Caregivers play an important role in their loved one’s recovery\, and we want to support your well-being and success along the way. \nPowerful Tools for Caregivers is a six-week class series held once a week. This program will give you the skills to take care of yourself while caring for your loved one. By taking care of your own mental and physical health\, you can be a better caregiver. \nWhen: Each Thursday from January 16 through February 20\nWhere: Sheltering Arms Institute (2000 Wilkes Ridge Dr.\, Richmond\, VA 23233) or virtually via Microsoft Teams\nCost: Free \n\nBelow are some of the helpful strategies that will be covered:\nReduce stress\nImprove self-confidence\nManage time\, set goals & problem solve\nBetter communicate feelings\nAccess community resources\nMake tough decisions\n\nParticipants will receive a caregiver resource guide. To learn more about the Caregiver Program\, visit: powerfultoolsforcaregivers.org. \nRegistration for this class is now closed. Fill out the form below to join our waitlist: 
URL:https://shelteringarmsinstitute.com/event/caring-for-the-caregiver/2025-01-16/
LOCATION:Sheltering Arms Institute\, 2000 Wilkes Ridge Drive\, Richmond\, VA\, 23233\, United States
ATTACH;FMTTYPE=image/jpeg:https://shelteringarmsinstitute.com/wp-content/uploads/2024/05/Powerful-Tools-for-the-Caregiver-heading-scaled.jpg
END:VEVENT
BEGIN:VEVENT
DTSTART;TZID=America/New_York:20250122T140000
DTEND;TZID=America/New_York:20250122T150000
DTSTAMP:20260422T104137
CREATED:20231221T201732Z
LAST-MODIFIED:20231229T194323Z
UID:10000237-1737554400-1737558000@shelteringarmsinstitute.com
SUMMARY:Stroke Survivor and Caregiver Support Group
DESCRIPTION:Monthly Support Group\n\n\n\n\n4th Wednesday of Each Month 2 p.m. – 3 p.m.\n\n\n\n\nSheltering Arms Institute connects patients with a support group for a safe and supportive environment for stroke survivors and caregivers. Support groups provide members the opportunity to express their feelings\, learn helpful information\, improve social skills\, and realize they are not alone. \n\n\n\n\n\n\n\n\n\n\n\n\n\n\n\n\n\n\nLocation:\n\n\n\n\n\n\n\n\n\nJoin us virtually or in person at:\nSheltering Arms Institute\n2000 Wilkes Ridge Drive\nRichmond\, VA 23233 \n\n\n\n\n\n\n\n\n\n\n\n\n\n\n\n\n\n\nTo Register:\n\n\n\n\n\n\n\n\n\nQuestions? Contact the Community Engagement team at Community.Engagement@sai.rehab
URL:https://shelteringarmsinstitute.com/event/stroke-survivor-and-caregiver-support-group/2025-01-22/
LOCATION:Sheltering Arms Institute\, 2000 Wilkes Ridge Drive\, Richmond\, VA\, 23233\, United States
ATTACH;FMTTYPE=image/jpeg:https://shelteringarmsinstitute.com/wp-content/uploads/2023/12/Stroke-Support-group-webpage-header-copy-2.jpg
END:VEVENT
BEGIN:VEVENT
DTSTART;TZID=America/New_York:20250123T130000
DTEND;TZID=America/New_York:20250123T140000
DTSTAMP:20260422T104137
CREATED:20240531T174036Z
LAST-MODIFIED:20250109T142251Z
UID:10000756-1737637200-1737640800@shelteringarmsinstitute.com
SUMMARY:Caring for the Caregiver
DESCRIPTION:Caregivers play an important role in their loved one’s recovery\, and we want to support your well-being and success along the way. \nPowerful Tools for Caregivers is a six-week class series held once a week. This program will give you the skills to take care of yourself while caring for your loved one. By taking care of your own mental and physical health\, you can be a better caregiver. \nWhen: Each Thursday from January 16 through February 20\nWhere: Sheltering Arms Institute (2000 Wilkes Ridge Dr.\, Richmond\, VA 23233) or virtually via Microsoft Teams\nCost: Free \n\nBelow are some of the helpful strategies that will be covered:\nReduce stress\nImprove self-confidence\nManage time\, set goals & problem solve\nBetter communicate feelings\nAccess community resources\nMake tough decisions\n\nParticipants will receive a caregiver resource guide. To learn more about the Caregiver Program\, visit: powerfultoolsforcaregivers.org. \nRegistration for this class is now closed. Fill out the form below to join our waitlist: 
URL:https://shelteringarmsinstitute.com/event/caring-for-the-caregiver/2025-01-23/
LOCATION:Sheltering Arms Institute\, 2000 Wilkes Ridge Drive\, Richmond\, VA\, 23233\, United States
ATTACH;FMTTYPE=image/jpeg:https://shelteringarmsinstitute.com/wp-content/uploads/2024/05/Powerful-Tools-for-the-Caregiver-heading-scaled.jpg
END:VEVENT
BEGIN:VEVENT
DTSTART;TZID=America/New_York:20250130T130000
DTEND;TZID=America/New_York:20250130T140000
DTSTAMP:20260422T104137
CREATED:20240531T174036Z
LAST-MODIFIED:20250109T142251Z
UID:10000757-1738242000-1738245600@shelteringarmsinstitute.com
SUMMARY:Caring for the Caregiver
DESCRIPTION:Caregivers play an important role in their loved one’s recovery\, and we want to support your well-being and success along the way. \nPowerful Tools for Caregivers is a six-week class series held once a week. This program will give you the skills to take care of yourself while caring for your loved one. By taking care of your own mental and physical health\, you can be a better caregiver. \nWhen: Each Thursday from January 16 through February 20\nWhere: Sheltering Arms Institute (2000 Wilkes Ridge Dr.\, Richmond\, VA 23233) or virtually via Microsoft Teams\nCost: Free \n\nBelow are some of the helpful strategies that will be covered:\nReduce stress\nImprove self-confidence\nManage time\, set goals & problem solve\nBetter communicate feelings\nAccess community resources\nMake tough decisions\n\nParticipants will receive a caregiver resource guide. To learn more about the Caregiver Program\, visit: powerfultoolsforcaregivers.org. \nRegistration for this class is now closed. Fill out the form below to join our waitlist: 
URL:https://shelteringarmsinstitute.com/event/caring-for-the-caregiver/2025-01-30/
LOCATION:Sheltering Arms Institute\, 2000 Wilkes Ridge Drive\, Richmond\, VA\, 23233\, United States
ATTACH;FMTTYPE=image/jpeg:https://shelteringarmsinstitute.com/wp-content/uploads/2024/05/Powerful-Tools-for-the-Caregiver-heading-scaled.jpg
END:VEVENT
END:VCALENDAR