BEGIN:VCALENDAR
VERSION:2.0
PRODID:-//Sheltering Arms Institute - ECPv6.15.19//NONSGML v1.0//EN
CALSCALE:GREGORIAN
METHOD:PUBLISH
X-WR-CALNAME:Sheltering Arms Institute
X-ORIGINAL-URL:https://shelteringarmsinstitute.com
X-WR-CALDESC:Events for Sheltering Arms Institute
REFRESH-INTERVAL;VALUE=DURATION:PT1H
X-Robots-Tag:noindex
X-PUBLISHED-TTL:PT1H
BEGIN:VTIMEZONE
TZID:America/New_York
BEGIN:DAYLIGHT
TZOFFSETFROM:-0500
TZOFFSETTO:-0400
TZNAME:EDT
DTSTART:20240310T070000
END:DAYLIGHT
BEGIN:STANDARD
TZOFFSETFROM:-0400
TZOFFSETTO:-0500
TZNAME:EST
DTSTART:20241103T060000
END:STANDARD
BEGIN:DAYLIGHT
TZOFFSETFROM:-0500
TZOFFSETTO:-0400
TZNAME:EDT
DTSTART:20250309T070000
END:DAYLIGHT
BEGIN:STANDARD
TZOFFSETFROM:-0400
TZOFFSETTO:-0500
TZNAME:EST
DTSTART:20251102T060000
END:STANDARD
BEGIN:DAYLIGHT
TZOFFSETFROM:-0500
TZOFFSETTO:-0400
TZNAME:EDT
DTSTART:20260308T070000
END:DAYLIGHT
BEGIN:STANDARD
TZOFFSETFROM:-0400
TZOFFSETTO:-0500
TZNAME:EST
DTSTART:20261101T060000
END:STANDARD
END:VTIMEZONE
BEGIN:VEVENT
DTSTART;TZID=America/New_York:20251001T110000
DTEND;TZID=America/New_York:20251001T120000
DTSTAMP:20260421T201124
CREATED:20230206T213657Z
LAST-MODIFIED:20250721T183623Z
UID:10000186-1759316400-1759320000@shelteringarmsinstitute.com
SUMMARY:Support Group for Limb Loss and Limb Difference
DESCRIPTION:Monthly Support Group\n\n\n\n\nFirst Wednesday of Each Month 11 a.m. – 12 p.m.\n\n\n\n\nSheltering Arms Institute connects patients with a support group for a safe and supportive environment for individuals living with limb loss or limb difference. Support groups provide members the opportunity to express their feelings\, learn helpful information\, improve social skills\, and realize they are not alone. \n\n\n\nLocation:\nJoin us virtually or in person at:\n\n\n\n\nSheltering Arms Institute\n2000 Wilkes Ridge Drive\nRichmond\, VA 23233 \n\n\nTo Register:\n\n\n\n\nTo RSVP\, please fill out the form below.\n\n\n\n\n\n\nQuestions? Contact Anna O’Hara\, OTD\, OTR/L\, at anna.ohara@sai.rehab.\n\n\n 
URL:https://shelteringarmsinstitute.com/event/support-group-for-limb-loss-and-limb-difference/2025-10-01/
LOCATION:Sheltering Arms Institute\, 2000 Wilkes Ridge Drive\, Richmond\, VA\, 23233\, United States
CATEGORIES:SAI Community Event
ATTACH;FMTTYPE=image/jpeg:https://shelteringarmsinstitute.com/wp-content/uploads/2023/02/Amputation-support-group-Banner.jpg
END:VEVENT
BEGIN:VEVENT
DTSTART;TZID=America/New_York:20251002T130000
DTEND;TZID=America/New_York:20251002T143000
DTSTAMP:20260421T201124
CREATED:20250811T151855Z
LAST-MODIFIED:20250822T145057Z
UID:10001344-1759410000-1759415400@shelteringarmsinstitute.com
SUMMARY:Diabetes Self-Management (Class Series)
DESCRIPTION:Do you live with diabetes or know someone who does?\nSheltering Arms Institute\, in partnership with The SPAN Center\, are offering a 6-week evidence-based diabetes education class. Adults with diabetes\, friends\, family members\, and caregivers are welcome to participate. \nWhen: Each Thursday from September 18 through October 23 from 1-2:30 p.m. \nWhere: In person at Sheltering Arms Institute’s Main Campus (2000 Wilkes Ridge Dr. Henrico\, VA 23233) Room 1040. Virtual option available upon request. \nCost: Free! \nLearning Objectives: \n\nNutrition and healthy eating\nPreventing complications\nWorking with your health care provider\nSkin & foot care\nPreventing/monitoring low blood sugar\n\nQuestions? Email community.engagement@sai.rehab or call (804) 578-6532. \n Register with the form below:
URL:https://shelteringarmsinstitute.com/event/diabetes-self-management-class-series-2/2025-10-02/
LOCATION:Sheltering Arms Institute\, 2000 Wilkes Ridge Drive\, Richmond\, VA\, 23233\, United States
CATEGORIES:SAI Community Event
ATTACH;FMTTYPE=image/png:https://shelteringarmsinstitute.com/wp-content/uploads/2025/01/Diabetes-Self-Management-Header.png
END:VEVENT
BEGIN:VEVENT
DTSTART;TZID=America/New_York:20251006T100000
DTEND;TZID=America/New_York:20251006T110000
DTSTAMP:20260421T201124
CREATED:20250325T142019Z
LAST-MODIFIED:20250325T142019Z
UID:10000941-1759744800-1759748400@shelteringarmsinstitute.com
SUMMARY:MyLife Assistive Technology Educational Series: Switches
DESCRIPTION:When: Monday\, October 6 | 10-11 a.m. \nWhere: Sheltering Arms Institute Conference Room 1019 2000 Wilkes Ridge Dr Richmond VA\, 23233 or Virtually via Microsoft Teams \nTopic: Switches \nSummary: This education series explores how assistive technology empowers individuals to control their surroundings\, enhancing independence and quality of life. This series will cover devices\, troubleshooting\, introduction to user training and funding options to ensure effective use of the highlighted device. \nThis session will provide a look at switch-access technology\, a vital tool for individuals with mobility limitations to access and control devices such as computers/tablets\, phones\, etc. The session will include a hands-on opportunity to trial various switches\, allowing participants to experience their functionality and adaptability firsthand. \nRegister with the form below:
URL:https://shelteringarmsinstitute.com/event/mylife-assistive-technology-educational-series-switches/
CATEGORIES:SAI Community Event
ATTACH;FMTTYPE=image/png:https://shelteringarmsinstitute.com/wp-content/uploads/2025/03/MyLife-Series.png
END:VEVENT
BEGIN:VEVENT
DTSTART;TZID=America/New_York:20251008T140000
DTEND;TZID=America/New_York:20251008T150000
DTSTAMP:20260421T201124
CREATED:20250919T170142Z
LAST-MODIFIED:20251118T170500Z
UID:10001349-1759932000-1759935600@shelteringarmsinstitute.com
SUMMARY:Aphasia Support Group
DESCRIPTION:Monthly Support Group\n\n\n\n\n2nd Wednesday of Each Month 2 p.m. – 3 p.m.\nWhere: In person at Sheltering Arms Institute’s Main Campus (2000 Wilkes Ridge Dr. Henrico\, VA 23233) \n\n\nThis support group is designed for people living with aphasia. We are also here to support families\, friends\, and professionals in understanding what aphasia is\, ways to assist in the recovery\, and help understand one another. We help those with aphasia find ways to communicate\, locate information\, find interesting things to do\, and get better. This support group is led by our licensed speech language pathologists at Sheltering Arms Institute. \n  \n\n\nRegister with the form below:\n\n\n\n\nQuestions? Contact the Community Engagement team at Community.Engagement@sai.rehab
URL:https://shelteringarmsinstitute.com/event/aphasia-support-group/2025-10-08/
LOCATION:Sheltering Arms Institute\, 2000 Wilkes Ridge Drive\, Richmond\, VA\, 23233\, United States
ATTACH;FMTTYPE=image/png:https://shelteringarmsinstitute.com/wp-content/uploads/2025/09/Aphasia-Support-Group.png
END:VEVENT
BEGIN:VEVENT
DTSTART;TZID=America/New_York:20251009T130000
DTEND;TZID=America/New_York:20251009T143000
DTSTAMP:20260421T201124
CREATED:20250811T151855Z
LAST-MODIFIED:20250822T145057Z
UID:10001345-1760014800-1760020200@shelteringarmsinstitute.com
SUMMARY:Diabetes Self-Management (Class Series)
DESCRIPTION:Do you live with diabetes or know someone who does?\nSheltering Arms Institute\, in partnership with The SPAN Center\, are offering a 6-week evidence-based diabetes education class. Adults with diabetes\, friends\, family members\, and caregivers are welcome to participate. \nWhen: Each Thursday from September 18 through October 23 from 1-2:30 p.m. \nWhere: In person at Sheltering Arms Institute’s Main Campus (2000 Wilkes Ridge Dr. Henrico\, VA 23233) Room 1040. Virtual option available upon request. \nCost: Free! \nLearning Objectives: \n\nNutrition and healthy eating\nPreventing complications\nWorking with your health care provider\nSkin & foot care\nPreventing/monitoring low blood sugar\n\nQuestions? Email community.engagement@sai.rehab or call (804) 578-6532. \n Register with the form below:
URL:https://shelteringarmsinstitute.com/event/diabetes-self-management-class-series-2/2025-10-09/
LOCATION:Sheltering Arms Institute\, 2000 Wilkes Ridge Drive\, Richmond\, VA\, 23233\, United States
CATEGORIES:SAI Community Event
ATTACH;FMTTYPE=image/png:https://shelteringarmsinstitute.com/wp-content/uploads/2025/01/Diabetes-Self-Management-Header.png
END:VEVENT
BEGIN:VEVENT
DTSTART;TZID=America/New_York:20251016T130000
DTEND;TZID=America/New_York:20251016T143000
DTSTAMP:20260421T201125
CREATED:20250811T151855Z
LAST-MODIFIED:20250822T145057Z
UID:10001346-1760619600-1760625000@shelteringarmsinstitute.com
SUMMARY:Diabetes Self-Management (Class Series)
DESCRIPTION:Do you live with diabetes or know someone who does?\nSheltering Arms Institute\, in partnership with The SPAN Center\, are offering a 6-week evidence-based diabetes education class. Adults with diabetes\, friends\, family members\, and caregivers are welcome to participate. \nWhen: Each Thursday from September 18 through October 23 from 1-2:30 p.m. \nWhere: In person at Sheltering Arms Institute’s Main Campus (2000 Wilkes Ridge Dr. Henrico\, VA 23233) Room 1040. Virtual option available upon request. \nCost: Free! \nLearning Objectives: \n\nNutrition and healthy eating\nPreventing complications\nWorking with your health care provider\nSkin & foot care\nPreventing/monitoring low blood sugar\n\nQuestions? Email community.engagement@sai.rehab or call (804) 578-6532. \n Register with the form below:
URL:https://shelteringarmsinstitute.com/event/diabetes-self-management-class-series-2/2025-10-16/
LOCATION:Sheltering Arms Institute\, 2000 Wilkes Ridge Drive\, Richmond\, VA\, 23233\, United States
CATEGORIES:SAI Community Event
ATTACH;FMTTYPE=image/png:https://shelteringarmsinstitute.com/wp-content/uploads/2025/01/Diabetes-Self-Management-Header.png
END:VEVENT
BEGIN:VEVENT
DTSTART;TZID=America/New_York:20251016T150000
DTEND;TZID=America/New_York:20251016T160000
DTSTAMP:20260421T201125
CREATED:20250605T122556Z
LAST-MODIFIED:20260106T184808Z
UID:10001526-1760626800-1760630400@shelteringarmsinstitute.com
SUMMARY:Caregiver Support Meeting
DESCRIPTION:Monthly Support Group\n3rd Thursday of Each Month 3 p.m.\nWe know that caregivers are an integral part of our patients’ recovery\, that’s why we’ve established Safe Space support meetings to offer advice\, compassion\, and resources. Our goal is to provide caregivers the opportunity to express their feelings\, learn helpful information\, and realize they are not alone and help connect with others who have gone through a similar experience. \n  \nLocation:\nJoin us virtually or in person at:\nSheltering Arms Institute Room 1040\n2000 Wilkes Ridge Drive\nRichmond\, VA 23233 \n  \nTo Register:\nQuestions? Contact the Community Engagement team at Community.Engagement@sai.rehab
URL:https://shelteringarmsinstitute.com/event/caregiver-safe-space-support-meeting-2/2025-10-16/
LOCATION:Sheltering Arms Institute\, 2000 Wilkes Ridge Drive\, Richmond\, VA\, 23233\, United States
CATEGORIES:SAI Community Event
ATTACH;FMTTYPE=image/jpeg:https://shelteringarmsinstitute.com/wp-content/uploads/2025/04/Caregiver-Support-Group-Header-scaled.jpg
END:VEVENT
BEGIN:VEVENT
DTSTART;TZID=America/New_York:20251022T120000
DTEND;TZID=America/New_York:20251022T143000
DTSTAMP:20260421T201125
CREATED:20241008T164218Z
LAST-MODIFIED:20250912T152602Z
UID:10000752-1761134400-1761143400@shelteringarmsinstitute.com
SUMMARY:Community Partners Expo
DESCRIPTION:When: Wednesday\, October 22 from 12-2:30 p.m. \nWhere: Sheltering Arms Institute’s Main Campus (2000 Wilkes Ridge Dr. Richmond\, VA 23233) \nWhat: Join us for our 7th annual 2025 Community Partners Expo and visit with 20+ other local non-profit organizations to learn about the services they provide to patients and family members during or after graduation from physical rehabilitation! No registration required.
URL:https://shelteringarmsinstitute.com/event/community-partners-expo/
LOCATION:Sheltering Arms Institute\, 2000 Wilkes Ridge Drive\, Richmond\, VA\, 23233\, United States
ATTACH;FMTTYPE=image/jpeg:https://shelteringarmsinstitute.com/wp-content/uploads/2024/10/Community-Partners-Expo.jpg
END:VEVENT
BEGIN:VEVENT
DTSTART;TZID=America/New_York:20251022T140000
DTEND;TZID=America/New_York:20251022T150000
DTSTAMP:20260421T201125
CREATED:20231221T201732Z
LAST-MODIFIED:20231229T194323Z
UID:10000246-1761141600-1761145200@shelteringarmsinstitute.com
SUMMARY:Stroke Survivor and Caregiver Support Group
DESCRIPTION:Monthly Support Group\n\n\n\n\n4th Wednesday of Each Month 2 p.m. – 3 p.m.\n\n\n\n\nSheltering Arms Institute connects patients with a support group for a safe and supportive environment for stroke survivors and caregivers. Support groups provide members the opportunity to express their feelings\, learn helpful information\, improve social skills\, and realize they are not alone. \n\n\n\n\n\n\n\n\n\n\n\n\n\n\n\n\n\n\nLocation:\n\n\n\n\n\n\n\n\n\nJoin us virtually or in person at:\nSheltering Arms Institute\n2000 Wilkes Ridge Drive\nRichmond\, VA 23233 \n\n\n\n\n\n\n\n\n\n\n\n\n\n\n\n\n\n\nTo Register:\n\n\n\n\n\n\n\n\n\nQuestions? Contact the Community Engagement team at Community.Engagement@sai.rehab
URL:https://shelteringarmsinstitute.com/event/stroke-survivor-and-caregiver-support-group/2025-10-22/
LOCATION:Sheltering Arms Institute\, 2000 Wilkes Ridge Drive\, Richmond\, VA\, 23233\, United States
ATTACH;FMTTYPE=image/jpeg:https://shelteringarmsinstitute.com/wp-content/uploads/2023/12/Stroke-Support-group-webpage-header-copy-2.jpg
END:VEVENT
END:VCALENDAR