BEGIN:VCALENDAR
VERSION:2.0
PRODID:-//Sheltering Arms Institute - ECPv6.15.19//NONSGML v1.0//EN
CALSCALE:GREGORIAN
METHOD:PUBLISH
X-WR-CALNAME:Sheltering Arms Institute
X-ORIGINAL-URL:https://shelteringarmsinstitute.com
X-WR-CALDESC:Events for Sheltering Arms Institute
REFRESH-INTERVAL;VALUE=DURATION:PT1H
X-Robots-Tag:noindex
X-PUBLISHED-TTL:PT1H
BEGIN:VTIMEZONE
TZID:America/New_York
BEGIN:DAYLIGHT
TZOFFSETFROM:-0500
TZOFFSETTO:-0400
TZNAME:EDT
DTSTART:20240310T070000
END:DAYLIGHT
BEGIN:STANDARD
TZOFFSETFROM:-0400
TZOFFSETTO:-0500
TZNAME:EST
DTSTART:20241103T060000
END:STANDARD
BEGIN:DAYLIGHT
TZOFFSETFROM:-0500
TZOFFSETTO:-0400
TZNAME:EDT
DTSTART:20250309T070000
END:DAYLIGHT
BEGIN:STANDARD
TZOFFSETFROM:-0400
TZOFFSETTO:-0500
TZNAME:EST
DTSTART:20251102T060000
END:STANDARD
BEGIN:DAYLIGHT
TZOFFSETFROM:-0500
TZOFFSETTO:-0400
TZNAME:EDT
DTSTART:20260308T070000
END:DAYLIGHT
BEGIN:STANDARD
TZOFFSETFROM:-0400
TZOFFSETTO:-0500
TZNAME:EST
DTSTART:20261101T060000
END:STANDARD
END:VTIMEZONE
BEGIN:VEVENT
DTSTART;TZID=America/New_York:20251105T110000
DTEND;TZID=America/New_York:20251105T120000
DTSTAMP:20260421T183039
CREATED:20230206T213657Z
LAST-MODIFIED:20250721T183623Z
UID:10000187-1762340400-1762344000@shelteringarmsinstitute.com
SUMMARY:Support Group for Limb Loss and Limb Difference
DESCRIPTION:Monthly Support Group\n\n\n\n\nFirst Wednesday of Each Month 11 a.m. – 12 p.m.\n\n\n\n\nSheltering Arms Institute connects patients with a support group for a safe and supportive environment for individuals living with limb loss or limb difference. Support groups provide members the opportunity to express their feelings\, learn helpful information\, improve social skills\, and realize they are not alone. \n\n\n\nLocation:\nJoin us virtually or in person at:\n\n\n\n\nSheltering Arms Institute\n2000 Wilkes Ridge Drive\nRichmond\, VA 23233 \n\n\nTo Register:\n\n\n\n\nTo RSVP\, please fill out the form below.\n\n\n\n\n\n\nQuestions? Contact Anna O’Hara\, OTD\, OTR/L\, at anna.ohara@sai.rehab.\n\n\n 
URL:https://shelteringarmsinstitute.com/event/support-group-for-limb-loss-and-limb-difference/2025-11-05/
LOCATION:Sheltering Arms Institute\, 2000 Wilkes Ridge Drive\, Richmond\, VA\, 23233\, United States
CATEGORIES:SAI Community Event
ATTACH;FMTTYPE=image/jpeg:https://shelteringarmsinstitute.com/wp-content/uploads/2023/02/Amputation-support-group-Banner.jpg
END:VEVENT
BEGIN:VEVENT
DTSTART;TZID=America/New_York:20251105T130000
DTEND;TZID=America/New_York:20251105T140000
DTSTAMP:20260421T183039
CREATED:20250325T134808Z
LAST-MODIFIED:20250325T140448Z
UID:10000940-1762347600-1762351200@shelteringarmsinstitute.com
SUMMARY:MyLife Assistive Technology Educational Series: Low Tech Options
DESCRIPTION:When: Wednesday\, November 5 | 1-2 p.m. \nWhere: Sheltering Arms Institute Conference Room 1019 2000 Wilkes Ridge Dr Richmond VA\, 23233 or Virtually via Microsoft Teams \nTopic: Low Tech Options \nSummary: This education series explores how assistive technology empowers individuals to control their surroundings\, enhancing independence and quality of life. This series will cover devices\, troubleshooting\, introduction to user training and funding options to ensure effective use of the highlighted device. \nThis session will explore low-tech assistive technology – simple yet effective tools that support individuals with daily activities. Participants will learn about a variety of options as well as touching on the  benefits\, implementation and funding options. The session will include a hands-on opportunity to trial various low-tech options\, allowing participants to experience their functionality and adaptability firsthand. \nRegister with the form below:
URL:https://shelteringarmsinstitute.com/event/mylife-assistive-technology-educational-series-low-tech-options/
CATEGORIES:SAI Community Event
ATTACH;FMTTYPE=image/png:https://shelteringarmsinstitute.com/wp-content/uploads/2025/03/MyLife-Series.png
END:VEVENT
BEGIN:VEVENT
DTSTART;TZID=America/New_York:20251111T120000
DTEND;TZID=America/New_York:20251111T130000
DTSTAMP:20260421T183039
CREATED:20250107T192621Z
LAST-MODIFIED:20260102T154244Z
UID:10000910-1762862400-1762866000@shelteringarmsinstitute.com
SUMMARY:Concussion Support Group
DESCRIPTION:Education and support make a huge difference in concussion recovery. Please join us for a brief informational session provided virtually by Sheltering Arms Institute healthcare providers followed by an open forum for questions. \nThis support group is intended to provide an outlet for discussion of shared experiences to help with coping strategies and general education about concussions. If you are an adult diagnosed with a concussion and are actively under the care of a healthcare provider for the injury (MD\, PT\, SLP\, Psychologist\, etc.)\, we encourage you to attend. \n\n\nTo Register:\n\n\n\n\nTo RSVP\, please fill out the form below.\n\n\nQuestions? Contact Caitlin Larkins at caitlin.larkins@sai.rehab
URL:https://shelteringarmsinstitute.com/event/concussion-support-group-3/2025-11-11/
CATEGORIES:SAI Community Event
ATTACH;FMTTYPE=image/jpeg:https://shelteringarmsinstitute.com/wp-content/uploads/2025/01/Concussion-support-group-header.jpg
END:VEVENT
BEGIN:VEVENT
DTSTART;TZID=America/New_York:20251112T140000
DTEND;TZID=America/New_York:20251112T150000
DTSTAMP:20260421T183039
CREATED:20250919T170142Z
LAST-MODIFIED:20251118T170500Z
UID:10001350-1762956000-1762959600@shelteringarmsinstitute.com
SUMMARY:Aphasia Support Group
DESCRIPTION:Monthly Support Group\n\n\n\n\n2nd Wednesday of Each Month 2 p.m. – 3 p.m.\nWhere: In person at Sheltering Arms Institute’s Main Campus (2000 Wilkes Ridge Dr. Henrico\, VA 23233) \n\n\nThis support group is designed for people living with aphasia. We are also here to support families\, friends\, and professionals in understanding what aphasia is\, ways to assist in the recovery\, and help understand one another. We help those with aphasia find ways to communicate\, locate information\, find interesting things to do\, and get better. This support group is led by our licensed speech language pathologists at Sheltering Arms Institute. \n  \n\n\nRegister with the form below:\n\n\n\n\nQuestions? Contact the Community Engagement team at Community.Engagement@sai.rehab
URL:https://shelteringarmsinstitute.com/event/aphasia-support-group/2025-11-12/
LOCATION:Sheltering Arms Institute\, 2000 Wilkes Ridge Drive\, Richmond\, VA\, 23233\, United States
ATTACH;FMTTYPE=image/png:https://shelteringarmsinstitute.com/wp-content/uploads/2025/09/Aphasia-Support-Group.png
END:VEVENT
BEGIN:VEVENT
DTSTART;TZID=America/New_York:20251118T140000
DTEND;TZID=America/New_York:20251118T144500
DTSTAMP:20260421T183039
CREATED:20250224T163002Z
LAST-MODIFIED:20250224T173852Z
UID:10000933-1763474400-1763477100@shelteringarmsinstitute.com
SUMMARY:Tips to Maximize Insurance Benefits and Get Your Best Outcome
DESCRIPTION:When: Tuesday\, November 18 from 2-2:45 p.m. \nWhere: In person at Sheltering Arms Institute’s Main Campus (2000 Wilkes Ridge Dr. Henrico\, VA 23233) or virtually via Microsoft Teams \n  \nLearning Objectives: \n\nWhat to expect from my physical therapy insurance benefits\nTips to boost the effectiveness of your physical therapy sessions\nHow to stretch physical therapy insurance benefits with our community fitness programs\n\n  \nQuestions? Email community.engagement@sai.rehab or call (804) 578-6532. \n  \nRegister with the form below:
URL:https://shelteringarmsinstitute.com/event/tips-to-maximize-insurance-benefits-and-get-your-best-outcome/
LOCATION:Sheltering Arms Institute\, 2000 Wilkes Ridge Drive\, Richmond\, VA\, 23233\, United States
CATEGORIES:SAI Community Event
ATTACH;FMTTYPE=image/jpeg:https://shelteringarmsinstitute.com/wp-content/uploads/2024/01/EmpowerU-landing-page-header-scaled.jpg
END:VEVENT
BEGIN:VEVENT
DTSTART;TZID=America/New_York:20251120T150000
DTEND;TZID=America/New_York:20251120T160000
DTSTAMP:20260421T183039
CREATED:20250605T122556Z
LAST-MODIFIED:20260106T184808Z
UID:10001527-1763650800-1763654400@shelteringarmsinstitute.com
SUMMARY:Caregiver Support Meeting
DESCRIPTION:Monthly Support Group\n3rd Thursday of Each Month 3 p.m.\nWe know that caregivers are an integral part of our patients’ recovery\, that’s why we’ve established Safe Space support meetings to offer advice\, compassion\, and resources. Our goal is to provide caregivers the opportunity to express their feelings\, learn helpful information\, and realize they are not alone and help connect with others who have gone through a similar experience. \n  \nLocation:\nJoin us virtually or in person at:\nSheltering Arms Institute Room 1040\n2000 Wilkes Ridge Drive\nRichmond\, VA 23233 \n  \nTo Register:\nQuestions? Contact the Community Engagement team at Community.Engagement@sai.rehab
URL:https://shelteringarmsinstitute.com/event/caregiver-safe-space-support-meeting-2/2025-11-20/
LOCATION:Sheltering Arms Institute\, 2000 Wilkes Ridge Drive\, Richmond\, VA\, 23233\, United States
CATEGORIES:SAI Community Event
ATTACH;FMTTYPE=image/jpeg:https://shelteringarmsinstitute.com/wp-content/uploads/2025/04/Caregiver-Support-Group-Header-scaled.jpg
END:VEVENT
BEGIN:VEVENT
DTSTART;TZID=America/New_York:20251125T170000
DTEND;TZID=America/New_York:20251125T183000
DTSTAMP:20260421T183039
CREATED:20241030T013925Z
LAST-MODIFIED:20251106T180805Z
UID:10000754-1764090000-1764095400@shelteringarmsinstitute.com
SUMMARY:Light It Up With Gratitude
DESCRIPTION:Join us for our third annual Celebration of Lights Grand Illumination Ceremony as we light up the Bridge Garden and transform it into a winter wonderland of lights representing the hundreds of gifts given by our generous donors to recognize the tremendous work done every day to help people find their Power to Overcome. Hot beverages and treats will be served. No RSVP required.
URL:https://shelteringarmsinstitute.com/event/light-it-up-with-gratitude/
LOCATION:Sheltering Arms Institute\, 2000 Wilkes Ridge Drive\, Richmond\, VA\, 23233\, United States
ATTACH;FMTTYPE=image/jpeg:https://shelteringarmsinstitute.com/wp-content/uploads/2024/10/IMG_2460.jpeg
END:VEVENT
BEGIN:VEVENT
DTSTART;TZID=America/New_York:20251126T140000
DTEND;TZID=America/New_York:20251126T150000
DTSTAMP:20260421T183039
CREATED:20231221T201732Z
LAST-MODIFIED:20231229T194323Z
UID:10000247-1764165600-1764169200@shelteringarmsinstitute.com
SUMMARY:Stroke Survivor and Caregiver Support Group
DESCRIPTION:Monthly Support Group\n\n\n\n\n4th Wednesday of Each Month 2 p.m. – 3 p.m.\n\n\n\n\nSheltering Arms Institute connects patients with a support group for a safe and supportive environment for stroke survivors and caregivers. Support groups provide members the opportunity to express their feelings\, learn helpful information\, improve social skills\, and realize they are not alone. \n\n\n\n\n\n\n\n\n\n\n\n\n\n\n\n\n\n\nLocation:\n\n\n\n\n\n\n\n\n\nJoin us virtually or in person at:\nSheltering Arms Institute\n2000 Wilkes Ridge Drive\nRichmond\, VA 23233 \n\n\n\n\n\n\n\n\n\n\n\n\n\n\n\n\n\n\nTo Register:\n\n\n\n\n\n\n\n\n\nQuestions? Contact the Community Engagement team at Community.Engagement@sai.rehab
URL:https://shelteringarmsinstitute.com/event/stroke-survivor-and-caregiver-support-group/2025-11-26/
LOCATION:Sheltering Arms Institute\, 2000 Wilkes Ridge Drive\, Richmond\, VA\, 23233\, United States
ATTACH;FMTTYPE=image/jpeg:https://shelteringarmsinstitute.com/wp-content/uploads/2023/12/Stroke-Support-group-webpage-header-copy-2.jpg
END:VEVENT
END:VCALENDAR