BEGIN:VCALENDAR
VERSION:2.0
PRODID:-//Sheltering Arms Institute - ECPv6.15.19//NONSGML v1.0//EN
CALSCALE:GREGORIAN
METHOD:PUBLISH
X-WR-CALNAME:Sheltering Arms Institute
X-ORIGINAL-URL:https://shelteringarmsinstitute.com
X-WR-CALDESC:Events for Sheltering Arms Institute
REFRESH-INTERVAL;VALUE=DURATION:PT1H
X-Robots-Tag:noindex
X-PUBLISHED-TTL:PT1H
BEGIN:VTIMEZONE
TZID:America/New_York
BEGIN:DAYLIGHT
TZOFFSETFROM:-0500
TZOFFSETTO:-0400
TZNAME:EDT
DTSTART:20250309T070000
END:DAYLIGHT
BEGIN:STANDARD
TZOFFSETFROM:-0400
TZOFFSETTO:-0500
TZNAME:EST
DTSTART:20251102T060000
END:STANDARD
BEGIN:DAYLIGHT
TZOFFSETFROM:-0500
TZOFFSETTO:-0400
TZNAME:EDT
DTSTART:20260308T070000
END:DAYLIGHT
BEGIN:STANDARD
TZOFFSETFROM:-0400
TZOFFSETTO:-0500
TZNAME:EST
DTSTART:20261101T060000
END:STANDARD
BEGIN:DAYLIGHT
TZOFFSETFROM:-0500
TZOFFSETTO:-0400
TZNAME:EDT
DTSTART:20270314T070000
END:DAYLIGHT
BEGIN:STANDARD
TZOFFSETFROM:-0400
TZOFFSETTO:-0500
TZNAME:EST
DTSTART:20271107T060000
END:STANDARD
END:VTIMEZONE
BEGIN:VEVENT
DTSTART;TZID=America/New_York:20260203T130000
DTEND;TZID=America/New_York:20260203T143000
DTSTAMP:20260421T134227
CREATED:20250811T154551Z
LAST-MODIFIED:20251202T165026Z
UID:10001414-1770123600-1770129000@shelteringarmsinstitute.com
SUMMARY:Caring for the Caregiver
DESCRIPTION:When: Each Tuesday from January 13 to February 17 from 1-2:30 p.m. \nWhere: In person at Sheltering Arms Institute’s Main Campus (2000 Wilkes Ridge Dr. Henrico\, VA 23233) or virtually via Microsoft Teams \n  \nCaregivers play an important role in their loved one’s recovery\, and we want to support your well-being and success along the way. Powerful Tools for Caregivers is a six-week class series held once a week. This program will give you the skills to take care of yourself while caring for your loved one. By taking care of your own mental and physical health\, you can be a better caregiver. Participants will receive a caregiver resource guide. To learn more about the Caregiver Program\, visit: powerfultoolsforcaregivers.org. \nBelow are some of the helpful strategies that will be covered: \n\nReduce stress\nImprove self-confidence\nManage time\, set goals & problem solve\nBetter communicate feelings\nAccess community resources\nMake tough decisions\n\n  \nQuestions? Email community.engagement@sai.rehab or call (804) 578-6532. \n  \nRegister with the form below:
URL:https://shelteringarmsinstitute.com/event/caring-for-the-caregiver-2-2/2026-02-03/
LOCATION:Sheltering Arms Institute\, 2000 Wilkes Ridge Drive\, Richmond\, VA\, 23233\, United States
CATEGORIES:SAI Community Event
ATTACH;FMTTYPE=image/jpeg:https://shelteringarmsinstitute.com/wp-content/uploads/2024/05/Powerful-Tools-for-the-Caregiver-heading-scaled.jpg
END:VEVENT
BEGIN:VEVENT
DTSTART;TZID=America/New_York:20260204T110000
DTEND;TZID=America/New_York:20260204T120000
DTSTAMP:20260421T134227
CREATED:20230206T213657Z
LAST-MODIFIED:20250721T183623Z
UID:10000190-1770202800-1770206400@shelteringarmsinstitute.com
SUMMARY:Support Group for Limb Loss and Limb Difference
DESCRIPTION:Monthly Support Group\n\n\n\n\nFirst Wednesday of Each Month 11 a.m. – 12 p.m.\n\n\n\n\nSheltering Arms Institute connects patients with a support group for a safe and supportive environment for individuals living with limb loss or limb difference. Support groups provide members the opportunity to express their feelings\, learn helpful information\, improve social skills\, and realize they are not alone. \n\n\n\nLocation:\nJoin us virtually or in person at:\n\n\n\n\nSheltering Arms Institute\n2000 Wilkes Ridge Drive\nRichmond\, VA 23233 \n\n\nTo Register:\n\n\n\n\nTo RSVP\, please fill out the form below.\n\n\n\n\n\n\nQuestions? Contact Anna O’Hara\, OTD\, OTR/L\, at anna.ohara@sai.rehab.\n\n\n 
URL:https://shelteringarmsinstitute.com/event/support-group-for-limb-loss-and-limb-difference/2026-02-04/
LOCATION:Sheltering Arms Institute\, 2000 Wilkes Ridge Drive\, Richmond\, VA\, 23233\, United States
CATEGORIES:SAI Community Event
ATTACH;FMTTYPE=image/jpeg:https://shelteringarmsinstitute.com/wp-content/uploads/2023/02/Amputation-support-group-Banner.jpg
END:VEVENT
BEGIN:VEVENT
DTSTART;TZID=America/New_York:20260211T140000
DTEND;TZID=America/New_York:20260211T150000
DTSTAMP:20260421T134227
CREATED:20250919T170142Z
LAST-MODIFIED:20251118T170500Z
UID:10001353-1770818400-1770822000@shelteringarmsinstitute.com
SUMMARY:Aphasia Support Group
DESCRIPTION:Monthly Support Group\n\n\n\n\n2nd Wednesday of Each Month 2 p.m. – 3 p.m.\nWhere: In person at Sheltering Arms Institute’s Main Campus (2000 Wilkes Ridge Dr. Henrico\, VA 23233) \n\n\nThis support group is designed for people living with aphasia. We are also here to support families\, friends\, and professionals in understanding what aphasia is\, ways to assist in the recovery\, and help understand one another. We help those with aphasia find ways to communicate\, locate information\, find interesting things to do\, and get better. This support group is led by our licensed speech language pathologists at Sheltering Arms Institute. \n  \n\n\nRegister with the form below:\n\n\n\n\nQuestions? Contact the Community Engagement team at Community.Engagement@sai.rehab
URL:https://shelteringarmsinstitute.com/event/aphasia-support-group/2026-02-11/
LOCATION:Sheltering Arms Institute\, 2000 Wilkes Ridge Drive\, Richmond\, VA\, 23233\, United States
ATTACH;FMTTYPE=image/png:https://shelteringarmsinstitute.com/wp-content/uploads/2025/09/Aphasia-Support-Group.png
END:VEVENT
BEGIN:VEVENT
DTSTART;TZID=America/New_York:20260218T130000
DTEND;TZID=America/New_York:20260218T140000
DTSTAMP:20260421T134227
CREATED:20260122T174936Z
LAST-MODIFIED:20260122T174936Z
UID:10001591-1771419600-1771423200@shelteringarmsinstitute.com
SUMMARY:Intimacy Through Recovery: How to Address Changes in Intimacy after a Neurological Event
DESCRIPTION:When: Wednesday\, February 18 from 1-2 p.m. \nWhere: In person at Sheltering Arms Institute’s Main Campus (2000 Wilkes Ridge Dr. Henrico\, VA 23233) or virtually via Microsoft Teams \n  \nLearning Objectives: \n\nUnderstand how changes after a neurological event can affect intimacy\nRecognize common challenges affecting connection\nStrengthen communication within relationships\nIdentify ways to reconnect with your partner\nIdentify available support resources\n\n  \nQuestions? Email community.engagement@sai.rehab or call (804) 578-6532. \n  \nRegister with the form below:
URL:https://shelteringarmsinstitute.com/event/intimacy-through-recovery-how-to-address-changes-in-intimacy-after-a-neurological-event/
LOCATION:Sheltering Arms Institute\, 2000 Wilkes Ridge Drive\, Richmond\, VA\, 23233\, United States
ATTACH;FMTTYPE=image/jpeg:https://shelteringarmsinstitute.com/wp-content/uploads/2024/01/EmpowerU-landing-page-header-scaled.jpg
END:VEVENT
BEGIN:VEVENT
DTSTART;TZID=America/New_York:20260219T150000
DTEND;TZID=America/New_York:20260219T160000
DTSTAMP:20260421T134227
CREATED:20250605T122556Z
LAST-MODIFIED:20260106T184808Z
UID:10001530-1771513200-1771516800@shelteringarmsinstitute.com
SUMMARY:Caregiver Support Meeting
DESCRIPTION:Monthly Support Group\n3rd Thursday of Each Month 3 p.m.\nWe know that caregivers are an integral part of our patients’ recovery\, that’s why we’ve established Safe Space support meetings to offer advice\, compassion\, and resources. Our goal is to provide caregivers the opportunity to express their feelings\, learn helpful information\, and realize they are not alone and help connect with others who have gone through a similar experience. \n  \nLocation:\nJoin us virtually or in person at:\nSheltering Arms Institute Room 1040\n2000 Wilkes Ridge Drive\nRichmond\, VA 23233 \n  \nTo Register:\nQuestions? Contact the Community Engagement team at Community.Engagement@sai.rehab
URL:https://shelteringarmsinstitute.com/event/caregiver-safe-space-support-meeting-2/2026-02-19/
LOCATION:Sheltering Arms Institute\, 2000 Wilkes Ridge Drive\, Richmond\, VA\, 23233\, United States
CATEGORIES:SAI Community Event
ATTACH;FMTTYPE=image/jpeg:https://shelteringarmsinstitute.com/wp-content/uploads/2025/04/Caregiver-Support-Group-Header-scaled.jpg
END:VEVENT
BEGIN:VEVENT
DTSTART;TZID=America/New_York:20260225T140000
DTEND;TZID=America/New_York:20260225T150000
DTSTAMP:20260421T134227
CREATED:20231221T201732Z
LAST-MODIFIED:20231229T194323Z
UID:10000250-1772028000-1772031600@shelteringarmsinstitute.com
SUMMARY:Stroke Survivor and Caregiver Support Group
DESCRIPTION:Monthly Support Group\n\n\n\n\n4th Wednesday of Each Month 2 p.m. – 3 p.m.\n\n\n\n\nSheltering Arms Institute connects patients with a support group for a safe and supportive environment for stroke survivors and caregivers. Support groups provide members the opportunity to express their feelings\, learn helpful information\, improve social skills\, and realize they are not alone. \n\n\n\n\n\n\n\n\n\n\n\n\n\n\n\n\n\n\nLocation:\n\n\n\n\n\n\n\n\n\nJoin us virtually or in person at:\nSheltering Arms Institute\n2000 Wilkes Ridge Drive\nRichmond\, VA 23233 \n\n\n\n\n\n\n\n\n\n\n\n\n\n\n\n\n\n\nTo Register:\n\n\n\n\n\n\n\n\n\nQuestions? Contact the Community Engagement team at Community.Engagement@sai.rehab
URL:https://shelteringarmsinstitute.com/event/stroke-survivor-and-caregiver-support-group/2026-02-25/
LOCATION:Sheltering Arms Institute\, 2000 Wilkes Ridge Drive\, Richmond\, VA\, 23233\, United States
ATTACH;FMTTYPE=image/jpeg:https://shelteringarmsinstitute.com/wp-content/uploads/2023/12/Stroke-Support-group-webpage-header-copy-2.jpg
END:VEVENT
END:VCALENDAR