BEGIN:VCALENDAR
VERSION:2.0
PRODID:-//Sheltering Arms Institute - ECPv6.15.19//NONSGML v1.0//EN
CALSCALE:GREGORIAN
METHOD:PUBLISH
X-WR-CALNAME:Sheltering Arms Institute
X-ORIGINAL-URL:https://shelteringarmsinstitute.com
X-WR-CALDESC:Events for Sheltering Arms Institute
REFRESH-INTERVAL;VALUE=DURATION:PT1H
X-Robots-Tag:noindex
X-PUBLISHED-TTL:PT1H
BEGIN:VTIMEZONE
TZID:America/New_York
BEGIN:DAYLIGHT
TZOFFSETFROM:-0500
TZOFFSETTO:-0400
TZNAME:EDT
DTSTART:20250309T070000
END:DAYLIGHT
BEGIN:STANDARD
TZOFFSETFROM:-0400
TZOFFSETTO:-0500
TZNAME:EST
DTSTART:20251102T060000
END:STANDARD
BEGIN:DAYLIGHT
TZOFFSETFROM:-0500
TZOFFSETTO:-0400
TZNAME:EDT
DTSTART:20260308T070000
END:DAYLIGHT
BEGIN:STANDARD
TZOFFSETFROM:-0400
TZOFFSETTO:-0500
TZNAME:EST
DTSTART:20261101T060000
END:STANDARD
BEGIN:DAYLIGHT
TZOFFSETFROM:-0500
TZOFFSETTO:-0400
TZNAME:EDT
DTSTART:20270314T070000
END:DAYLIGHT
BEGIN:STANDARD
TZOFFSETFROM:-0400
TZOFFSETTO:-0500
TZNAME:EST
DTSTART:20271107T060000
END:STANDARD
END:VTIMEZONE
BEGIN:VEVENT
DTSTART;TZID=America/New_York:20260902T110000
DTEND;TZID=America/New_York:20260902T120000
DTSTAMP:20260421T183120
CREATED:20230206T213657Z
LAST-MODIFIED:20250721T183623Z
UID:10000197-1788346800-1788350400@shelteringarmsinstitute.com
SUMMARY:Support Group for Limb Loss and Limb Difference
DESCRIPTION:Monthly Support Group\n\n\n\n\nFirst Wednesday of Each Month 11 a.m. – 12 p.m.\n\n\n\n\nSheltering Arms Institute connects patients with a support group for a safe and supportive environment for individuals living with limb loss or limb difference. Support groups provide members the opportunity to express their feelings\, learn helpful information\, improve social skills\, and realize they are not alone. \n\n\n\nLocation:\nJoin us virtually or in person at:\n\n\n\n\nSheltering Arms Institute\n2000 Wilkes Ridge Drive\nRichmond\, VA 23233 \n\n\nTo Register:\n\n\n\n\nTo RSVP\, please fill out the form below.\n\n\n\n\n\n\nQuestions? Contact Anna O’Hara\, OTD\, OTR/L\, at anna.ohara@sai.rehab.\n\n\n 
URL:https://shelteringarmsinstitute.com/event/support-group-for-limb-loss-and-limb-difference/2026-09-02/
LOCATION:Sheltering Arms Institute\, 2000 Wilkes Ridge Drive\, Richmond\, VA\, 23233\, United States
CATEGORIES:SAI Community Event
ATTACH;FMTTYPE=image/jpeg:https://shelteringarmsinstitute.com/wp-content/uploads/2023/02/Amputation-support-group-Banner.jpg
END:VEVENT
BEGIN:VEVENT
DTSTART;TZID=America/New_York:20260908T120000
DTEND;TZID=America/New_York:20260908T130000
DTSTAMP:20260421T183120
CREATED:20250107T192621Z
LAST-MODIFIED:20260102T154244Z
UID:10001490-1788868800-1788872400@shelteringarmsinstitute.com
SUMMARY:Concussion Support Group
DESCRIPTION:Education and support make a huge difference in concussion recovery. Please join us for a brief informational session provided virtually by Sheltering Arms Institute healthcare providers followed by an open forum for questions. \nThis support group is intended to provide an outlet for discussion of shared experiences to help with coping strategies and general education about concussions. If you are an adult diagnosed with a concussion and are actively under the care of a healthcare provider for the injury (MD\, PT\, SLP\, Psychologist\, etc.)\, we encourage you to attend. \n\n\nTo Register:\n\n\n\n\nTo RSVP\, please fill out the form below.\n\n\nQuestions? Contact Caitlin Larkins at caitlin.larkins@sai.rehab
URL:https://shelteringarmsinstitute.com/event/concussion-support-group-3/2026-09-08/
CATEGORIES:SAI Community Event
ATTACH;FMTTYPE=image/jpeg:https://shelteringarmsinstitute.com/wp-content/uploads/2025/01/Concussion-support-group-header.jpg
END:VEVENT
BEGIN:VEVENT
DTSTART;TZID=America/New_York:20260909T140000
DTEND;TZID=America/New_York:20260909T150000
DTSTAMP:20260421T183120
CREATED:20250919T170142Z
LAST-MODIFIED:20251118T170500Z
UID:10001360-1788962400-1788966000@shelteringarmsinstitute.com
SUMMARY:Aphasia Support Group
DESCRIPTION:Monthly Support Group\n\n\n\n\n2nd Wednesday of Each Month 2 p.m. – 3 p.m.\nWhere: In person at Sheltering Arms Institute’s Main Campus (2000 Wilkes Ridge Dr. Henrico\, VA 23233) \n\n\nThis support group is designed for people living with aphasia. We are also here to support families\, friends\, and professionals in understanding what aphasia is\, ways to assist in the recovery\, and help understand one another. We help those with aphasia find ways to communicate\, locate information\, find interesting things to do\, and get better. This support group is led by our licensed speech language pathologists at Sheltering Arms Institute. \n  \n\n\nRegister with the form below:\n\n\n\n\nQuestions? Contact the Community Engagement team at Community.Engagement@sai.rehab
URL:https://shelteringarmsinstitute.com/event/aphasia-support-group/2026-09-09/
LOCATION:Sheltering Arms Institute\, 2000 Wilkes Ridge Drive\, Richmond\, VA\, 23233\, United States
ATTACH;FMTTYPE=image/png:https://shelteringarmsinstitute.com/wp-content/uploads/2025/09/Aphasia-Support-Group.png
END:VEVENT
BEGIN:VEVENT
DTSTART;TZID=America/New_York:20260916T130000
DTEND;TZID=America/New_York:20260916T140000
DTSTAMP:20260421T183120
CREATED:20260327T135252Z
LAST-MODIFIED:20260327T135410Z
UID:10001596-1789563600-1789567200@shelteringarmsinstitute.com
SUMMARY:Managing Fatigue: The Long Haul of the Rehab Journey
DESCRIPTION:When: Wednesday\, September 16 from 1-2 p.m. \nWhere: In person at Sheltering Arms Institute’s Main Campus (2000 Wilkes Ridge Dr. Henrico\, VA 23233) or virtually via Microsoft Teams \n  \nFatigue can lead patients to feel limited in their recovery from a significant injury or illness. It can affect their participation in therapy\, exercise\, and community activities. Join us for a discussion on the reasons for fatigue\, ways to track it\, and strategies to manage it during the rehab journey. \n  \nLearning Objectives: \n\nTo understand the impact of fatigue on daily activity.\nTo understand how to measure and track your fatigue.\nTo identify other possible factors that impact fatigue.\nLearn strategies to manage fatigue in your recovery.\n\n  \nQuestions? Email community.engagement@sai.rehab or call (804) 578-6532. \n  \nRegister with the form below:
URL:https://shelteringarmsinstitute.com/event/managing-fatigue-the-long-haul-of-the-rehab-journey-3/
LOCATION:Sheltering Arms Institute\, 2000 Wilkes Ridge Drive\, Richmond\, VA\, 23233\, United States
ATTACH;FMTTYPE=image/jpeg:https://shelteringarmsinstitute.com/wp-content/uploads/2024/01/EmpowerU-landing-page-header-scaled.jpg
END:VEVENT
BEGIN:VEVENT
DTSTART;TZID=America/New_York:20260917T150000
DTEND;TZID=America/New_York:20260917T160000
DTSTAMP:20260421T183120
CREATED:20250605T122556Z
LAST-MODIFIED:20260106T184808Z
UID:10001537-1789657200-1789660800@shelteringarmsinstitute.com
SUMMARY:Caregiver Support Meeting
DESCRIPTION:Monthly Support Group\n3rd Thursday of Each Month 3 p.m.\nWe know that caregivers are an integral part of our patients’ recovery\, that’s why we’ve established Safe Space support meetings to offer advice\, compassion\, and resources. Our goal is to provide caregivers the opportunity to express their feelings\, learn helpful information\, and realize they are not alone and help connect with others who have gone through a similar experience. \n  \nLocation:\nJoin us virtually or in person at:\nSheltering Arms Institute Room 1040\n2000 Wilkes Ridge Drive\nRichmond\, VA 23233 \n  \nTo Register:\nQuestions? Contact the Community Engagement team at Community.Engagement@sai.rehab
URL:https://shelteringarmsinstitute.com/event/caregiver-safe-space-support-meeting-2/2026-09-17/
LOCATION:Sheltering Arms Institute\, 2000 Wilkes Ridge Drive\, Richmond\, VA\, 23233\, United States
CATEGORIES:SAI Community Event
ATTACH;FMTTYPE=image/jpeg:https://shelteringarmsinstitute.com/wp-content/uploads/2025/04/Caregiver-Support-Group-Header-scaled.jpg
END:VEVENT
BEGIN:VEVENT
DTSTART;TZID=America/New_York:20260923T140000
DTEND;TZID=America/New_York:20260923T150000
DTSTAMP:20260421T183120
CREATED:20231221T201732Z
LAST-MODIFIED:20231229T194323Z
UID:10000257-1790172000-1790175600@shelteringarmsinstitute.com
SUMMARY:Stroke Survivor and Caregiver Support Group
DESCRIPTION:Monthly Support Group\n\n\n\n\n4th Wednesday of Each Month 2 p.m. – 3 p.m.\n\n\n\n\nSheltering Arms Institute connects patients with a support group for a safe and supportive environment for stroke survivors and caregivers. Support groups provide members the opportunity to express their feelings\, learn helpful information\, improve social skills\, and realize they are not alone. \n\n\n\n\n\n\n\n\n\n\n\n\n\n\n\n\n\n\nLocation:\n\n\n\n\n\n\n\n\n\nJoin us virtually or in person at:\nSheltering Arms Institute\n2000 Wilkes Ridge Drive\nRichmond\, VA 23233 \n\n\n\n\n\n\n\n\n\n\n\n\n\n\n\n\n\n\nTo Register:\n\n\n\n\n\n\n\n\n\nQuestions? Contact the Community Engagement team at Community.Engagement@sai.rehab
URL:https://shelteringarmsinstitute.com/event/stroke-survivor-and-caregiver-support-group/2026-09-23/
LOCATION:Sheltering Arms Institute\, 2000 Wilkes Ridge Drive\, Richmond\, VA\, 23233\, United States
ATTACH;FMTTYPE=image/jpeg:https://shelteringarmsinstitute.com/wp-content/uploads/2023/12/Stroke-Support-group-webpage-header-copy-2.jpg
END:VEVENT
END:VCALENDAR