BEGIN:VCALENDAR
VERSION:2.0
PRODID:-//Sheltering Arms Institute - ECPv6.15.19//NONSGML v1.0//EN
CALSCALE:GREGORIAN
METHOD:PUBLISH
X-WR-CALNAME:Sheltering Arms Institute
X-ORIGINAL-URL:https://shelteringarmsinstitute.com
X-WR-CALDESC:Events for Sheltering Arms Institute
REFRESH-INTERVAL;VALUE=DURATION:PT1H
X-Robots-Tag:noindex
X-PUBLISHED-TTL:PT1H
BEGIN:VTIMEZONE
TZID:America/New_York
BEGIN:DAYLIGHT
TZOFFSETFROM:-0500
TZOFFSETTO:-0400
TZNAME:EDT
DTSTART:20250309T070000
END:DAYLIGHT
BEGIN:STANDARD
TZOFFSETFROM:-0400
TZOFFSETTO:-0500
TZNAME:EST
DTSTART:20251102T060000
END:STANDARD
BEGIN:DAYLIGHT
TZOFFSETFROM:-0500
TZOFFSETTO:-0400
TZNAME:EDT
DTSTART:20260308T070000
END:DAYLIGHT
BEGIN:STANDARD
TZOFFSETFROM:-0400
TZOFFSETTO:-0500
TZNAME:EST
DTSTART:20261101T060000
END:STANDARD
BEGIN:DAYLIGHT
TZOFFSETFROM:-0500
TZOFFSETTO:-0400
TZNAME:EDT
DTSTART:20270314T070000
END:DAYLIGHT
BEGIN:STANDARD
TZOFFSETFROM:-0400
TZOFFSETTO:-0500
TZNAME:EST
DTSTART:20271107T060000
END:STANDARD
END:VTIMEZONE
BEGIN:VEVENT
DTSTART;TZID=America/New_York:20260305T130000
DTEND;TZID=America/New_York:20260305T143000
DTSTAMP:20260421T223707
CREATED:20260213T192814Z
LAST-MODIFIED:20260213T192815Z
UID:10001347-1772715600-1772721000@shelteringarmsinstitute.com
SUMMARY:Diabetes Self-Management (Class Series)
DESCRIPTION:Do you live with diabetes\, or know someone who does?  \nSheltering Arms Institute\, in partnership with The SPAN Center\, are offering a 6-week evidence-based diabetes education class. Adults with diabetes\, friends\, family members\, and caregivers are welcome to participate. \n  \nWhen: Each Thursday from March 5 through April 9 from 1-2:30 p.m. \nWhere: In person at Sheltering Arms Institute’s Main Campus (2000 Wilkes Ridge Dr. Henrico\, VA 23233) or virtually via Microsoft Teams \nCost: Free! \n  \nLearning Objectives: \n\nNutrition and healthy eating\nPreventing complications\nWorking with your health care provider\nSkin & foot care\nPreventing/monitoring low blood sugar\n\n  \nQuestions? Email community.engagement@sai.rehab or call (804) 578-6532. \n  \n Register with the form below:
URL:https://shelteringarmsinstitute.com/event/diabetes-self-management-class-series-2-2/
LOCATION:Sheltering Arms Institute\, 2000 Wilkes Ridge Drive\, Richmond\, VA\, 23233\, United States
CATEGORIES:SAI Community Event
ATTACH;FMTTYPE=image/png:https://shelteringarmsinstitute.com/wp-content/uploads/2025/01/Diabetes-Self-Management-Header.png
END:VEVENT
END:VCALENDAR